{"text_format":"1","workbook":"xlsx","n_sheets":6,"sheets":["Questions","Chapters","Quality","Analysis","Graphs","Configurations"],"not_rendered":{"charts":10,"images":0,"macros":1,"external_links":1,"defined_names":12,"comments":1,"pivot_tables":0},"unopened":[],"bounds":{"document_bytes":16777216,"sheet_cells":100000,"rows_first":2000,"rows_last":500,"rows_between":2000,"halvings":0,"cell_chars":16384,"cell_head_chars":4096},"cells_cut":0,"cells_raw":0,"read":"whole","date_system":"1900"}

{"sheet":"Questions","index":0,"n_rows":2000,"n_cols":1,"rows_kept":2000,"cut":false,"hidden":false,"merged":[]}
[{"$f":"IF(C1<>\"na\",C1/Configurations!$F$7,C1)","v":0}]
[{"$f":"IF(C2<>\"na\",C2/Configurations!$F$7,C2)","v":0}]
[{"$f":"IF(C3<>\"na\",C3/Configurations!$F$7,C3)","v":0}]
[{"$f":"IF(C4<>\"na\",C4/Configurations!$F$7,C4)","v":0}]
[{"$f":"IF(C5<>\"na\",C5/Configurations!$F$7,C5)","v":0}]
[{"$f":"IF(C6<>\"na\",C6/Configurations!$F$7,C6)","v":0}]
[{"$f":"IF(C7<>\"na\",C7/Configurations!$F$7,C7)","v":0}]
[{"$f":"IF(C8<>\"na\",C8/Configurations!$F$7,C8)","v":0}]
[{"$f":"IF(C9<>\"na\",C9/Configurations!$F$7,C9)","v":0}]
[{"$f":"IF(C10<>\"na\",C10/Configurations!$F$7,C10)","v":0}]
[{"$f":"IF(C11<>\"na\",C11/Configurations!$F$7,C11)","v":0}]
[{"$f":"IF(C12<>\"na\",C12/Configurations!$F$7,C12)","v":0}]
[{"$f":"IF(C13<>\"na\",C13/Configurations!$F$7,C13)","v":0}]
[{"$f":"IF(C14<>\"na\",C14/Configurations!$F$7,C14)","v":0}]
[{"$f":"IF(C15<>\"na\",C15/Configurations!$F$7,C15)","v":0}]
[{"$f":"IF(C16<>\"na\",C16/Configurations!$F$7,C16)","v":0}]
[{"$f":"IF(C17<>\"na\",C17/Configurations!$F$7,C17)","v":0}]
[{"$f":"IF(C18<>\"na\",C18/Configurations!$F$7,C18)","v":0}]
[{"$f":"IF(C19<>\"na\",C19/Configurations!$F$7,C19)","v":0}]
[{"$f":"IF(C20<>\"na\",C20/Configurations!$F$7,C20)","v":0}]
[{"$f":"IF(C21<>\"na\",C21/Configurations!$F$7,C21)","v":0}]
[{"$f":"IF(C22<>\"na\",C22/Configurations!$F$7,C22)","v":0}]
[{"$f":"IF(C23<>\"na\",C23/Configurations!$F$7,C23)","v":0}]
[{"$f":"IF(C24<>\"na\",C24/Configurations!$F$7,C24)","v":0}]
[{"$f":"IF(C25<>\"na\",C25/Configurations!$F$7,C25)","v":0}]
[{"$f":"IF(C26<>\"na\",C26/Configurations!$F$7,C26)","v":0}]
[{"$f":"IF(C27<>\"na\",C27/Configurations!$F$7,C27)","v":0}]
[{"$f":"IF(C28<>\"na\",C28/Configurations!$F$7,C28)","v":0}]
[{"$f":"IF(C29<>\"na\",C29/Configurations!$F$7,C29)","v":0}]
[{"$f":"IF(C30<>\"na\",C30/Configurations!$F$7,C30)","v":0}]
[{"$f":"IF(C31<>\"na\",C31/Configurations!$F$7,C31)","v":0}]
[{"$f":"IF(C32<>\"na\",C32/Configurations!$F$7,C32)","v":0}]
[{"$f":"IF(C33<>\"na\",C33/Configurations!$F$7,C33)","v":0}]
[{"$f":"IF(C34<>\"na\",C34/Configurations!$F$7,C34)","v":0}]
[{"$f":"IF(C35<>\"na\",C35/Configurations!$F$7,C35)","v":0}]
[{"$f":"IF(C36<>\"na\",C36/Configurations!$F$7,C36)","v":0}]
[{"$f":"IF(C37<>\"na\",C37/Configurations!$F$7,C37)","v":0}]
[{"$f":"IF(C38<>\"na\",C38/Configurations!$F$7,C38)","v":0}]
[{"$f":"IF(C39<>\"na\",C39/Configurations!$F$7,C39)","v":0}]
[{"$f":"IF(C40<>\"na\",C40/Configurations!$F$7,C40)","v":0}]
[{"$f":"IF(C41<>\"na\",C41/Configurations!$F$7,C41)","v":0}]
[{"$f":"IF(C42<>\"na\",C42/Configurations!$F$7,C42)","v":0}]
[{"$f":"IF(C43<>\"na\",C43/Configurations!$F$7,C43)","v":0}]
[{"$f":"IF(C44<>\"na\",C44/Configurations!$F$7,C44)","v":0}]
[{"$f":"IF(C45<>\"na\",C45/Configurations!$F$7,C45)","v":0}]
[{"$f":"IF(C46<>\"na\",C46/Configurations!$F$7,C46)","v":0}]
[{"$f":"IF(C47<>\"na\",C47/Configurations!$F$7,C47)","v":0}]
[{"$f":"IF(C48<>\"na\",C48/Configurations!$F$7,C48)","v":0}]
[{"$f":"IF(C49<>\"na\",C49/Configurations!$F$7,C49)","v":0}]
[{"$f":"IF(C50<>\"na\",C50/Configurations!$F$7,C50)","v":0}]
[{"$f":"IF(C51<>\"na\",C51/Configurations!$F$7,C51)","v":0}]
[{"$f":"IF(C52<>\"na\",C52/Configurations!$F$7,C52)","v":0}]
[{"$f":"IF(C53<>\"na\",C53/Configurations!$F$7,C53)","v":0}]
[{"$f":"IF(C54<>\"na\",C54/Configurations!$F$7,C54)","v":0}]
[{"$f":"IF(C55<>\"na\",C55/Configurations!$F$7,C55)","v":0}]
[{"$f":"IF(C56<>\"na\",C56/Configurations!$F$7,C56)","v":0}]
[{"$f":"IF(C57<>\"na\",C57/Configurations!$F$7,C57)","v":0}]
[{"$f":"IF(C58<>\"na\",C58/Configurations!$F$7,C58)","v":0}]
[{"$f":"IF(C59<>\"na\",C59/Configurations!$F$7,C59)","v":0}]
[{"$f":"IF(C60<>\"na\",C60/Configurations!$F$7,C60)","v":0}]
[{"$f":"IF(C61<>\"na\",C61/Configurations!$F$7,C61)","v":0}]
[{"$f":"IF(C62<>\"na\",C62/Configurations!$F$7,C62)","v":0}]
[{"$f":"IF(C63<>\"na\",C63/Configurations!$F$7,C63)","v":0}]
[{"$f":"IF(C64<>\"na\",C64/Configurations!$F$7,C64)","v":0}]
[{"$f":"IF(C65<>\"na\",C65/Configurations!$F$7,C65)","v":0}]
[{"$f":"IF(C66<>\"na\",C66/Configurations!$F$7,C66)","v":0}]
[{"$f":"IF(C67<>\"na\",C67/Configurations!$F$7,C67)","v":0}]
[{"$f":"IF(C68<>\"na\",C68/Configurations!$F$7,C68)","v":0}]
[{"$f":"IF(C69<>\"na\",C69/Configurations!$F$7,C69)","v":0}]
[{"$f":"IF(C70<>\"na\",C70/Configurations!$F$7,C70)","v":0}]
[{"$f":"IF(C71<>\"na\",C71/Configurations!$F$7,C71)","v":0}]
[{"$f":"IF(C72<>\"na\",C72/Configurations!$F$7,C72)","v":0}]
[{"$f":"IF(C73<>\"na\",C73/Configurations!$F$7,C73)","v":0}]
[{"$f":"IF(C74<>\"na\",C74/Configurations!$F$7,C74)","v":0}]
[{"$f":"IF(C75<>\"na\",C75/Configurations!$F$7,C75)","v":0}]
[{"$f":"IF(C76<>\"na\",C76/Configurations!$F$7,C76)","v":0}]
[{"$f":"IF(C77<>\"na\",C77/Configurations!$F$7,C77)","v":0}]
[{"$f":"IF(C78<>\"na\",C78/Configurations!$F$7,C78)","v":0}]
[{"$f":"IF(C79<>\"na\",C79/Configurations!$F$7,C79)","v":0}]
[{"$f":"IF(C80<>\"na\",C80/Configurations!$F$7,C80)","v":0}]
[{"$f":"IF(C81<>\"na\",C81/Configurations!$F$7,C81)","v":0}]
[{"$f":"IF(C82<>\"na\",C82/Configurations!$F$7,C82)","v":0}]
[{"$f":"IF(C83<>\"na\",C83/Configurations!$F$7,C83)","v":0}]
[{"$f":"IF(C84<>\"na\",C84/Configurations!$F$7,C84)","v":0}]
[{"$f":"IF(C85<>\"na\",C85/Configurations!$F$7,C85)","v":0}]
[{"$f":"IF(C86<>\"na\",C86/Configurations!$F$7,C86)","v":0}]
[{"$f":"IF(C87<>\"na\",C87/Configurations!$F$7,C87)","v":0}]
[{"$f":"IF(C88<>\"na\",C88/Configurations!$F$7,C88)","v":0}]
[{"$f":"IF(C89<>\"na\",C89/Configurations!$F$7,C89)","v":0}]
[{"$f":"IF(C90<>\"na\",C90/Configurations!$F$7,C90)","v":0}]
[{"$f":"IF(C91<>\"na\",C91/Configurations!$F$7,C91)","v":0}]
[{"$f":"IF(C92<>\"na\",C92/Configurations!$F$7,C92)","v":0}]
[{"$f":"IF(C93<>\"na\",C93/Configurations!$F$7,C93)","v":0}]
[{"$f":"IF(C94<>\"na\",C94/Configurations!$F$7,C94)","v":0}]
[{"$f":"IF(C95<>\"na\",C95/Configurations!$F$7,C95)","v":0}]
[{"$f":"IF(C96<>\"na\",C96/Configurations!$F$7,C96)","v":0}]
[{"$f":"IF(C97<>\"na\",C97/Configurations!$F$7,C97)","v":0}]
[{"$f":"IF(C98<>\"na\",C98/Configurations!$F$7,C98)","v":0}]
[{"$f":"IF(C99<>\"na\",C99/Configurations!$F$7,C99)","v":0}]
[{"$f":"IF(C100<>\"na\",C100/Configurations!$F$7,C100)","v":0}]
[{"$f":"IF(C101<>\"na\",C101/Configurations!$F$7,C101)","v":0}]
[{"$f":"IF(C102<>\"na\",C102/Configurations!$F$7,C102)","v":0}]
[{"$f":"IF(C103<>\"na\",C103/Configurations!$F$7,C103)","v":0}]
[{"$f":"IF(C104<>\"na\",C104/Configurations!$F$7,C104)","v":0}]
[{"$f":"IF(C105<>\"na\",C105/Configurations!$F$7,C105)","v":0}]
[{"$f":"IF(C106<>\"na\",C106/Configurations!$F$7,C106)","v":0}]
[{"$f":"IF(C107<>\"na\",C107/Configurations!$F$7,C107)","v":0}]
[{"$f":"IF(C108<>\"na\",C108/Configurations!$F$7,C108)","v":0}]
[{"$f":"IF(C109<>\"na\",C109/Configurations!$F$7,C109)","v":0}]
[{"$f":"IF(C110<>\"na\",C110/Configurations!$F$7,C110)","v":0}]
[{"$f":"IF(C111<>\"na\",C111/Configurations!$F$7,C111)","v":0}]
[{"$f":"IF(C112<>\"na\",C112/Configurations!$F$7,C112)","v":0}]
[{"$f":"IF(C113<>\"na\",C113/Configurations!$F$7,C113)","v":0}]
[{"$f":"IF(C114<>\"na\",C114/Configurations!$F$7,C114)","v":0}]
[{"$f":"IF(C115<>\"na\",C115/Configurations!$F$7,C115)","v":0}]
[{"$f":"IF(C116<>\"na\",C116/Configurations!$F$7,C116)","v":0}]
[{"$f":"IF(C117<>\"na\",C117/Configurations!$F$7,C117)","v":0}]
[{"$f":"IF(C118<>\"na\",C118/Configurations!$F$7,C118)","v":0}]
[{"$f":"IF(C119<>\"na\",C119/Configurations!$F$7,C119)","v":0}]
[{"$f":"IF(C120<>\"na\",C120/Configurations!$F$7,C120)","v":0}]
[{"$f":"IF(C121<>\"na\",C121/Configurations!$F$7,C121)","v":0}]
[{"$f":"IF(C122<>\"na\",C122/Configurations!$F$7,C122)","v":0}]
[{"$f":"IF(C123<>\"na\",C123/Configurations!$F$7,C123)","v":0}]
[{"$f":"IF(C124<>\"na\",C124/Configurations!$F$7,C124)","v":0}]
[{"$f":"IF(C125<>\"na\",C125/Configurations!$F$7,C125)","v":0}]
[{"$f":"IF(C126<>\"na\",C126/Configurations!$F$7,C126)","v":0}]
[{"$f":"IF(C127<>\"na\",C127/Configurations!$F$7,C127)","v":0}]
[{"$f":"IF(C128<>\"na\",C128/Configurations!$F$7,C128)","v":0}]
[{"$f":"IF(C129<>\"na\",C129/Configurations!$F$7,C129)","v":0}]
[{"$f":"IF(C130<>\"na\",C130/Configurations!$F$7,C130)","v":0}]
[{"$f":"IF(C131<>\"na\",C131/Configurations!$F$7,C131)","v":0}]
[{"$f":"IF(C132<>\"na\",C132/Configurations!$F$7,C132)","v":0}]
[{"$f":"IF(C133<>\"na\",C133/Configurations!$F$7,C133)","v":0}]
[{"$f":"IF(C134<>\"na\",C134/Configurations!$F$7,C134)","v":0}]
[{"$f":"IF(C135<>\"na\",C135/Configurations!$F$7,C135)","v":0}]
[{"$f":"IF(C136<>\"na\",C136/Configurations!$F$7,C136)","v":0}]
[{"$f":"IF(C137<>\"na\",C137/Configurations!$F$7,C137)","v":0}]
[{"$f":"IF(C138<>\"na\",C138/Configurations!$F$7,C138)","v":0}]
[{"$f":"IF(C139<>\"na\",C139/Configurations!$F$7,C139)","v":0}]
[{"$f":"IF(C140<>\"na\",C140/Configurations!$F$7,C140)","v":0}]
[{"$f":"IF(C141<>\"na\",C141/Configurations!$F$7,C141)","v":0}]
[{"$f":"IF(C142<>\"na\",C142/Configurations!$F$7,C142)","v":0}]
[{"$f":"IF(C143<>\"na\",C143/Configurations!$F$7,C143)","v":0}]
[{"$f":"IF(C144<>\"na\",C144/Configurations!$F$7,C144)","v":0}]
[{"$f":"IF(C145<>\"na\",C145/Configurations!$F$7,C145)","v":0}]
[{"$f":"IF(C146<>\"na\",C146/Configurations!$F$7,C146)","v":0}]
[{"$f":"IF(C147<>\"na\",C147/Configurations!$F$7,C147)","v":0}]
[{"$f":"IF(C148<>\"na\",C148/Configurations!$F$7,C148)","v":0}]
[{"$f":"IF(C149<>\"na\",C149/Configurations!$F$7,C149)","v":0}]
[{"$f":"IF(C150<>\"na\",C150/Configurations!$F$7,C150)","v":0}]
[{"$f":"IF(C151<>\"na\",C151/Configurations!$F$7,C151)","v":0}]
[{"$f":"IF(C152<>\"na\",C152/Configurations!$F$7,C152)","v":0}]
[{"$f":"IF(C153<>\"na\",C153/Configurations!$F$7,C153)","v":0}]
[{"$f":"IF(C154<>\"na\",C154/Configurations!$F$7,C154)","v":0}]
[{"$f":"IF(C155<>\"na\",C155/Configurations!$F$7,C155)","v":0}]
[{"$f":"IF(C156<>\"na\",C156/Configurations!$F$7,C156)","v":0}]
[{"$f":"IF(C157<>\"na\",C157/Configurations!$F$7,C157)","v":0}]
[{"$f":"IF(C158<>\"na\",C158/Configurations!$F$7,C158)","v":0}]
[{"$f":"IF(C159<>\"na\",C159/Configurations!$F$7,C159)","v":0}]
[{"$f":"IF(C160<>\"na\",C160/Configurations!$F$7,C160)","v":0}]
[{"$f":"IF(C161<>\"na\",C161/Configurations!$F$7,C161)","v":0}]
[{"$f":"IF(C162<>\"na\",C162/Configurations!$F$7,C162)","v":0}]
[{"$f":"IF(C163<>\"na\",C163/Configurations!$F$7,C163)","v":0}]
[{"$f":"IF(C164<>\"na\",C164/Configurations!$F$7,C164)","v":0}]
[{"$f":"IF(C165<>\"na\",C165/Configurations!$F$7,C165)","v":0}]
[{"$f":"IF(C166<>\"na\",C166/Configurations!$F$7,C166)","v":0}]
[{"$f":"IF(C167<>\"na\",C167/Configurations!$F$7,C167)","v":0}]
[{"$f":"IF(C168<>\"na\",C168/Configurations!$F$7,C168)","v":0}]
[{"$f":"IF(C169<>\"na\",C169/Configurations!$F$7,C169)","v":0}]
[{"$f":"IF(C170<>\"na\",C170/Configurations!$F$7,C170)","v":0}]
[{"$f":"IF(C171<>\"na\",C171/Configurations!$F$7,C171)","v":0}]
[{"$f":"IF(C172<>\"na\",C172/Configurations!$F$7,C172)","v":0}]
[{"$f":"IF(C173<>\"na\",C173/Configurations!$F$7,C173)","v":0}]
[{"$f":"IF(C174<>\"na\",C174/Configurations!$F$7,C174)","v":0}]
[{"$f":"IF(C175<>\"na\",C175/Configurations!$F$7,C175)","v":0}]
[{"$f":"IF(C176<>\"na\",C176/Configurations!$F$7,C176)","v":0}]
[{"$f":"IF(C177<>\"na\",C177/Configurations!$F$7,C177)","v":0}]
[{"$f":"IF(C178<>\"na\",C178/Configurations!$F$7,C178)","v":0}]
[{"$f":"IF(C179<>\"na\",C179/Configurations!$F$7,C179)","v":0}]
[{"$f":"IF(C180<>\"na\",C180/Configurations!$F$7,C180)","v":0}]
[{"$f":"IF(C181<>\"na\",C181/Configurations!$F$7,C181)","v":0}]
[{"$f":"IF(C182<>\"na\",C182/Configurations!$F$7,C182)","v":0}]
[{"$f":"IF(C183<>\"na\",C183/Configurations!$F$7,C183)","v":0}]
[{"$f":"IF(C184<>\"na\",C184/Configurations!$F$7,C184)","v":0}]
[{"$f":"IF(C185<>\"na\",C185/Configurations!$F$7,C185)","v":0}]
[{"$f":"IF(C186<>\"na\",C186/Configurations!$F$7,C186)","v":0}]
[{"$f":"IF(C187<>\"na\",C187/Configurations!$F$7,C187)","v":0}]
[{"$f":"IF(C188<>\"na\",C188/Configurations!$F$7,C188)","v":0}]
[{"$f":"IF(C189<>\"na\",C189/Configurations!$F$7,C189)","v":0}]
[{"$f":"IF(C190<>\"na\",C190/Configurations!$F$7,C190)","v":0}]
[{"$f":"IF(C191<>\"na\",C191/Configurations!$F$7,C191)","v":0}]
[{"$f":"IF(C192<>\"na\",C192/Configurations!$F$7,C192)","v":0}]
[{"$f":"IF(C193<>\"na\",C193/Configurations!$F$7,C193)","v":0}]
[{"$f":"IF(C194<>\"na\",C194/Configurations!$F$7,C194)","v":0}]
[{"$f":"IF(C195<>\"na\",C195/Configurations!$F$7,C195)","v":0}]
[{"$f":"IF(C196<>\"na\",C196/Configurations!$F$7,C196)","v":0}]
[{"$f":"IF(C197<>\"na\",C197/Configurations!$F$7,C197)","v":0}]
[{"$f":"IF(C198<>\"na\",C198/Configurations!$F$7,C198)","v":0}]
[{"$f":"IF(C199<>\"na\",C199/Configurations!$F$7,C199)","v":0}]
[{"$f":"IF(C200<>\"na\",C200/Configurations!$F$7,C200)","v":0}]
[{"$f":"IF(C201<>\"na\",C201/Configurations!$F$7,C201)","v":0}]
[{"$f":"IF(C202<>\"na\",C202/Configurations!$F$7,C202)","v":0}]
[{"$f":"IF(C203<>\"na\",C203/Configurations!$F$7,C203)","v":0}]
[{"$f":"IF(C204<>\"na\",C204/Configurations!$F$7,C204)","v":0}]
[{"$f":"IF(C205<>\"na\",C205/Configurations!$F$7,C205)","v":0}]
[{"$f":"IF(C206<>\"na\",C206/Configurations!$F$7,C206)","v":0}]
[{"$f":"IF(C207<>\"na\",C207/Configurations!$F$7,C207)","v":0}]
[{"$f":"IF(C208<>\"na\",C208/Configurations!$F$7,C208)","v":0}]
[{"$f":"IF(C209<>\"na\",C209/Configurations!$F$7,C209)","v":0}]
[{"$f":"IF(C210<>\"na\",C210/Configurations!$F$7,C210)","v":0}]
[{"$f":"IF(C211<>\"na\",C211/Configurations!$F$7,C211)","v":0}]
[{"$f":"IF(C212<>\"na\",C212/Configurations!$F$7,C212)","v":0}]
[{"$f":"IF(C213<>\"na\",C213/Configurations!$F$7,C213)","v":0}]
[{"$f":"IF(C214<>\"na\",C214/Configurations!$F$7,C214)","v":0}]
[{"$f":"IF(C215<>\"na\",C215/Configurations!$F$7,C215)","v":0}]
[{"$f":"IF(C216<>\"na\",C216/Configurations!$F$7,C216)","v":0}]
[{"$f":"IF(C217<>\"na\",C217/Configurations!$F$7,C217)","v":0}]
[{"$f":"IF(C218<>\"na\",C218/Configurations!$F$7,C218)","v":0}]
[{"$f":"IF(C219<>\"na\",C219/Configurations!$F$7,C219)","v":0}]
[{"$f":"IF(C220<>\"na\",C220/Configurations!$F$7,C220)","v":0}]
[{"$f":"IF(C221<>\"na\",C221/Configurations!$F$7,C221)","v":0}]
[{"$f":"IF(C222<>\"na\",C222/Configurations!$F$7,C222)","v":0}]
[{"$f":"IF(C223<>\"na\",C223/Configurations!$F$7,C223)","v":0}]
[{"$f":"IF(C224<>\"na\",C224/Configurations!$F$7,C224)","v":0}]
[{"$f":"IF(C225<>\"na\",C225/Configurations!$F$7,C225)","v":0}]
[{"$f":"IF(C226<>\"na\",C226/Configurations!$F$7,C226)","v":0}]
[{"$f":"IF(C227<>\"na\",C227/Configurations!$F$7,C227)","v":0}]
[{"$f":"IF(C228<>\"na\",C228/Configurations!$F$7,C228)","v":0}]
[{"$f":"IF(C229<>\"na\",C229/Configurations!$F$7,C229)","v":0}]
[{"$f":"IF(C230<>\"na\",C230/Configurations!$F$7,C230)","v":0}]
[{"$f":"IF(C231<>\"na\",C231/Configurations!$F$7,C231)","v":0}]
[{"$f":"IF(C232<>\"na\",C232/Configurations!$F$7,C232)","v":0}]
[{"$f":"IF(C233<>\"na\",C233/Configurations!$F$7,C233)","v":0}]
[{"$f":"IF(C234<>\"na\",C234/Configurations!$F$7,C234)","v":0}]
[{"$f":"IF(C235<>\"na\",C235/Configurations!$F$7,C235)","v":0}]
[{"$f":"IF(C236<>\"na\",C236/Configurations!$F$7,C236)","v":0}]
[{"$f":"IF(C237<>\"na\",C237/Configurations!$F$7,C237)","v":0}]
[{"$f":"IF(C238<>\"na\",C238/Configurations!$F$7,C238)","v":0}]
[{"$f":"IF(C239<>\"na\",C239/Configurations!$F$7,C239)","v":0}]
[{"$f":"IF(C240<>\"na\",C240/Configurations!$F$7,C240)","v":0}]
[{"$f":"IF(C241<>\"na\",C241/Configurations!$F$7,C241)","v":0}]
[{"$f":"IF(C242<>\"na\",C242/Configurations!$F$7,C242)","v":0}]
[{"$f":"IF(C243<>\"na\",C243/Configurations!$F$7,C243)","v":0}]
[{"$f":"IF(C244<>\"na\",C244/Configurations!$F$7,C244)","v":0}]
[{"$f":"IF(C245<>\"na\",C245/Configurations!$F$7,C245)","v":0}]
[{"$f":"IF(C246<>\"na\",C246/Configurations!$F$7,C246)","v":0}]
[{"$f":"IF(C247<>\"na\",C247/Configurations!$F$7,C247)","v":0}]
[{"$f":"IF(C248<>\"na\",C248/Configurations!$F$7,C248)","v":0}]
[{"$f":"IF(C249<>\"na\",C249/Configurations!$F$7,C249)","v":0}]
[{"$f":"IF(C250<>\"na\",C250/Configurations!$F$7,C250)","v":0}]
[{"$f":"IF(C251<>\"na\",C251/Configurations!$F$7,C251)","v":0}]
[{"$f":"IF(C252<>\"na\",C252/Configurations!$F$7,C252)","v":0}]
[{"$f":"IF(C253<>\"na\",C253/Configurations!$F$7,C253)","v":0}]
[{"$f":"IF(C254<>\"na\",C254/Configurations!$F$7,C254)","v":0}]
[{"$f":"IF(C255<>\"na\",C255/Configurations!$F$7,C255)","v":0}]
[{"$f":"IF(C256<>\"na\",C256/Configurations!$F$7,C256)","v":0}]
[{"$f":"IF(C257<>\"na\",C257/Configurations!$F$7,C257)","v":0}]
[{"$f":"IF(C258<>\"na\",C258/Configurations!$F$7,C258)","v":0}]
[{"$f":"IF(C259<>\"na\",C259/Configurations!$F$7,C259)","v":0}]
[{"$f":"IF(C260<>\"na\",C260/Configurations!$F$7,C260)","v":0}]
[{"$f":"IF(C261<>\"na\",C261/Configurations!$F$7,C261)","v":0}]
[{"$f":"IF(C262<>\"na\",C262/Configurations!$F$7,C262)","v":0}]
[{"$f":"IF(C263<>\"na\",C263/Configurations!$F$7,C263)","v":0}]
[{"$f":"IF(C264<>\"na\",C264/Configurations!$F$7,C264)","v":0}]
[{"$f":"IF(C265<>\"na\",C265/Configurations!$F$7,C265)","v":0}]
[{"$f":"IF(C266<>\"na\",C266/Configurations!$F$7,C266)","v":0}]
[{"$f":"IF(C267<>\"na\",C267/Configurations!$F$7,C267)","v":0}]
[{"$f":"IF(C268<>\"na\",C268/Configurations!$F$7,C268)","v":0}]
[{"$f":"IF(C269<>\"na\",C269/Configurations!$F$7,C269)","v":0}]
[{"$f":"IF(C270<>\"na\",C270/Configurations!$F$7,C270)","v":0}]
[{"$f":"IF(C271<>\"na\",C271/Configurations!$F$7,C271)","v":0}]
[{"$f":"IF(C272<>\"na\",C272/Configurations!$F$7,C272)","v":0}]
[{"$f":"IF(C273<>\"na\",C273/Configurations!$F$7,C273)","v":0}]
[{"$f":"IF(C274<>\"na\",C274/Configurations!$F$7,C274)","v":0}]
[{"$f":"IF(C275<>\"na\",C275/Configurations!$F$7,C275)","v":0}]
[{"$f":"IF(C276<>\"na\",C276/Configurations!$F$7,C276)","v":0}]
[{"$f":"IF(C277<>\"na\",C277/Configurations!$F$7,C277)","v":0}]
[{"$f":"IF(C278<>\"na\",C278/Configurations!$F$7,C278)","v":0}]
[{"$f":"IF(C279<>\"na\",C279/Configurations!$F$7,C279)","v":0}]
[{"$f":"IF(C280<>\"na\",C280/Configurations!$F$7,C280)","v":0}]
[{"$f":"IF(C281<>\"na\",C281/Configurations!$F$7,C281)","v":0}]
[{"$f":"IF(C282<>\"na\",C282/Configurations!$F$7,C282)","v":0}]
[{"$f":"IF(C283<>\"na\",C283/Configurations!$F$7,C283)","v":0}]
[{"$f":"IF(C284<>\"na\",C284/Configurations!$F$7,C284)","v":0}]
[{"$f":"IF(C285<>\"na\",C285/Configurations!$F$7,C285)","v":0}]
[{"$f":"IF(C286<>\"na\",C286/Configurations!$F$7,C286)","v":0}]
[{"$f":"IF(C287<>\"na\",C287/Configurations!$F$7,C287)","v":0}]
[{"$f":"IF(C288<>\"na\",C288/Configurations!$F$7,C288)","v":0}]
[{"$f":"IF(C289<>\"na\",C289/Configurations!$F$7,C289)","v":0}]
[{"$f":"IF(C290<>\"na\",C290/Configurations!$F$7,C290)","v":0}]
[{"$f":"IF(C291<>\"na\",C291/Configurations!$F$7,C291)","v":0}]
[{"$f":"IF(C292<>\"na\",C292/Configurations!$F$7,C292)","v":0}]
[{"$f":"IF(C293<>\"na\",C293/Configurations!$F$7,C293)","v":0}]
[{"$f":"IF(C294<>\"na\",C294/Configurations!$F$7,C294)","v":0}]
[{"$f":"IF(C295<>\"na\",C295/Configurations!$F$7,C295)","v":0}]
[{"$f":"IF(C296<>\"na\",C296/Configurations!$F$7,C296)","v":0}]
[{"$f":"IF(C297<>\"na\",C297/Configurations!$F$7,C297)","v":0}]
[{"$f":"IF(C298<>\"na\",C298/Configurations!$F$7,C298)","v":0}]
[{"$f":"IF(C299<>\"na\",C299/Configurations!$F$7,C299)","v":0}]
[{"$f":"IF(C300<>\"na\",C300/Configurations!$F$7,C300)","v":0}]
[{"$f":"IF(C301<>\"na\",C301/Configurations!$F$7,C301)","v":0}]
[{"$f":"IF(C302<>\"na\",C302/Configurations!$F$7,C302)","v":0}]
[{"$f":"IF(C303<>\"na\",C303/Configurations!$F$7,C303)","v":0}]
[{"$f":"IF(C304<>\"na\",C304/Configurations!$F$7,C304)","v":0}]
[{"$f":"IF(C305<>\"na\",C305/Configurations!$F$7,C305)","v":0}]
[{"$f":"IF(C306<>\"na\",C306/Configurations!$F$7,C306)","v":0}]
[{"$f":"IF(C307<>\"na\",C307/Configurations!$F$7,C307)","v":0}]
[{"$f":"IF(C308<>\"na\",C308/Configurations!$F$7,C308)","v":0}]
[{"$f":"IF(C309<>\"na\",C309/Configurations!$F$7,C309)","v":0}]
[{"$f":"IF(C310<>\"na\",C310/Configurations!$F$7,C310)","v":0}]
[{"$f":"IF(C311<>\"na\",C311/Configurations!$F$7,C311)","v":0}]
[{"$f":"IF(C312<>\"na\",C312/Configurations!$F$7,C312)","v":0}]
[{"$f":"IF(C313<>\"na\",C313/Configurations!$F$7,C313)","v":0}]
[{"$f":"IF(C314<>\"na\",C314/Configurations!$F$7,C314)","v":0}]
[{"$f":"IF(C315<>\"na\",C315/Configurations!$F$7,C315)","v":0}]
[{"$f":"IF(C316<>\"na\",C316/Configurations!$F$7,C316)","v":0}]
[{"$f":"IF(C317<>\"na\",C317/Configurations!$F$7,C317)","v":0}]
[{"$f":"IF(C318<>\"na\",C318/Configurations!$F$7,C318)","v":0}]
[{"$f":"IF(C319<>\"na\",C319/Configurations!$F$7,C319)","v":0}]
[{"$f":"IF(C320<>\"na\",C320/Configurations!$F$7,C320)","v":0}]
[{"$f":"IF(C321<>\"na\",C321/Configurations!$F$7,C321)","v":0}]
[{"$f":"IF(C322<>\"na\",C322/Configurations!$F$7,C322)","v":0}]
[{"$f":"IF(C323<>\"na\",C323/Configurations!$F$7,C323)","v":0}]
[{"$f":"IF(C324<>\"na\",C324/Configurations!$F$7,C324)","v":0}]
[{"$f":"IF(C325<>\"na\",C325/Configurations!$F$7,C325)","v":0}]
[{"$f":"IF(C326<>\"na\",C326/Configurations!$F$7,C326)","v":0}]
[{"$f":"IF(C327<>\"na\",C327/Configurations!$F$7,C327)","v":0}]
[{"$f":"IF(C328<>\"na\",C328/Configurations!$F$7,C328)","v":0}]
[{"$f":"IF(C329<>\"na\",C329/Configurations!$F$7,C329)","v":0}]
[{"$f":"IF(C330<>\"na\",C330/Configurations!$F$7,C330)","v":0}]
[{"$f":"IF(C331<>\"na\",C331/Configurations!$F$7,C331)","v":0}]
[{"$f":"IF(C332<>\"na\",C332/Configurations!$F$7,C332)","v":0}]
[{"$f":"IF(C333<>\"na\",C333/Configurations!$F$7,C333)","v":0}]
[{"$f":"IF(C334<>\"na\",C334/Configurations!$F$7,C334)","v":0}]
[{"$f":"IF(C335<>\"na\",C335/Configurations!$F$7,C335)","v":0}]
[{"$f":"IF(C336<>\"na\",C336/Configurations!$F$7,C336)","v":0}]
[{"$f":"IF(C337<>\"na\",C337/Configurations!$F$7,C337)","v":0}]
[{"$f":"IF(C338<>\"na\",C338/Configurations!$F$7,C338)","v":0}]
[{"$f":"IF(C339<>\"na\",C339/Configurations!$F$7,C339)","v":0}]
[{"$f":"IF(C340<>\"na\",C340/Configurations!$F$7,C340)","v":0}]
[{"$f":"IF(C341<>\"na\",C341/Configurations!$F$7,C341)","v":0}]
[{"$f":"IF(C342<>\"na\",C342/Configurations!$F$7,C342)","v":0}]
[{"$f":"IF(C343<>\"na\",C343/Configurations!$F$7,C343)","v":0}]
[{"$f":"IF(C344<>\"na\",C344/Configurations!$F$7,C344)","v":0}]
[{"$f":"IF(C345<>\"na\",C345/Configurations!$F$7,C345)","v":0}]
[{"$f":"IF(C346<>\"na\",C346/Configurations!$F$7,C346)","v":0}]
[{"$f":"IF(C347<>\"na\",C347/Configurations!$F$7,C347)","v":0}]
[{"$f":"IF(C348<>\"na\",C348/Configurations!$F$7,C348)","v":0}]
[{"$f":"IF(C349<>\"na\",C349/Configurations!$F$7,C349)","v":0}]
[{"$f":"IF(C350<>\"na\",C350/Configurations!$F$7,C350)","v":0}]
[{"$f":"IF(C351<>\"na\",C351/Configurations!$F$7,C351)","v":0}]
[{"$f":"IF(C352<>\"na\",C352/Configurations!$F$7,C352)","v":0}]
[{"$f":"IF(C353<>\"na\",C353/Configurations!$F$7,C353)","v":0}]
[{"$f":"IF(C354<>\"na\",C354/Configurations!$F$7,C354)","v":0}]
[{"$f":"IF(C355<>\"na\",C355/Configurations!$F$7,C355)","v":0}]
[{"$f":"IF(C356<>\"na\",C356/Configurations!$F$7,C356)","v":0}]
[{"$f":"IF(C357<>\"na\",C357/Configurations!$F$7,C357)","v":0}]
[{"$f":"IF(C358<>\"na\",C358/Configurations!$F$7,C358)","v":0}]
[{"$f":"IF(C359<>\"na\",C359/Configurations!$F$7,C359)","v":0}]
[{"$f":"IF(C360<>\"na\",C360/Configurations!$F$7,C360)","v":0}]
[{"$f":"IF(C361<>\"na\",C361/Configurations!$F$7,C361)","v":0}]
[{"$f":"IF(C362<>\"na\",C362/Configurations!$F$7,C362)","v":0}]
[{"$f":"IF(C363<>\"na\",C363/Configurations!$F$7,C363)","v":0}]
[{"$f":"IF(C364<>\"na\",C364/Configurations!$F$7,C364)","v":0}]
[{"$f":"IF(C365<>\"na\",C365/Configurations!$F$7,C365)","v":0}]
[{"$f":"IF(C366<>\"na\",C366/Configurations!$F$7,C366)","v":0}]
[{"$f":"IF(C367<>\"na\",C367/Configurations!$F$7,C367)","v":0}]
[{"$f":"IF(C368<>\"na\",C368/Configurations!$F$7,C368)","v":0}]
[{"$f":"IF(C369<>\"na\",C369/Configurations!$F$7,C369)","v":0}]
[{"$f":"IF(C370<>\"na\",C370/Configurations!$F$7,C370)","v":0}]
[{"$f":"IF(C371<>\"na\",C371/Configurations!$F$7,C371)","v":0}]
[{"$f":"IF(C372<>\"na\",C372/Configurations!$F$7,C372)","v":0}]
[{"$f":"IF(C373<>\"na\",C373/Configurations!$F$7,C373)","v":0}]
[{"$f":"IF(C374<>\"na\",C374/Configurations!$F$7,C374)","v":0}]
[{"$f":"IF(C375<>\"na\",C375/Configurations!$F$7,C375)","v":0}]
[{"$f":"IF(C376<>\"na\",C376/Configurations!$F$7,C376)","v":0}]
[{"$f":"IF(C377<>\"na\",C377/Configurations!$F$7,C377)","v":0}]
[{"$f":"IF(C378<>\"na\",C378/Configurations!$F$7,C378)","v":0}]
[{"$f":"IF(C379<>\"na\",C379/Configurations!$F$7,C379)","v":0}]
[{"$f":"IF(C380<>\"na\",C380/Configurations!$F$7,C380)","v":0}]
[{"$f":"IF(C381<>\"na\",C381/Configurations!$F$7,C381)","v":0}]
[{"$f":"IF(C382<>\"na\",C382/Configurations!$F$7,C382)","v":0}]
[{"$f":"IF(C383<>\"na\",C383/Configurations!$F$7,C383)","v":0}]
[{"$f":"IF(C384<>\"na\",C384/Configurations!$F$7,C384)","v":0}]
[{"$f":"IF(C385<>\"na\",C385/Configurations!$F$7,C385)","v":0}]
[{"$f":"IF(C386<>\"na\",C386/Configurations!$F$7,C386)","v":0}]
[{"$f":"IF(C387<>\"na\",C387/Configurations!$F$7,C387)","v":0}]
[{"$f":"IF(C388<>\"na\",C388/Configurations!$F$7,C388)","v":0}]
[{"$f":"IF(C389<>\"na\",C389/Configurations!$F$7,C389)","v":0}]
[{"$f":"IF(C390<>\"na\",C390/Configurations!$F$7,C390)","v":0}]
[{"$f":"IF(C391<>\"na\",C391/Configurations!$F$7,C391)","v":0}]
[{"$f":"IF(C392<>\"na\",C392/Configurations!$F$7,C392)","v":0}]
[{"$f":"IF(C393<>\"na\",C393/Configurations!$F$7,C393)","v":0}]
[{"$f":"IF(C394<>\"na\",C394/Configurations!$F$7,C394)","v":0}]
[{"$f":"IF(C395<>\"na\",C395/Configurations!$F$7,C395)","v":0}]
[{"$f":"IF(C396<>\"na\",C396/Configurations!$F$7,C396)","v":0}]
[{"$f":"IF(C397<>\"na\",C397/Configurations!$F$7,C397)","v":0}]
[{"$f":"IF(C398<>\"na\",C398/Configurations!$F$7,C398)","v":0}]
[{"$f":"IF(C399<>\"na\",C399/Configurations!$F$7,C399)","v":0}]
[{"$f":"IF(C400<>\"na\",C400/Configurations!$F$7,C400)","v":0}]
[{"$f":"IF(C401<>\"na\",C401/Configurations!$F$7,C401)","v":0}]
[{"$f":"IF(C402<>\"na\",C402/Configurations!$F$7,C402)","v":0}]
[{"$f":"IF(C403<>\"na\",C403/Configurations!$F$7,C403)","v":0}]
[{"$f":"IF(C404<>\"na\",C404/Configurations!$F$7,C404)","v":0}]
[{"$f":"IF(C405<>\"na\",C405/Configurations!$F$7,C405)","v":0}]
[{"$f":"IF(C406<>\"na\",C406/Configurations!$F$7,C406)","v":0}]
[{"$f":"IF(C407<>\"na\",C407/Configurations!$F$7,C407)","v":0}]
[{"$f":"IF(C408<>\"na\",C408/Configurations!$F$7,C408)","v":0}]
[{"$f":"IF(C409<>\"na\",C409/Configurations!$F$7,C409)","v":0}]
[{"$f":"IF(C410<>\"na\",C410/Configurations!$F$7,C410)","v":0}]
[{"$f":"IF(C411<>\"na\",C411/Configurations!$F$7,C411)","v":0}]
[{"$f":"IF(C412<>\"na\",C412/Configurations!$F$7,C412)","v":0}]
[{"$f":"IF(C413<>\"na\",C413/Configurations!$F$7,C413)","v":0}]
[{"$f":"IF(C414<>\"na\",C414/Configurations!$F$7,C414)","v":0}]
[{"$f":"IF(C415<>\"na\",C415/Configurations!$F$7,C415)","v":0}]
[{"$f":"IF(C416<>\"na\",C416/Configurations!$F$7,C416)","v":0}]
[{"$f":"IF(C417<>\"na\",C417/Configurations!$F$7,C417)","v":0}]
[{"$f":"IF(C418<>\"na\",C418/Configurations!$F$7,C418)","v":0}]
[{"$f":"IF(C419<>\"na\",C419/Configurations!$F$7,C419)","v":0}]
[{"$f":"IF(C420<>\"na\",C420/Configurations!$F$7,C420)","v":0}]
[{"$f":"IF(C421<>\"na\",C421/Configurations!$F$7,C421)","v":0}]
[{"$f":"IF(C422<>\"na\",C422/Configurations!$F$7,C422)","v":0}]
[{"$f":"IF(C423<>\"na\",C423/Configurations!$F$7,C423)","v":0}]
[{"$f":"IF(C424<>\"na\",C424/Configurations!$F$7,C424)","v":0}]
[{"$f":"IF(C425<>\"na\",C425/Configurations!$F$7,C425)","v":0}]
[{"$f":"IF(C426<>\"na\",C426/Configurations!$F$7,C426)","v":0}]
[{"$f":"IF(C427<>\"na\",C427/Configurations!$F$7,C427)","v":0}]
[{"$f":"IF(C428<>\"na\",C428/Configurations!$F$7,C428)","v":0}]
[{"$f":"IF(C429<>\"na\",C429/Configurations!$F$7,C429)","v":0}]
[{"$f":"IF(C430<>\"na\",C430/Configurations!$F$7,C430)","v":0}]
[{"$f":"IF(C431<>\"na\",C431/Configurations!$F$7,C431)","v":0}]
[{"$f":"IF(C432<>\"na\",C432/Configurations!$F$7,C432)","v":0}]
[{"$f":"IF(C433<>\"na\",C433/Configurations!$F$7,C433)","v":0}]
[{"$f":"IF(C434<>\"na\",C434/Configurations!$F$7,C434)","v":0}]
[{"$f":"IF(C435<>\"na\",C435/Configurations!$F$7,C435)","v":0}]
[{"$f":"IF(C436<>\"na\",C436/Configurations!$F$7,C436)","v":0}]
[{"$f":"IF(C437<>\"na\",C437/Configurations!$F$7,C437)","v":0}]
[{"$f":"IF(C438<>\"na\",C438/Configurations!$F$7,C438)","v":0}]
[{"$f":"IF(C439<>\"na\",C439/Configurations!$F$7,C439)","v":0}]
[{"$f":"IF(C440<>\"na\",C440/Configurations!$F$7,C440)","v":0}]
[{"$f":"IF(C441<>\"na\",C441/Configurations!$F$7,C441)","v":0}]
[{"$f":"IF(C442<>\"na\",C442/Configurations!$F$7,C442)","v":0}]
[{"$f":"IF(C443<>\"na\",C443/Configurations!$F$7,C443)","v":0}]
[{"$f":"IF(C444<>\"na\",C444/Configurations!$F$7,C444)","v":0}]
[{"$f":"IF(C445<>\"na\",C445/Configurations!$F$7,C445)","v":0}]
[{"$f":"IF(C446<>\"na\",C446/Configurations!$F$7,C446)","v":0}]
[{"$f":"IF(C447<>\"na\",C447/Configurations!$F$7,C447)","v":0}]
[{"$f":"IF(C448<>\"na\",C448/Configurations!$F$7,C448)","v":0}]
[{"$f":"IF(C449<>\"na\",C449/Configurations!$F$7,C449)","v":0}]
[{"$f":"IF(C450<>\"na\",C450/Configurations!$F$7,C450)","v":0}]
[{"$f":"IF(C451<>\"na\",C451/Configurations!$F$7,C451)","v":0}]
[{"$f":"IF(C452<>\"na\",C452/Configurations!$F$7,C452)","v":0}]
[{"$f":"IF(C453<>\"na\",C453/Configurations!$F$7,C453)","v":0}]
[{"$f":"IF(C454<>\"na\",C454/Configurations!$F$7,C454)","v":0}]
[{"$f":"IF(C455<>\"na\",C455/Configurations!$F$7,C455)","v":0}]
[{"$f":"IF(C456<>\"na\",C456/Configurations!$F$7,C456)","v":0}]
[{"$f":"IF(C457<>\"na\",C457/Configurations!$F$7,C457)","v":0}]
[{"$f":"IF(C458<>\"na\",C458/Configurations!$F$7,C458)","v":0}]
[{"$f":"IF(C459<>\"na\",C459/Configurations!$F$7,C459)","v":0}]
[{"$f":"IF(C460<>\"na\",C460/Configurations!$F$7,C460)","v":0}]
[{"$f":"IF(C461<>\"na\",C461/Configurations!$F$7,C461)","v":0}]
[{"$f":"IF(C462<>\"na\",C462/Configurations!$F$7,C462)","v":0}]
[{"$f":"IF(C463<>\"na\",C463/Configurations!$F$7,C463)","v":0}]
[{"$f":"IF(C464<>\"na\",C464/Configurations!$F$7,C464)","v":0}]
[{"$f":"IF(C465<>\"na\",C465/Configurations!$F$7,C465)","v":0}]
[{"$f":"IF(C466<>\"na\",C466/Configurations!$F$7,C466)","v":0}]
[{"$f":"IF(C467<>\"na\",C467/Configurations!$F$7,C467)","v":0}]
[{"$f":"IF(C468<>\"na\",C468/Configurations!$F$7,C468)","v":0}]
[{"$f":"IF(C469<>\"na\",C469/Configurations!$F$7,C469)","v":0}]
[{"$f":"IF(C470<>\"na\",C470/Configurations!$F$7,C470)","v":0}]
[{"$f":"IF(C471<>\"na\",C471/Configurations!$F$7,C471)","v":0}]
[{"$f":"IF(C472<>\"na\",C472/Configurations!$F$7,C472)","v":0}]
[{"$f":"IF(C473<>\"na\",C473/Configurations!$F$7,C473)","v":0}]
[{"$f":"IF(C474<>\"na\",C474/Configurations!$F$7,C474)","v":0}]
[{"$f":"IF(C475<>\"na\",C475/Configurations!$F$7,C475)","v":0}]
[{"$f":"IF(C476<>\"na\",C476/Configurations!$F$7,C476)","v":0}]
[{"$f":"IF(C477<>\"na\",C477/Configurations!$F$7,C477)","v":0}]
[{"$f":"IF(C478<>\"na\",C478/Configurations!$F$7,C478)","v":0}]
[{"$f":"IF(C479<>\"na\",C479/Configurations!$F$7,C479)","v":0}]
[{"$f":"IF(C480<>\"na\",C480/Configurations!$F$7,C480)","v":0}]
[{"$f":"IF(C481<>\"na\",C481/Configurations!$F$7,C481)","v":0}]
[{"$f":"IF(C482<>\"na\",C482/Configurations!$F$7,C482)","v":0}]
[{"$f":"IF(C483<>\"na\",C483/Configurations!$F$7,C483)","v":0}]
[{"$f":"IF(C484<>\"na\",C484/Configurations!$F$7,C484)","v":0}]
[{"$f":"IF(C485<>\"na\",C485/Configurations!$F$7,C485)","v":0}]
[{"$f":"IF(C486<>\"na\",C486/Configurations!$F$7,C486)","v":0}]
[{"$f":"IF(C487<>\"na\",C487/Configurations!$F$7,C487)","v":0}]
[{"$f":"IF(C488<>\"na\",C488/Configurations!$F$7,C488)","v":0}]
[{"$f":"IF(C489<>\"na\",C489/Configurations!$F$7,C489)","v":0}]
[{"$f":"IF(C490<>\"na\",C490/Configurations!$F$7,C490)","v":0}]
[{"$f":"IF(C491<>\"na\",C491/Configurations!$F$7,C491)","v":0}]
[{"$f":"IF(C492<>\"na\",C492/Configurations!$F$7,C492)","v":0}]
[{"$f":"IF(C493<>\"na\",C493/Configurations!$F$7,C493)","v":0}]
[{"$f":"IF(C494<>\"na\",C494/Configurations!$F$7,C494)","v":0}]
[{"$f":"IF(C495<>\"na\",C495/Configurations!$F$7,C495)","v":0}]
[{"$f":"IF(C496<>\"na\",C496/Configurations!$F$7,C496)","v":0}]
[{"$f":"IF(C497<>\"na\",C497/Configurations!$F$7,C497)","v":0}]
[{"$f":"IF(C498<>\"na\",C498/Configurations!$F$7,C498)","v":0}]
[{"$f":"IF(C499<>\"na\",C499/Configurations!$F$7,C499)","v":0}]
[{"$f":"IF(C500<>\"na\",C500/Configurations!$F$7,C500)","v":0}]
[{"$f":"IF(C501<>\"na\",C501/Configurations!$F$7,C501)","v":0}]
[{"$f":"IF(C502<>\"na\",C502/Configurations!$F$7,C502)","v":0}]
[{"$f":"IF(C503<>\"na\",C503/Configurations!$F$7,C503)","v":0}]
[{"$f":"IF(C504<>\"na\",C504/Configurations!$F$7,C504)","v":0}]
[{"$f":"IF(C505<>\"na\",C505/Configurations!$F$7,C505)","v":0}]
[{"$f":"IF(C506<>\"na\",C506/Configurations!$F$7,C506)","v":0}]
[{"$f":"IF(C507<>\"na\",C507/Configurations!$F$7,C507)","v":0}]
[{"$f":"IF(C508<>\"na\",C508/Configurations!$F$7,C508)","v":0}]
[{"$f":"IF(C509<>\"na\",C509/Configurations!$F$7,C509)","v":0}]
[{"$f":"IF(C510<>\"na\",C510/Configurations!$F$7,C510)","v":0}]
[{"$f":"IF(C511<>\"na\",C511/Configurations!$F$7,C511)","v":0}]
[{"$f":"IF(C512<>\"na\",C512/Configurations!$F$7,C512)","v":0}]
[{"$f":"IF(C513<>\"na\",C513/Configurations!$F$7,C513)","v":0}]
[{"$f":"IF(C514<>\"na\",C514/Configurations!$F$7,C514)","v":0}]
[{"$f":"IF(C515<>\"na\",C515/Configurations!$F$7,C515)","v":0}]
[{"$f":"IF(C516<>\"na\",C516/Configurations!$F$7,C516)","v":0}]
[{"$f":"IF(C517<>\"na\",C517/Configurations!$F$7,C517)","v":0}]
[{"$f":"IF(C518<>\"na\",C518/Configurations!$F$7,C518)","v":0}]
[{"$f":"IF(C519<>\"na\",C519/Configurations!$F$7,C519)","v":0}]
[{"$f":"IF(C520<>\"na\",C520/Configurations!$F$7,C520)","v":0}]
[{"$f":"IF(C521<>\"na\",C521/Configurations!$F$7,C521)","v":0}]
[{"$f":"IF(C522<>\"na\",C522/Configurations!$F$7,C522)","v":0}]
[{"$f":"IF(C523<>\"na\",C523/Configurations!$F$7,C523)","v":0}]
[{"$f":"IF(C524<>\"na\",C524/Configurations!$F$7,C524)","v":0}]
[{"$f":"IF(C525<>\"na\",C525/Configurations!$F$7,C525)","v":0}]
[{"$f":"IF(C526<>\"na\",C526/Configurations!$F$7,C526)","v":0}]
[{"$f":"IF(C527<>\"na\",C527/Configurations!$F$7,C527)","v":0}]
[{"$f":"IF(C528<>\"na\",C528/Configurations!$F$7,C528)","v":0}]
[{"$f":"IF(C529<>\"na\",C529/Configurations!$F$7,C529)","v":0}]
[{"$f":"IF(C530<>\"na\",C530/Configurations!$F$7,C530)","v":0}]
[{"$f":"IF(C531<>\"na\",C531/Configurations!$F$7,C531)","v":0}]
[{"$f":"IF(C532<>\"na\",C532/Configurations!$F$7,C532)","v":0}]
[{"$f":"IF(C533<>\"na\",C533/Configurations!$F$7,C533)","v":0}]
[{"$f":"IF(C534<>\"na\",C534/Configurations!$F$7,C534)","v":0}]
[{"$f":"IF(C535<>\"na\",C535/Configurations!$F$7,C535)","v":0}]
[{"$f":"IF(C536<>\"na\",C536/Configurations!$F$7,C536)","v":0}]
[{"$f":"IF(C537<>\"na\",C537/Configurations!$F$7,C537)","v":0}]
[{"$f":"IF(C538<>\"na\",C538/Configurations!$F$7,C538)","v":0}]
[{"$f":"IF(C539<>\"na\",C539/Configurations!$F$7,C539)","v":0}]
[{"$f":"IF(C540<>\"na\",C540/Configurations!$F$7,C540)","v":0}]
[{"$f":"IF(C541<>\"na\",C541/Configurations!$F$7,C541)","v":0}]
[{"$f":"IF(C542<>\"na\",C542/Configurations!$F$7,C542)","v":0}]
[{"$f":"IF(C543<>\"na\",C543/Configurations!$F$7,C543)","v":0}]
[{"$f":"IF(C544<>\"na\",C544/Configurations!$F$7,C544)","v":0}]
[{"$f":"IF(C545<>\"na\",C545/Configurations!$F$7,C545)","v":0}]
[{"$f":"IF(C546<>\"na\",C546/Configurations!$F$7,C546)","v":0}]
[{"$f":"IF(C547<>\"na\",C547/Configurations!$F$7,C547)","v":0}]
[{"$f":"IF(C548<>\"na\",C548/Configurations!$F$7,C548)","v":0}]
[{"$f":"IF(C549<>\"na\",C549/Configurations!$F$7,C549)","v":0}]
[{"$f":"IF(C550<>\"na\",C550/Configurations!$F$7,C550)","v":0}]
[{"$f":"IF(C551<>\"na\",C551/Configurations!$F$7,C551)","v":0}]
[{"$f":"IF(C552<>\"na\",C552/Configurations!$F$7,C552)","v":0}]
[{"$f":"IF(C553<>\"na\",C553/Configurations!$F$7,C553)","v":0}]
[{"$f":"IF(C554<>\"na\",C554/Configurations!$F$7,C554)","v":0}]
[{"$f":"IF(C555<>\"na\",C555/Configurations!$F$7,C555)","v":0}]
[{"$f":"IF(C556<>\"na\",C556/Configurations!$F$7,C556)","v":0}]
[{"$f":"IF(C557<>\"na\",C557/Configurations!$F$7,C557)","v":0}]
[{"$f":"IF(C558<>\"na\",C558/Configurations!$F$7,C558)","v":0}]
[{"$f":"IF(C559<>\"na\",C559/Configurations!$F$7,C559)","v":0}]
[{"$f":"IF(C560<>\"na\",C560/Configurations!$F$7,C560)","v":0}]
[{"$f":"IF(C561<>\"na\",C561/Configurations!$F$7,C561)","v":0}]
[{"$f":"IF(C562<>\"na\",C562/Configurations!$F$7,C562)","v":0}]
[{"$f":"IF(C563<>\"na\",C563/Configurations!$F$7,C563)","v":0}]
[{"$f":"IF(C564<>\"na\",C564/Configurations!$F$7,C564)","v":0}]
[{"$f":"IF(C565<>\"na\",C565/Configurations!$F$7,C565)","v":0}]
[{"$f":"IF(C566<>\"na\",C566/Configurations!$F$7,C566)","v":0}]
[{"$f":"IF(C567<>\"na\",C567/Configurations!$F$7,C567)","v":0}]
[{"$f":"IF(C568<>\"na\",C568/Configurations!$F$7,C568)","v":0}]
[{"$f":"IF(C569<>\"na\",C569/Configurations!$F$7,C569)","v":0}]
[{"$f":"IF(C570<>\"na\",C570/Configurations!$F$7,C570)","v":0}]
[{"$f":"IF(C571<>\"na\",C571/Configurations!$F$7,C571)","v":0}]
[{"$f":"IF(C572<>\"na\",C572/Configurations!$F$7,C572)","v":0}]
[{"$f":"IF(C573<>\"na\",C573/Configurations!$F$7,C573)","v":0}]
[{"$f":"IF(C574<>\"na\",C574/Configurations!$F$7,C574)","v":0}]
[{"$f":"IF(C575<>\"na\",C575/Configurations!$F$7,C575)","v":0}]
[{"$f":"IF(C576<>\"na\",C576/Configurations!$F$7,C576)","v":0}]
[{"$f":"IF(C577<>\"na\",C577/Configurations!$F$7,C577)","v":0}]
[{"$f":"IF(C578<>\"na\",C578/Configurations!$F$7,C578)","v":0}]
[{"$f":"IF(C579<>\"na\",C579/Configurations!$F$7,C579)","v":0}]
[{"$f":"IF(C580<>\"na\",C580/Configurations!$F$7,C580)","v":0}]
[{"$f":"IF(C581<>\"na\",C581/Configurations!$F$7,C581)","v":0}]
[{"$f":"IF(C582<>\"na\",C582/Configurations!$F$7,C582)","v":0}]
[{"$f":"IF(C583<>\"na\",C583/Configurations!$F$7,C583)","v":0}]
[{"$f":"IF(C584<>\"na\",C584/Configurations!$F$7,C584)","v":0}]
[{"$f":"IF(C585<>\"na\",C585/Configurations!$F$7,C585)","v":0}]
[{"$f":"IF(C586<>\"na\",C586/Configurations!$F$7,C586)","v":0}]
[{"$f":"IF(C587<>\"na\",C587/Configurations!$F$7,C587)","v":0}]
[{"$f":"IF(C588<>\"na\",C588/Configurations!$F$7,C588)","v":0}]
[{"$f":"IF(C589<>\"na\",C589/Configurations!$F$7,C589)","v":0}]
[{"$f":"IF(C590<>\"na\",C590/Configurations!$F$7,C590)","v":0}]
[{"$f":"IF(C591<>\"na\",C591/Configurations!$F$7,C591)","v":0}]
[{"$f":"IF(C592<>\"na\",C592/Configurations!$F$7,C592)","v":0}]
[{"$f":"IF(C593<>\"na\",C593/Configurations!$F$7,C593)","v":0}]
[{"$f":"IF(C594<>\"na\",C594/Configurations!$F$7,C594)","v":0}]
[{"$f":"IF(C595<>\"na\",C595/Configurations!$F$7,C595)","v":0}]
[{"$f":"IF(C596<>\"na\",C596/Configurations!$F$7,C596)","v":0}]
[{"$f":"IF(C597<>\"na\",C597/Configurations!$F$7,C597)","v":0}]
[{"$f":"IF(C598<>\"na\",C598/Configurations!$F$7,C598)","v":0}]
[{"$f":"IF(C599<>\"na\",C599/Configurations!$F$7,C599)","v":0}]
[{"$f":"IF(C600<>\"na\",C600/Configurations!$F$7,C600)","v":0}]
[{"$f":"IF(C601<>\"na\",C601/Configurations!$F$7,C601)","v":0}]
[{"$f":"IF(C602<>\"na\",C602/Configurations!$F$7,C602)","v":0}]
[{"$f":"IF(C603<>\"na\",C603/Configurations!$F$7,C603)","v":0}]
[{"$f":"IF(C604<>\"na\",C604/Configurations!$F$7,C604)","v":0}]
[{"$f":"IF(C605<>\"na\",C605/Configurations!$F$7,C605)","v":0}]
[{"$f":"IF(C606<>\"na\",C606/Configurations!$F$7,C606)","v":0}]
[{"$f":"IF(C607<>\"na\",C607/Configurations!$F$7,C607)","v":0}]
[{"$f":"IF(C608<>\"na\",C608/Configurations!$F$7,C608)","v":0}]
[{"$f":"IF(C609<>\"na\",C609/Configurations!$F$7,C609)","v":0}]
[{"$f":"IF(C610<>\"na\",C610/Configurations!$F$7,C610)","v":0}]
[{"$f":"IF(C611<>\"na\",C611/Configurations!$F$7,C611)","v":0}]
[{"$f":"IF(C612<>\"na\",C612/Configurations!$F$7,C612)","v":0}]
[{"$f":"IF(C613<>\"na\",C613/Configurations!$F$7,C613)","v":0}]
[{"$f":"IF(C614<>\"na\",C614/Configurations!$F$7,C614)","v":0}]
[{"$f":"IF(C615<>\"na\",C615/Configurations!$F$7,C615)","v":0}]
[{"$f":"IF(C616<>\"na\",C616/Configurations!$F$7,C616)","v":0}]
[{"$f":"IF(C617<>\"na\",C617/Configurations!$F$7,C617)","v":0}]
[{"$f":"IF(C618<>\"na\",C618/Configurations!$F$7,C618)","v":0}]
[{"$f":"IF(C619<>\"na\",C619/Configurations!$F$7,C619)","v":0}]
[{"$f":"IF(C620<>\"na\",C620/Configurations!$F$7,C620)","v":0}]
[{"$f":"IF(C621<>\"na\",C621/Configurations!$F$7,C621)","v":0}]
[{"$f":"IF(C622<>\"na\",C622/Configurations!$F$7,C622)","v":0}]
[{"$f":"IF(C623<>\"na\",C623/Configurations!$F$7,C623)","v":0}]
[{"$f":"IF(C624<>\"na\",C624/Configurations!$F$7,C624)","v":0}]
[{"$f":"IF(C625<>\"na\",C625/Configurations!$F$7,C625)","v":0}]
[{"$f":"IF(C626<>\"na\",C626/Configurations!$F$7,C626)","v":0}]
[{"$f":"IF(C627<>\"na\",C627/Configurations!$F$7,C627)","v":0}]
[{"$f":"IF(C628<>\"na\",C628/Configurations!$F$7,C628)","v":0}]
[{"$f":"IF(C629<>\"na\",C629/Configurations!$F$7,C629)","v":0}]
[{"$f":"IF(C630<>\"na\",C630/Configurations!$F$7,C630)","v":0}]
[{"$f":"IF(C631<>\"na\",C631/Configurations!$F$7,C631)","v":0}]
[{"$f":"IF(C632<>\"na\",C632/Configurations!$F$7,C632)","v":0}]
[{"$f":"IF(C633<>\"na\",C633/Configurations!$F$7,C633)","v":0}]
[{"$f":"IF(C634<>\"na\",C634/Configurations!$F$7,C634)","v":0}]
[{"$f":"IF(C635<>\"na\",C635/Configurations!$F$7,C635)","v":0}]
[{"$f":"IF(C636<>\"na\",C636/Configurations!$F$7,C636)","v":0}]
[{"$f":"IF(C637<>\"na\",C637/Configurations!$F$7,C637)","v":0}]
[{"$f":"IF(C638<>\"na\",C638/Configurations!$F$7,C638)","v":0}]
[{"$f":"IF(C639<>\"na\",C639/Configurations!$F$7,C639)","v":0}]
[{"$f":"IF(C640<>\"na\",C640/Configurations!$F$7,C640)","v":0}]
[{"$f":"IF(C641<>\"na\",C641/Configurations!$F$7,C641)","v":0}]
[{"$f":"IF(C642<>\"na\",C642/Configurations!$F$7,C642)","v":0}]
[{"$f":"IF(C643<>\"na\",C643/Configurations!$F$7,C643)","v":0}]
[{"$f":"IF(C644<>\"na\",C644/Configurations!$F$7,C644)","v":0}]
[{"$f":"IF(C645<>\"na\",C645/Configurations!$F$7,C645)","v":0}]
[{"$f":"IF(C646<>\"na\",C646/Configurations!$F$7,C646)","v":0}]
[{"$f":"IF(C647<>\"na\",C647/Configurations!$F$7,C647)","v":0}]
[{"$f":"IF(C648<>\"na\",C648/Configurations!$F$7,C648)","v":0}]
[{"$f":"IF(C649<>\"na\",C649/Configurations!$F$7,C649)","v":0}]
[{"$f":"IF(C650<>\"na\",C650/Configurations!$F$7,C650)","v":0}]
[{"$f":"IF(C651<>\"na\",C651/Configurations!$F$7,C651)","v":0}]
[{"$f":"IF(C652<>\"na\",C652/Configurations!$F$7,C652)","v":0}]
[{"$f":"IF(C653<>\"na\",C653/Configurations!$F$7,C653)","v":0}]
[{"$f":"IF(C654<>\"na\",C654/Configurations!$F$7,C654)","v":0}]
[{"$f":"IF(C655<>\"na\",C655/Configurations!$F$7,C655)","v":0}]
[{"$f":"IF(C656<>\"na\",C656/Configurations!$F$7,C656)","v":0}]
[{"$f":"IF(C657<>\"na\",C657/Configurations!$F$7,C657)","v":0}]
[{"$f":"IF(C658<>\"na\",C658/Configurations!$F$7,C658)","v":0}]
[{"$f":"IF(C659<>\"na\",C659/Configurations!$F$7,C659)","v":0}]
[{"$f":"IF(C660<>\"na\",C660/Configurations!$F$7,C660)","v":0}]
[{"$f":"IF(C661<>\"na\",C661/Configurations!$F$7,C661)","v":0}]
[{"$f":"IF(C662<>\"na\",C662/Configurations!$F$7,C662)","v":0}]
[{"$f":"IF(C663<>\"na\",C663/Configurations!$F$7,C663)","v":0}]
[{"$f":"IF(C664<>\"na\",C664/Configurations!$F$7,C664)","v":0}]
[{"$f":"IF(C665<>\"na\",C665/Configurations!$F$7,C665)","v":0}]
[{"$f":"IF(C666<>\"na\",C666/Configurations!$F$7,C666)","v":0}]
[{"$f":"IF(C667<>\"na\",C667/Configurations!$F$7,C667)","v":0}]
[{"$f":"IF(C668<>\"na\",C668/Configurations!$F$7,C668)","v":0}]
[{"$f":"IF(C669<>\"na\",C669/Configurations!$F$7,C669)","v":0}]
[{"$f":"IF(C670<>\"na\",C670/Configurations!$F$7,C670)","v":0}]
[{"$f":"IF(C671<>\"na\",C671/Configurations!$F$7,C671)","v":0}]
[{"$f":"IF(C672<>\"na\",C672/Configurations!$F$7,C672)","v":0}]
[{"$f":"IF(C673<>\"na\",C673/Configurations!$F$7,C673)","v":0}]
[{"$f":"IF(C674<>\"na\",C674/Configurations!$F$7,C674)","v":0}]
[{"$f":"IF(C675<>\"na\",C675/Configurations!$F$7,C675)","v":0}]
[{"$f":"IF(C676<>\"na\",C676/Configurations!$F$7,C676)","v":0}]
[{"$f":"IF(C677<>\"na\",C677/Configurations!$F$7,C677)","v":0}]
[{"$f":"IF(C678<>\"na\",C678/Configurations!$F$7,C678)","v":0}]
[{"$f":"IF(C679<>\"na\",C679/Configurations!$F$7,C679)","v":0}]
[{"$f":"IF(C680<>\"na\",C680/Configurations!$F$7,C680)","v":0}]
[{"$f":"IF(C681<>\"na\",C681/Configurations!$F$7,C681)","v":0}]
[{"$f":"IF(C682<>\"na\",C682/Configurations!$F$7,C682)","v":0}]
[{"$f":"IF(C683<>\"na\",C683/Configurations!$F$7,C683)","v":0}]
[{"$f":"IF(C684<>\"na\",C684/Configurations!$F$7,C684)","v":0}]
[{"$f":"IF(C685<>\"na\",C685/Configurations!$F$7,C685)","v":0}]
[{"$f":"IF(C686<>\"na\",C686/Configurations!$F$7,C686)","v":0}]
[{"$f":"IF(C687<>\"na\",C687/Configurations!$F$7,C687)","v":0}]
[{"$f":"IF(C688<>\"na\",C688/Configurations!$F$7,C688)","v":0}]
[{"$f":"IF(C689<>\"na\",C689/Configurations!$F$7,C689)","v":0}]
[{"$f":"IF(C690<>\"na\",C690/Configurations!$F$7,C690)","v":0}]
[{"$f":"IF(C691<>\"na\",C691/Configurations!$F$7,C691)","v":0}]
[{"$f":"IF(C692<>\"na\",C692/Configurations!$F$7,C692)","v":0}]
[{"$f":"IF(C693<>\"na\",C693/Configurations!$F$7,C693)","v":0}]
[{"$f":"IF(C694<>\"na\",C694/Configurations!$F$7,C694)","v":0}]
[{"$f":"IF(C695<>\"na\",C695/Configurations!$F$7,C695)","v":0}]
[{"$f":"IF(C696<>\"na\",C696/Configurations!$F$7,C696)","v":0}]
[{"$f":"IF(C697<>\"na\",C697/Configurations!$F$7,C697)","v":0}]
[{"$f":"IF(C698<>\"na\",C698/Configurations!$F$7,C698)","v":0}]
[{"$f":"IF(C699<>\"na\",C699/Configurations!$F$7,C699)","v":0}]
[{"$f":"IF(C700<>\"na\",C700/Configurations!$F$7,C700)","v":0}]
[{"$f":"IF(C701<>\"na\",C701/Configurations!$F$7,C701)","v":0}]
[{"$f":"IF(C702<>\"na\",C702/Configurations!$F$7,C702)","v":0}]
[{"$f":"IF(C703<>\"na\",C703/Configurations!$F$7,C703)","v":0}]
[{"$f":"IF(C704<>\"na\",C704/Configurations!$F$7,C704)","v":0}]
[{"$f":"IF(C705<>\"na\",C705/Configurations!$F$7,C705)","v":0}]
[{"$f":"IF(C706<>\"na\",C706/Configurations!$F$7,C706)","v":0}]
[{"$f":"IF(C707<>\"na\",C707/Configurations!$F$7,C707)","v":0}]
[{"$f":"IF(C708<>\"na\",C708/Configurations!$F$7,C708)","v":0}]
[{"$f":"IF(C709<>\"na\",C709/Configurations!$F$7,C709)","v":0}]
[{"$f":"IF(C710<>\"na\",C710/Configurations!$F$7,C710)","v":0}]
[{"$f":"IF(C711<>\"na\",C711/Configurations!$F$7,C711)","v":0}]
[{"$f":"IF(C712<>\"na\",C712/Configurations!$F$7,C712)","v":0}]
[{"$f":"IF(C713<>\"na\",C713/Configurations!$F$7,C713)","v":0}]
[{"$f":"IF(C714<>\"na\",C714/Configurations!$F$7,C714)","v":0}]
[{"$f":"IF(C715<>\"na\",C715/Configurations!$F$7,C715)","v":0}]
[{"$f":"IF(C716<>\"na\",C716/Configurations!$F$7,C716)","v":0}]
[{"$f":"IF(C717<>\"na\",C717/Configurations!$F$7,C717)","v":0}]
[{"$f":"IF(C718<>\"na\",C718/Configurations!$F$7,C718)","v":0}]
[{"$f":"IF(C719<>\"na\",C719/Configurations!$F$7,C719)","v":0}]
[{"$f":"IF(C720<>\"na\",C720/Configurations!$F$7,C720)","v":0}]
[{"$f":"IF(C721<>\"na\",C721/Configurations!$F$7,C721)","v":0}]
[{"$f":"IF(C722<>\"na\",C722/Configurations!$F$7,C722)","v":0}]
[{"$f":"IF(C723<>\"na\",C723/Configurations!$F$7,C723)","v":0}]
[{"$f":"IF(C724<>\"na\",C724/Configurations!$F$7,C724)","v":0}]
[{"$f":"IF(C725<>\"na\",C725/Configurations!$F$7,C725)","v":0}]
[{"$f":"IF(C726<>\"na\",C726/Configurations!$F$7,C726)","v":0}]
[{"$f":"IF(C727<>\"na\",C727/Configurations!$F$7,C727)","v":0}]
[{"$f":"IF(C728<>\"na\",C728/Configurations!$F$7,C728)","v":0}]
[{"$f":"IF(C729<>\"na\",C729/Configurations!$F$7,C729)","v":0}]
[{"$f":"IF(C730<>\"na\",C730/Configurations!$F$7,C730)","v":0}]
[{"$f":"IF(C731<>\"na\",C731/Configurations!$F$7,C731)","v":0}]
[{"$f":"IF(C732<>\"na\",C732/Configurations!$F$7,C732)","v":0}]
[{"$f":"IF(C733<>\"na\",C733/Configurations!$F$7,C733)","v":0}]
[{"$f":"IF(C734<>\"na\",C734/Configurations!$F$7,C734)","v":0}]
[{"$f":"IF(C735<>\"na\",C735/Configurations!$F$7,C735)","v":0}]
[{"$f":"IF(C736<>\"na\",C736/Configurations!$F$7,C736)","v":0}]
[{"$f":"IF(C737<>\"na\",C737/Configurations!$F$7,C737)","v":0}]
[{"$f":"IF(C738<>\"na\",C738/Configurations!$F$7,C738)","v":0}]
[{"$f":"IF(C739<>\"na\",C739/Configurations!$F$7,C739)","v":0}]
[{"$f":"IF(C740<>\"na\",C740/Configurations!$F$7,C740)","v":0}]
[{"$f":"IF(C741<>\"na\",C741/Configurations!$F$7,C741)","v":0}]
[{"$f":"IF(C742<>\"na\",C742/Configurations!$F$7,C742)","v":0}]
[{"$f":"IF(C743<>\"na\",C743/Configurations!$F$7,C743)","v":0}]
[{"$f":"IF(C744<>\"na\",C744/Configurations!$F$7,C744)","v":0}]
[{"$f":"IF(C745<>\"na\",C745/Configurations!$F$7,C745)","v":0}]
[{"$f":"IF(C746<>\"na\",C746/Configurations!$F$7,C746)","v":0}]
[{"$f":"IF(C747<>\"na\",C747/Configurations!$F$7,C747)","v":0}]
[{"$f":"IF(C748<>\"na\",C748/Configurations!$F$7,C748)","v":0}]
[{"$f":"IF(C749<>\"na\",C749/Configurations!$F$7,C749)","v":0}]
[{"$f":"IF(C750<>\"na\",C750/Configurations!$F$7,C750)","v":0}]
[{"$f":"IF(C751<>\"na\",C751/Configurations!$F$7,C751)","v":0}]
[{"$f":"IF(C752<>\"na\",C752/Configurations!$F$7,C752)","v":0}]
[{"$f":"IF(C753<>\"na\",C753/Configurations!$F$7,C753)","v":0}]
[{"$f":"IF(C754<>\"na\",C754/Configurations!$F$7,C754)","v":0}]
[{"$f":"IF(C755<>\"na\",C755/Configurations!$F$7,C755)","v":0}]
[{"$f":"IF(C756<>\"na\",C756/Configurations!$F$7,C756)","v":0}]
[{"$f":"IF(C757<>\"na\",C757/Configurations!$F$7,C757)","v":0}]
[{"$f":"IF(C758<>\"na\",C758/Configurations!$F$7,C758)","v":0}]
[{"$f":"IF(C759<>\"na\",C759/Configurations!$F$7,C759)","v":0}]
[{"$f":"IF(C760<>\"na\",C760/Configurations!$F$7,C760)","v":0}]
[{"$f":"IF(C761<>\"na\",C761/Configurations!$F$7,C761)","v":0}]
[{"$f":"IF(C762<>\"na\",C762/Configurations!$F$7,C762)","v":0}]
[{"$f":"IF(C763<>\"na\",C763/Configurations!$F$7,C763)","v":0}]
[{"$f":"IF(C764<>\"na\",C764/Configurations!$F$7,C764)","v":0}]
[{"$f":"IF(C765<>\"na\",C765/Configurations!$F$7,C765)","v":0}]
[{"$f":"IF(C766<>\"na\",C766/Configurations!$F$7,C766)","v":0}]
[{"$f":"IF(C767<>\"na\",C767/Configurations!$F$7,C767)","v":0}]
[{"$f":"IF(C768<>\"na\",C768/Configurations!$F$7,C768)","v":0}]
[{"$f":"IF(C769<>\"na\",C769/Configurations!$F$7,C769)","v":0}]
[{"$f":"IF(C770<>\"na\",C770/Configurations!$F$7,C770)","v":0}]
[{"$f":"IF(C771<>\"na\",C771/Configurations!$F$7,C771)","v":0}]
[{"$f":"IF(C772<>\"na\",C772/Configurations!$F$7,C772)","v":0}]
[{"$f":"IF(C773<>\"na\",C773/Configurations!$F$7,C773)","v":0}]
[{"$f":"IF(C774<>\"na\",C774/Configurations!$F$7,C774)","v":0}]
[{"$f":"IF(C775<>\"na\",C775/Configurations!$F$7,C775)","v":0}]
[{"$f":"IF(C776<>\"na\",C776/Configurations!$F$7,C776)","v":0}]
[{"$f":"IF(C777<>\"na\",C777/Configurations!$F$7,C777)","v":0}]
[{"$f":"IF(C778<>\"na\",C778/Configurations!$F$7,C778)","v":0}]
[{"$f":"IF(C779<>\"na\",C779/Configurations!$F$7,C779)","v":0}]
[{"$f":"IF(C780<>\"na\",C780/Configurations!$F$7,C780)","v":0}]
[{"$f":"IF(C781<>\"na\",C781/Configurations!$F$7,C781)","v":0}]
[{"$f":"IF(C782<>\"na\",C782/Configurations!$F$7,C782)","v":0}]
[{"$f":"IF(C783<>\"na\",C783/Configurations!$F$7,C783)","v":0}]
[{"$f":"IF(C784<>\"na\",C784/Configurations!$F$7,C784)","v":0}]
[{"$f":"IF(C785<>\"na\",C785/Configurations!$F$7,C785)","v":0}]
[{"$f":"IF(C786<>\"na\",C786/Configurations!$F$7,C786)","v":0}]
[{"$f":"IF(C787<>\"na\",C787/Configurations!$F$7,C787)","v":0}]
[{"$f":"IF(C788<>\"na\",C788/Configurations!$F$7,C788)","v":0}]
[{"$f":"IF(C789<>\"na\",C789/Configurations!$F$7,C789)","v":0}]
[{"$f":"IF(C790<>\"na\",C790/Configurations!$F$7,C790)","v":0}]
[{"$f":"IF(C791<>\"na\",C791/Configurations!$F$7,C791)","v":0}]
[{"$f":"IF(C792<>\"na\",C792/Configurations!$F$7,C792)","v":0}]
[{"$f":"IF(C793<>\"na\",C793/Configurations!$F$7,C793)","v":0}]
[{"$f":"IF(C794<>\"na\",C794/Configurations!$F$7,C794)","v":0}]
[{"$f":"IF(C795<>\"na\",C795/Configurations!$F$7,C795)","v":0}]
[{"$f":"IF(C796<>\"na\",C796/Configurations!$F$7,C796)","v":0}]
[{"$f":"IF(C797<>\"na\",C797/Configurations!$F$7,C797)","v":0}]
[{"$f":"IF(C798<>\"na\",C798/Configurations!$F$7,C798)","v":0}]
[{"$f":"IF(C799<>\"na\",C799/Configurations!$F$7,C799)","v":0}]
[{"$f":"IF(C800<>\"na\",C800/Configurations!$F$7,C800)","v":0}]
[{"$f":"IF(C801<>\"na\",C801/Configurations!$F$7,C801)","v":0}]
[{"$f":"IF(C802<>\"na\",C802/Configurations!$F$7,C802)","v":0}]
[{"$f":"IF(C803<>\"na\",C803/Configurations!$F$7,C803)","v":0}]
[{"$f":"IF(C804<>\"na\",C804/Configurations!$F$7,C804)","v":0}]
[{"$f":"IF(C805<>\"na\",C805/Configurations!$F$7,C805)","v":0}]
[{"$f":"IF(C806<>\"na\",C806/Configurations!$F$7,C806)","v":0}]
[{"$f":"IF(C807<>\"na\",C807/Configurations!$F$7,C807)","v":0}]
[{"$f":"IF(C808<>\"na\",C808/Configurations!$F$7,C808)","v":0}]
[{"$f":"IF(C809<>\"na\",C809/Configurations!$F$7,C809)","v":0}]
[{"$f":"IF(C810<>\"na\",C810/Configurations!$F$7,C810)","v":0}]
[{"$f":"IF(C811<>\"na\",C811/Configurations!$F$7,C811)","v":0}]
[{"$f":"IF(C812<>\"na\",C812/Configurations!$F$7,C812)","v":0}]
[{"$f":"IF(C813<>\"na\",C813/Configurations!$F$7,C813)","v":0}]
[{"$f":"IF(C814<>\"na\",C814/Configurations!$F$7,C814)","v":0}]
[{"$f":"IF(C815<>\"na\",C815/Configurations!$F$7,C815)","v":0}]
[{"$f":"IF(C816<>\"na\",C816/Configurations!$F$7,C816)","v":0}]
[{"$f":"IF(C817<>\"na\",C817/Configurations!$F$7,C817)","v":0}]
[{"$f":"IF(C818<>\"na\",C818/Configurations!$F$7,C818)","v":0}]
[{"$f":"IF(C819<>\"na\",C819/Configurations!$F$7,C819)","v":0}]
[{"$f":"IF(C820<>\"na\",C820/Configurations!$F$7,C820)","v":0}]
[{"$f":"IF(C821<>\"na\",C821/Configurations!$F$7,C821)","v":0}]
[{"$f":"IF(C822<>\"na\",C822/Configurations!$F$7,C822)","v":0}]
[{"$f":"IF(C823<>\"na\",C823/Configurations!$F$7,C823)","v":0}]
[{"$f":"IF(C824<>\"na\",C824/Configurations!$F$7,C824)","v":0}]
[{"$f":"IF(C825<>\"na\",C825/Configurations!$F$7,C825)","v":0}]
[{"$f":"IF(C826<>\"na\",C826/Configurations!$F$7,C826)","v":0}]
[{"$f":"IF(C827<>\"na\",C827/Configurations!$F$7,C827)","v":0}]
[{"$f":"IF(C828<>\"na\",C828/Configurations!$F$7,C828)","v":0}]
[{"$f":"IF(C829<>\"na\",C829/Configurations!$F$7,C829)","v":0}]
[{"$f":"IF(C830<>\"na\",C830/Configurations!$F$7,C830)","v":0}]
[{"$f":"IF(C831<>\"na\",C831/Configurations!$F$7,C831)","v":0}]
[{"$f":"IF(C832<>\"na\",C832/Configurations!$F$7,C832)","v":0}]
[{"$f":"IF(C833<>\"na\",C833/Configurations!$F$7,C833)","v":0}]
[{"$f":"IF(C834<>\"na\",C834/Configurations!$F$7,C834)","v":0}]
[{"$f":"IF(C835<>\"na\",C835/Configurations!$F$7,C835)","v":0}]
[{"$f":"IF(C836<>\"na\",C836/Configurations!$F$7,C836)","v":0}]
[{"$f":"IF(C837<>\"na\",C837/Configurations!$F$7,C837)","v":0}]
[{"$f":"IF(C838<>\"na\",C838/Configurations!$F$7,C838)","v":0}]
[{"$f":"IF(C839<>\"na\",C839/Configurations!$F$7,C839)","v":0}]
[{"$f":"IF(C840<>\"na\",C840/Configurations!$F$7,C840)","v":0}]
[{"$f":"IF(C841<>\"na\",C841/Configurations!$F$7,C841)","v":0}]
[{"$f":"IF(C842<>\"na\",C842/Configurations!$F$7,C842)","v":0}]
[{"$f":"IF(C843<>\"na\",C843/Configurations!$F$7,C843)","v":0}]
[{"$f":"IF(C844<>\"na\",C844/Configurations!$F$7,C844)","v":0}]
[{"$f":"IF(C845<>\"na\",C845/Configurations!$F$7,C845)","v":0}]
[{"$f":"IF(C846<>\"na\",C846/Configurations!$F$7,C846)","v":0}]
[{"$f":"IF(C847<>\"na\",C847/Configurations!$F$7,C847)","v":0}]
[{"$f":"IF(C848<>\"na\",C848/Configurations!$F$7,C848)","v":0}]
[{"$f":"IF(C849<>\"na\",C849/Configurations!$F$7,C849)","v":0}]
[{"$f":"IF(C850<>\"na\",C850/Configurations!$F$7,C850)","v":0}]
[{"$f":"IF(C851<>\"na\",C851/Configurations!$F$7,C851)","v":0}]
[{"$f":"IF(C852<>\"na\",C852/Configurations!$F$7,C852)","v":0}]
[{"$f":"IF(C853<>\"na\",C853/Configurations!$F$7,C853)","v":0}]
[{"$f":"IF(C854<>\"na\",C854/Configurations!$F$7,C854)","v":0}]
[{"$f":"IF(C855<>\"na\",C855/Configurations!$F$7,C855)","v":0}]
[{"$f":"IF(C856<>\"na\",C856/Configurations!$F$7,C856)","v":0}]
[{"$f":"IF(C857<>\"na\",C857/Configurations!$F$7,C857)","v":0}]
[{"$f":"IF(C858<>\"na\",C858/Configurations!$F$7,C858)","v":0}]
[{"$f":"IF(C859<>\"na\",C859/Configurations!$F$7,C859)","v":0}]
[{"$f":"IF(C860<>\"na\",C860/Configurations!$F$7,C860)","v":0}]
[{"$f":"IF(C861<>\"na\",C861/Configurations!$F$7,C861)","v":0}]
[{"$f":"IF(C862<>\"na\",C862/Configurations!$F$7,C862)","v":0}]
[{"$f":"IF(C863<>\"na\",C863/Configurations!$F$7,C863)","v":0}]
[{"$f":"IF(C864<>\"na\",C864/Configurations!$F$7,C864)","v":0}]
[{"$f":"IF(C865<>\"na\",C865/Configurations!$F$7,C865)","v":0}]
[{"$f":"IF(C866<>\"na\",C866/Configurations!$F$7,C866)","v":0}]
[{"$f":"IF(C867<>\"na\",C867/Configurations!$F$7,C867)","v":0}]
[{"$f":"IF(C868<>\"na\",C868/Configurations!$F$7,C868)","v":0}]
[{"$f":"IF(C869<>\"na\",C869/Configurations!$F$7,C869)","v":0}]
[{"$f":"IF(C870<>\"na\",C870/Configurations!$F$7,C870)","v":0}]
[{"$f":"IF(C871<>\"na\",C871/Configurations!$F$7,C871)","v":0}]
[{"$f":"IF(C872<>\"na\",C872/Configurations!$F$7,C872)","v":0}]
[{"$f":"IF(C873<>\"na\",C873/Configurations!$F$7,C873)","v":0}]
[{"$f":"IF(C874<>\"na\",C874/Configurations!$F$7,C874)","v":0}]
[{"$f":"IF(C875<>\"na\",C875/Configurations!$F$7,C875)","v":0}]
[{"$f":"IF(C876<>\"na\",C876/Configurations!$F$7,C876)","v":0}]
[{"$f":"IF(C877<>\"na\",C877/Configurations!$F$7,C877)","v":0}]
[{"$f":"IF(C878<>\"na\",C878/Configurations!$F$7,C878)","v":0}]
[{"$f":"IF(C879<>\"na\",C879/Configurations!$F$7,C879)","v":0}]
[{"$f":"IF(C880<>\"na\",C880/Configurations!$F$7,C880)","v":0}]
[{"$f":"IF(C881<>\"na\",C881/Configurations!$F$7,C881)","v":0}]
[{"$f":"IF(C882<>\"na\",C882/Configurations!$F$7,C882)","v":0}]
[{"$f":"IF(C883<>\"na\",C883/Configurations!$F$7,C883)","v":0}]
[{"$f":"IF(C884<>\"na\",C884/Configurations!$F$7,C884)","v":0}]
[{"$f":"IF(C885<>\"na\",C885/Configurations!$F$7,C885)","v":0}]
[{"$f":"IF(C886<>\"na\",C886/Configurations!$F$7,C886)","v":0}]
[{"$f":"IF(C887<>\"na\",C887/Configurations!$F$7,C887)","v":0}]
[{"$f":"IF(C888<>\"na\",C888/Configurations!$F$7,C888)","v":0}]
[{"$f":"IF(C889<>\"na\",C889/Configurations!$F$7,C889)","v":0}]
[{"$f":"IF(C890<>\"na\",C890/Configurations!$F$7,C890)","v":0}]
[{"$f":"IF(C891<>\"na\",C891/Configurations!$F$7,C891)","v":0}]
[{"$f":"IF(C892<>\"na\",C892/Configurations!$F$7,C892)","v":0}]
[{"$f":"IF(C893<>\"na\",C893/Configurations!$F$7,C893)","v":0}]
[{"$f":"IF(C894<>\"na\",C894/Configurations!$F$7,C894)","v":0}]
[{"$f":"IF(C895<>\"na\",C895/Configurations!$F$7,C895)","v":0}]
[{"$f":"IF(C896<>\"na\",C896/Configurations!$F$7,C896)","v":0}]
[{"$f":"IF(C897<>\"na\",C897/Configurations!$F$7,C897)","v":0}]
[{"$f":"IF(C898<>\"na\",C898/Configurations!$F$7,C898)","v":0}]
[{"$f":"IF(C899<>\"na\",C899/Configurations!$F$7,C899)","v":0}]
[{"$f":"IF(C900<>\"na\",C900/Configurations!$F$7,C900)","v":0}]
[{"$f":"IF(C901<>\"na\",C901/Configurations!$F$7,C901)","v":0}]
[{"$f":"IF(C902<>\"na\",C902/Configurations!$F$7,C902)","v":0}]
[{"$f":"IF(C903<>\"na\",C903/Configurations!$F$7,C903)","v":0}]
[{"$f":"IF(C904<>\"na\",C904/Configurations!$F$7,C904)","v":0}]
[{"$f":"IF(C905<>\"na\",C905/Configurations!$F$7,C905)","v":0}]
[{"$f":"IF(C906<>\"na\",C906/Configurations!$F$7,C906)","v":0}]
[{"$f":"IF(C907<>\"na\",C907/Configurations!$F$7,C907)","v":0}]
[{"$f":"IF(C908<>\"na\",C908/Configurations!$F$7,C908)","v":0}]
[{"$f":"IF(C909<>\"na\",C909/Configurations!$F$7,C909)","v":0}]
[{"$f":"IF(C910<>\"na\",C910/Configurations!$F$7,C910)","v":0}]
[{"$f":"IF(C911<>\"na\",C911/Configurations!$F$7,C911)","v":0}]
[{"$f":"IF(C912<>\"na\",C912/Configurations!$F$7,C912)","v":0}]
[{"$f":"IF(C913<>\"na\",C913/Configurations!$F$7,C913)","v":0}]
[{"$f":"IF(C914<>\"na\",C914/Configurations!$F$7,C914)","v":0}]
[{"$f":"IF(C915<>\"na\",C915/Configurations!$F$7,C915)","v":0}]
[{"$f":"IF(C916<>\"na\",C916/Configurations!$F$7,C916)","v":0}]
[{"$f":"IF(C917<>\"na\",C917/Configurations!$F$7,C917)","v":0}]
[{"$f":"IF(C918<>\"na\",C918/Configurations!$F$7,C918)","v":0}]
[{"$f":"IF(C919<>\"na\",C919/Configurations!$F$7,C919)","v":0}]
[{"$f":"IF(C920<>\"na\",C920/Configurations!$F$7,C920)","v":0}]
[{"$f":"IF(C921<>\"na\",C921/Configurations!$F$7,C921)","v":0}]
[{"$f":"IF(C922<>\"na\",C922/Configurations!$F$7,C922)","v":0}]
[{"$f":"IF(C923<>\"na\",C923/Configurations!$F$7,C923)","v":0}]
[{"$f":"IF(C924<>\"na\",C924/Configurations!$F$7,C924)","v":0}]
[{"$f":"IF(C925<>\"na\",C925/Configurations!$F$7,C925)","v":0}]
[{"$f":"IF(C926<>\"na\",C926/Configurations!$F$7,C926)","v":0}]
[{"$f":"IF(C927<>\"na\",C927/Configurations!$F$7,C927)","v":0}]
[{"$f":"IF(C928<>\"na\",C928/Configurations!$F$7,C928)","v":0}]
[{"$f":"IF(C929<>\"na\",C929/Configurations!$F$7,C929)","v":0}]
[{"$f":"IF(C930<>\"na\",C930/Configurations!$F$7,C930)","v":0}]
[{"$f":"IF(C931<>\"na\",C931/Configurations!$F$7,C931)","v":0}]
[{"$f":"IF(C932<>\"na\",C932/Configurations!$F$7,C932)","v":0}]
[{"$f":"IF(C933<>\"na\",C933/Configurations!$F$7,C933)","v":0}]
[{"$f":"IF(C934<>\"na\",C934/Configurations!$F$7,C934)","v":0}]
[{"$f":"IF(C935<>\"na\",C935/Configurations!$F$7,C935)","v":0}]
[{"$f":"IF(C936<>\"na\",C936/Configurations!$F$7,C936)","v":0}]
[{"$f":"IF(C937<>\"na\",C937/Configurations!$F$7,C937)","v":0}]
[{"$f":"IF(C938<>\"na\",C938/Configurations!$F$7,C938)","v":0}]
[{"$f":"IF(C939<>\"na\",C939/Configurations!$F$7,C939)","v":0}]
[{"$f":"IF(C940<>\"na\",C940/Configurations!$F$7,C940)","v":0}]
[{"$f":"IF(C941<>\"na\",C941/Configurations!$F$7,C941)","v":0}]
[{"$f":"IF(C942<>\"na\",C942/Configurations!$F$7,C942)","v":0}]
[{"$f":"IF(C943<>\"na\",C943/Configurations!$F$7,C943)","v":0}]
[{"$f":"IF(C944<>\"na\",C944/Configurations!$F$7,C944)","v":0}]
[{"$f":"IF(C945<>\"na\",C945/Configurations!$F$7,C945)","v":0}]
[{"$f":"IF(C946<>\"na\",C946/Configurations!$F$7,C946)","v":0}]
[{"$f":"IF(C947<>\"na\",C947/Configurations!$F$7,C947)","v":0}]
[{"$f":"IF(C948<>\"na\",C948/Configurations!$F$7,C948)","v":0}]
[{"$f":"IF(C949<>\"na\",C949/Configurations!$F$7,C949)","v":0}]
[{"$f":"IF(C950<>\"na\",C950/Configurations!$F$7,C950)","v":0}]
[{"$f":"IF(C951<>\"na\",C951/Configurations!$F$7,C951)","v":0}]
[{"$f":"IF(C952<>\"na\",C952/Configurations!$F$7,C952)","v":0}]
[{"$f":"IF(C953<>\"na\",C953/Configurations!$F$7,C953)","v":0}]
[{"$f":"IF(C954<>\"na\",C954/Configurations!$F$7,C954)","v":0}]
[{"$f":"IF(C955<>\"na\",C955/Configurations!$F$7,C955)","v":0}]
[{"$f":"IF(C956<>\"na\",C956/Configurations!$F$7,C956)","v":0}]
[{"$f":"IF(C957<>\"na\",C957/Configurations!$F$7,C957)","v":0}]
[{"$f":"IF(C958<>\"na\",C958/Configurations!$F$7,C958)","v":0}]
[{"$f":"IF(C959<>\"na\",C959/Configurations!$F$7,C959)","v":0}]
[{"$f":"IF(C960<>\"na\",C960/Configurations!$F$7,C960)","v":0}]
[{"$f":"IF(C961<>\"na\",C961/Configurations!$F$7,C961)","v":0}]
[{"$f":"IF(C962<>\"na\",C962/Configurations!$F$7,C962)","v":0}]
[{"$f":"IF(C963<>\"na\",C963/Configurations!$F$7,C963)","v":0}]
[{"$f":"IF(C964<>\"na\",C964/Configurations!$F$7,C964)","v":0}]
[{"$f":"IF(C965<>\"na\",C965/Configurations!$F$7,C965)","v":0}]
[{"$f":"IF(C966<>\"na\",C966/Configurations!$F$7,C966)","v":0}]
[{"$f":"IF(C967<>\"na\",C967/Configurations!$F$7,C967)","v":0}]
[{"$f":"IF(C968<>\"na\",C968/Configurations!$F$7,C968)","v":0}]
[{"$f":"IF(C969<>\"na\",C969/Configurations!$F$7,C969)","v":0}]
[{"$f":"IF(C970<>\"na\",C970/Configurations!$F$7,C970)","v":0}]
[{"$f":"IF(C971<>\"na\",C971/Configurations!$F$7,C971)","v":0}]
[{"$f":"IF(C972<>\"na\",C972/Configurations!$F$7,C972)","v":0}]
[{"$f":"IF(C973<>\"na\",C973/Configurations!$F$7,C973)","v":0}]
[{"$f":"IF(C974<>\"na\",C974/Configurations!$F$7,C974)","v":0}]
[{"$f":"IF(C975<>\"na\",C975/Configurations!$F$7,C975)","v":0}]
[{"$f":"IF(C976<>\"na\",C976/Configurations!$F$7,C976)","v":0}]
[{"$f":"IF(C977<>\"na\",C977/Configurations!$F$7,C977)","v":0}]
[{"$f":"IF(C978<>\"na\",C978/Configurations!$F$7,C978)","v":0}]
[{"$f":"IF(C979<>\"na\",C979/Configurations!$F$7,C979)","v":0}]
[{"$f":"IF(C980<>\"na\",C980/Configurations!$F$7,C980)","v":0}]
[{"$f":"IF(C981<>\"na\",C981/Configurations!$F$7,C981)","v":0}]
[{"$f":"IF(C982<>\"na\",C982/Configurations!$F$7,C982)","v":0}]
[{"$f":"IF(C983<>\"na\",C983/Configurations!$F$7,C983)","v":0}]
[{"$f":"IF(C984<>\"na\",C984/Configurations!$F$7,C984)","v":0}]
[{"$f":"IF(C985<>\"na\",C985/Configurations!$F$7,C985)","v":0}]
[{"$f":"IF(C986<>\"na\",C986/Configurations!$F$7,C986)","v":0}]
[{"$f":"IF(C987<>\"na\",C987/Configurations!$F$7,C987)","v":0}]
[{"$f":"IF(C988<>\"na\",C988/Configurations!$F$7,C988)","v":0}]
[{"$f":"IF(C989<>\"na\",C989/Configurations!$F$7,C989)","v":0}]
[{"$f":"IF(C990<>\"na\",C990/Configurations!$F$7,C990)","v":0}]
[{"$f":"IF(C991<>\"na\",C991/Configurations!$F$7,C991)","v":0}]
[{"$f":"IF(C992<>\"na\",C992/Configurations!$F$7,C992)","v":0}]
[{"$f":"IF(C993<>\"na\",C993/Configurations!$F$7,C993)","v":0}]
[{"$f":"IF(C994<>\"na\",C994/Configurations!$F$7,C994)","v":0}]
[{"$f":"IF(C995<>\"na\",C995/Configurations!$F$7,C995)","v":0}]
[{"$f":"IF(C996<>\"na\",C996/Configurations!$F$7,C996)","v":0}]
[{"$f":"IF(C997<>\"na\",C997/Configurations!$F$7,C997)","v":0}]
[{"$f":"IF(C998<>\"na\",C998/Configurations!$F$7,C998)","v":0}]
[{"$f":"IF(C999<>\"na\",C999/Configurations!$F$7,C999)","v":0}]
[{"$f":"IF(C1000<>\"na\",C1000/Configurations!$F$7,C1000)","v":0}]
[{"$f":"IF(C1001<>\"na\",C1001/Configurations!$F$7,C1001)","v":0}]
[{"$f":"IF(C1002<>\"na\",C1002/Configurations!$F$7,C1002)","v":0}]
[{"$f":"IF(C1003<>\"na\",C1003/Configurations!$F$7,C1003)","v":0}]
[{"$f":"IF(C1004<>\"na\",C1004/Configurations!$F$7,C1004)","v":0}]
[{"$f":"IF(C1005<>\"na\",C1005/Configurations!$F$7,C1005)","v":0}]
[{"$f":"IF(C1006<>\"na\",C1006/Configurations!$F$7,C1006)","v":0}]
[{"$f":"IF(C1007<>\"na\",C1007/Configurations!$F$7,C1007)","v":0}]
[{"$f":"IF(C1008<>\"na\",C1008/Configurations!$F$7,C1008)","v":0}]
[{"$f":"IF(C1009<>\"na\",C1009/Configurations!$F$7,C1009)","v":0}]
[{"$f":"IF(C1010<>\"na\",C1010/Configurations!$F$7,C1010)","v":0}]
[{"$f":"IF(C1011<>\"na\",C1011/Configurations!$F$7,C1011)","v":0}]
[{"$f":"IF(C1012<>\"na\",C1012/Configurations!$F$7,C1012)","v":0}]
[{"$f":"IF(C1013<>\"na\",C1013/Configurations!$F$7,C1013)","v":0}]
[{"$f":"IF(C1014<>\"na\",C1014/Configurations!$F$7,C1014)","v":0}]
[{"$f":"IF(C1015<>\"na\",C1015/Configurations!$F$7,C1015)","v":0}]
[{"$f":"IF(C1016<>\"na\",C1016/Configurations!$F$7,C1016)","v":0}]
[{"$f":"IF(C1017<>\"na\",C1017/Configurations!$F$7,C1017)","v":0}]
[{"$f":"IF(C1018<>\"na\",C1018/Configurations!$F$7,C1018)","v":0}]
[{"$f":"IF(C1019<>\"na\",C1019/Configurations!$F$7,C1019)","v":0}]
[{"$f":"IF(C1020<>\"na\",C1020/Configurations!$F$7,C1020)","v":0}]
[{"$f":"IF(C1021<>\"na\",C1021/Configurations!$F$7,C1021)","v":0}]
[{"$f":"IF(C1022<>\"na\",C1022/Configurations!$F$7,C1022)","v":0}]
[{"$f":"IF(C1023<>\"na\",C1023/Configurations!$F$7,C1023)","v":0}]
[{"$f":"IF(C1024<>\"na\",C1024/Configurations!$F$7,C1024)","v":0}]
[{"$f":"IF(C1025<>\"na\",C1025/Configurations!$F$7,C1025)","v":0}]
[{"$f":"IF(C1026<>\"na\",C1026/Configurations!$F$7,C1026)","v":0}]
[{"$f":"IF(C1027<>\"na\",C1027/Configurations!$F$7,C1027)","v":0}]
[{"$f":"IF(C1028<>\"na\",C1028/Configurations!$F$7,C1028)","v":0}]
[{"$f":"IF(C1029<>\"na\",C1029/Configurations!$F$7,C1029)","v":0}]
[{"$f":"IF(C1030<>\"na\",C1030/Configurations!$F$7,C1030)","v":0}]
[{"$f":"IF(C1031<>\"na\",C1031/Configurations!$F$7,C1031)","v":0}]
[{"$f":"IF(C1032<>\"na\",C1032/Configurations!$F$7,C1032)","v":0}]
[{"$f":"IF(C1033<>\"na\",C1033/Configurations!$F$7,C1033)","v":0}]
[{"$f":"IF(C1034<>\"na\",C1034/Configurations!$F$7,C1034)","v":0}]
[{"$f":"IF(C1035<>\"na\",C1035/Configurations!$F$7,C1035)","v":0}]
[{"$f":"IF(C1036<>\"na\",C1036/Configurations!$F$7,C1036)","v":0}]
[{"$f":"IF(C1037<>\"na\",C1037/Configurations!$F$7,C1037)","v":0}]
[{"$f":"IF(C1038<>\"na\",C1038/Configurations!$F$7,C1038)","v":0}]
[{"$f":"IF(C1039<>\"na\",C1039/Configurations!$F$7,C1039)","v":0}]
[{"$f":"IF(C1040<>\"na\",C1040/Configurations!$F$7,C1040)","v":0}]
[{"$f":"IF(C1041<>\"na\",C1041/Configurations!$F$7,C1041)","v":0}]
[{"$f":"IF(C1042<>\"na\",C1042/Configurations!$F$7,C1042)","v":0}]
[{"$f":"IF(C1043<>\"na\",C1043/Configurations!$F$7,C1043)","v":0}]
[{"$f":"IF(C1044<>\"na\",C1044/Configurations!$F$7,C1044)","v":0}]
[{"$f":"IF(C1045<>\"na\",C1045/Configurations!$F$7,C1045)","v":0}]
[{"$f":"IF(C1046<>\"na\",C1046/Configurations!$F$7,C1046)","v":0}]
[{"$f":"IF(C1047<>\"na\",C1047/Configurations!$F$7,C1047)","v":0}]
[{"$f":"IF(C1048<>\"na\",C1048/Configurations!$F$7,C1048)","v":0}]
[{"$f":"IF(C1049<>\"na\",C1049/Configurations!$F$7,C1049)","v":0}]
[{"$f":"IF(C1050<>\"na\",C1050/Configurations!$F$7,C1050)","v":0}]
[{"$f":"IF(C1051<>\"na\",C1051/Configurations!$F$7,C1051)","v":0}]
[{"$f":"IF(C1052<>\"na\",C1052/Configurations!$F$7,C1052)","v":0}]
[{"$f":"IF(C1053<>\"na\",C1053/Configurations!$F$7,C1053)","v":0}]
[{"$f":"IF(C1054<>\"na\",C1054/Configurations!$F$7,C1054)","v":0}]
[{"$f":"IF(C1055<>\"na\",C1055/Configurations!$F$7,C1055)","v":0}]
[{"$f":"IF(C1056<>\"na\",C1056/Configurations!$F$7,C1056)","v":0}]
[{"$f":"IF(C1057<>\"na\",C1057/Configurations!$F$7,C1057)","v":0}]
[{"$f":"IF(C1058<>\"na\",C1058/Configurations!$F$7,C1058)","v":0}]
[{"$f":"IF(C1059<>\"na\",C1059/Configurations!$F$7,C1059)","v":0}]
[{"$f":"IF(C1060<>\"na\",C1060/Configurations!$F$7,C1060)","v":0}]
[{"$f":"IF(C1061<>\"na\",C1061/Configurations!$F$7,C1061)","v":0}]
[{"$f":"IF(C1062<>\"na\",C1062/Configurations!$F$7,C1062)","v":0}]
[{"$f":"IF(C1063<>\"na\",C1063/Configurations!$F$7,C1063)","v":0}]
[{"$f":"IF(C1064<>\"na\",C1064/Configurations!$F$7,C1064)","v":0}]
[{"$f":"IF(C1065<>\"na\",C1065/Configurations!$F$7,C1065)","v":0}]
[{"$f":"IF(C1066<>\"na\",C1066/Configurations!$F$7,C1066)","v":0}]
[{"$f":"IF(C1067<>\"na\",C1067/Configurations!$F$7,C1067)","v":0}]
[{"$f":"IF(C1068<>\"na\",C1068/Configurations!$F$7,C1068)","v":0}]
[{"$f":"IF(C1069<>\"na\",C1069/Configurations!$F$7,C1069)","v":0}]
[{"$f":"IF(C1070<>\"na\",C1070/Configurations!$F$7,C1070)","v":0}]
[{"$f":"IF(C1071<>\"na\",C1071/Configurations!$F$7,C1071)","v":0}]
[{"$f":"IF(C1072<>\"na\",C1072/Configurations!$F$7,C1072)","v":0}]
[{"$f":"IF(C1073<>\"na\",C1073/Configurations!$F$7,C1073)","v":0}]
[{"$f":"IF(C1074<>\"na\",C1074/Configurations!$F$7,C1074)","v":0}]
[{"$f":"IF(C1075<>\"na\",C1075/Configurations!$F$7,C1075)","v":0}]
[{"$f":"IF(C1076<>\"na\",C1076/Configurations!$F$7,C1076)","v":0}]
[{"$f":"IF(C1077<>\"na\",C1077/Configurations!$F$7,C1077)","v":0}]
[{"$f":"IF(C1078<>\"na\",C1078/Configurations!$F$7,C1078)","v":0}]
[{"$f":"IF(C1079<>\"na\",C1079/Configurations!$F$7,C1079)","v":0}]
[{"$f":"IF(C1080<>\"na\",C1080/Configurations!$F$7,C1080)","v":0}]
[{"$f":"IF(C1081<>\"na\",C1081/Configurations!$F$7,C1081)","v":0}]
[{"$f":"IF(C1082<>\"na\",C1082/Configurations!$F$7,C1082)","v":0}]
[{"$f":"IF(C1083<>\"na\",C1083/Configurations!$F$7,C1083)","v":0}]
[{"$f":"IF(C1084<>\"na\",C1084/Configurations!$F$7,C1084)","v":0}]
[{"$f":"IF(C1085<>\"na\",C1085/Configurations!$F$7,C1085)","v":0}]
[{"$f":"IF(C1086<>\"na\",C1086/Configurations!$F$7,C1086)","v":0}]
[{"$f":"IF(C1087<>\"na\",C1087/Configurations!$F$7,C1087)","v":0}]
[{"$f":"IF(C1088<>\"na\",C1088/Configurations!$F$7,C1088)","v":0}]
[{"$f":"IF(C1089<>\"na\",C1089/Configurations!$F$7,C1089)","v":0}]
[{"$f":"IF(C1090<>\"na\",C1090/Configurations!$F$7,C1090)","v":0}]
[{"$f":"IF(C1091<>\"na\",C1091/Configurations!$F$7,C1091)","v":0}]
[{"$f":"IF(C1092<>\"na\",C1092/Configurations!$F$7,C1092)","v":0}]
[{"$f":"IF(C1093<>\"na\",C1093/Configurations!$F$7,C1093)","v":0}]
[{"$f":"IF(C1094<>\"na\",C1094/Configurations!$F$7,C1094)","v":0}]
[{"$f":"IF(C1095<>\"na\",C1095/Configurations!$F$7,C1095)","v":0}]
[{"$f":"IF(C1096<>\"na\",C1096/Configurations!$F$7,C1096)","v":0}]
[{"$f":"IF(C1097<>\"na\",C1097/Configurations!$F$7,C1097)","v":0}]
[{"$f":"IF(C1098<>\"na\",C1098/Configurations!$F$7,C1098)","v":0}]
[{"$f":"IF(C1099<>\"na\",C1099/Configurations!$F$7,C1099)","v":0}]
[{"$f":"IF(C1100<>\"na\",C1100/Configurations!$F$7,C1100)","v":0}]
[{"$f":"IF(C1101<>\"na\",C1101/Configurations!$F$7,C1101)","v":0}]
[{"$f":"IF(C1102<>\"na\",C1102/Configurations!$F$7,C1102)","v":0}]
[{"$f":"IF(C1103<>\"na\",C1103/Configurations!$F$7,C1103)","v":0}]
[{"$f":"IF(C1104<>\"na\",C1104/Configurations!$F$7,C1104)","v":0}]
[{"$f":"IF(C1105<>\"na\",C1105/Configurations!$F$7,C1105)","v":0}]
[{"$f":"IF(C1106<>\"na\",C1106/Configurations!$F$7,C1106)","v":0}]
[{"$f":"IF(C1107<>\"na\",C1107/Configurations!$F$7,C1107)","v":0}]
[{"$f":"IF(C1108<>\"na\",C1108/Configurations!$F$7,C1108)","v":0}]
[{"$f":"IF(C1109<>\"na\",C1109/Configurations!$F$7,C1109)","v":0}]
[{"$f":"IF(C1110<>\"na\",C1110/Configurations!$F$7,C1110)","v":0}]
[{"$f":"IF(C1111<>\"na\",C1111/Configurations!$F$7,C1111)","v":0}]
[{"$f":"IF(C1112<>\"na\",C1112/Configurations!$F$7,C1112)","v":0}]
[{"$f":"IF(C1113<>\"na\",C1113/Configurations!$F$7,C1113)","v":0}]
[{"$f":"IF(C1114<>\"na\",C1114/Configurations!$F$7,C1114)","v":0}]
[{"$f":"IF(C1115<>\"na\",C1115/Configurations!$F$7,C1115)","v":0}]
[{"$f":"IF(C1116<>\"na\",C1116/Configurations!$F$7,C1116)","v":0}]
[{"$f":"IF(C1117<>\"na\",C1117/Configurations!$F$7,C1117)","v":0}]
[{"$f":"IF(C1118<>\"na\",C1118/Configurations!$F$7,C1118)","v":0}]
[{"$f":"IF(C1119<>\"na\",C1119/Configurations!$F$7,C1119)","v":0}]
[{"$f":"IF(C1120<>\"na\",C1120/Configurations!$F$7,C1120)","v":0}]
[{"$f":"IF(C1121<>\"na\",C1121/Configurations!$F$7,C1121)","v":0}]
[{"$f":"IF(C1122<>\"na\",C1122/Configurations!$F$7,C1122)","v":0}]
[{"$f":"IF(C1123<>\"na\",C1123/Configurations!$F$7,C1123)","v":0}]
[{"$f":"IF(C1124<>\"na\",C1124/Configurations!$F$7,C1124)","v":0}]
[{"$f":"IF(C1125<>\"na\",C1125/Configurations!$F$7,C1125)","v":0}]
[{"$f":"IF(C1126<>\"na\",C1126/Configurations!$F$7,C1126)","v":0}]
[{"$f":"IF(C1127<>\"na\",C1127/Configurations!$F$7,C1127)","v":0}]
[{"$f":"IF(C1128<>\"na\",C1128/Configurations!$F$7,C1128)","v":0}]
[{"$f":"IF(C1129<>\"na\",C1129/Configurations!$F$7,C1129)","v":0}]
[{"$f":"IF(C1130<>\"na\",C1130/Configurations!$F$7,C1130)","v":0}]
[{"$f":"IF(C1131<>\"na\",C1131/Configurations!$F$7,C1131)","v":0}]
[{"$f":"IF(C1132<>\"na\",C1132/Configurations!$F$7,C1132)","v":0}]
[{"$f":"IF(C1133<>\"na\",C1133/Configurations!$F$7,C1133)","v":0}]
[{"$f":"IF(C1134<>\"na\",C1134/Configurations!$F$7,C1134)","v":0}]
[{"$f":"IF(C1135<>\"na\",C1135/Configurations!$F$7,C1135)","v":0}]
[{"$f":"IF(C1136<>\"na\",C1136/Configurations!$F$7,C1136)","v":0}]
[{"$f":"IF(C1137<>\"na\",C1137/Configurations!$F$7,C1137)","v":0}]
[{"$f":"IF(C1138<>\"na\",C1138/Configurations!$F$7,C1138)","v":0}]
[{"$f":"IF(C1139<>\"na\",C1139/Configurations!$F$7,C1139)","v":0}]
[{"$f":"IF(C1140<>\"na\",C1140/Configurations!$F$7,C1140)","v":0}]
[{"$f":"IF(C1141<>\"na\",C1141/Configurations!$F$7,C1141)","v":0}]
[{"$f":"IF(C1142<>\"na\",C1142/Configurations!$F$7,C1142)","v":0}]
[{"$f":"IF(C1143<>\"na\",C1143/Configurations!$F$7,C1143)","v":0}]
[{"$f":"IF(C1144<>\"na\",C1144/Configurations!$F$7,C1144)","v":0}]
[{"$f":"IF(C1145<>\"na\",C1145/Configurations!$F$7,C1145)","v":0}]
[{"$f":"IF(C1146<>\"na\",C1146/Configurations!$F$7,C1146)","v":0}]
[{"$f":"IF(C1147<>\"na\",C1147/Configurations!$F$7,C1147)","v":0}]
[{"$f":"IF(C1148<>\"na\",C1148/Configurations!$F$7,C1148)","v":0}]
[{"$f":"IF(C1149<>\"na\",C1149/Configurations!$F$7,C1149)","v":0}]
[{"$f":"IF(C1150<>\"na\",C1150/Configurations!$F$7,C1150)","v":0}]
[{"$f":"IF(C1151<>\"na\",C1151/Configurations!$F$7,C1151)","v":0}]
[{"$f":"IF(C1152<>\"na\",C1152/Configurations!$F$7,C1152)","v":0}]
[{"$f":"IF(C1153<>\"na\",C1153/Configurations!$F$7,C1153)","v":0}]
[{"$f":"IF(C1154<>\"na\",C1154/Configurations!$F$7,C1154)","v":0}]
[{"$f":"IF(C1155<>\"na\",C1155/Configurations!$F$7,C1155)","v":0}]
[{"$f":"IF(C1156<>\"na\",C1156/Configurations!$F$7,C1156)","v":0}]
[{"$f":"IF(C1157<>\"na\",C1157/Configurations!$F$7,C1157)","v":0}]
[{"$f":"IF(C1158<>\"na\",C1158/Configurations!$F$7,C1158)","v":0}]
[{"$f":"IF(C1159<>\"na\",C1159/Configurations!$F$7,C1159)","v":0}]
[{"$f":"IF(C1160<>\"na\",C1160/Configurations!$F$7,C1160)","v":0}]
[{"$f":"IF(C1161<>\"na\",C1161/Configurations!$F$7,C1161)","v":0}]
[{"$f":"IF(C1162<>\"na\",C1162/Configurations!$F$7,C1162)","v":0}]
[{"$f":"IF(C1163<>\"na\",C1163/Configurations!$F$7,C1163)","v":0}]
[{"$f":"IF(C1164<>\"na\",C1164/Configurations!$F$7,C1164)","v":0}]
[{"$f":"IF(C1165<>\"na\",C1165/Configurations!$F$7,C1165)","v":0}]
[{"$f":"IF(C1166<>\"na\",C1166/Configurations!$F$7,C1166)","v":0}]
[{"$f":"IF(C1167<>\"na\",C1167/Configurations!$F$7,C1167)","v":0}]
[{"$f":"IF(C1168<>\"na\",C1168/Configurations!$F$7,C1168)","v":0}]
[{"$f":"IF(C1169<>\"na\",C1169/Configurations!$F$7,C1169)","v":0}]
[{"$f":"IF(C1170<>\"na\",C1170/Configurations!$F$7,C1170)","v":0}]
[{"$f":"IF(C1171<>\"na\",C1171/Configurations!$F$7,C1171)","v":0}]
[{"$f":"IF(C1172<>\"na\",C1172/Configurations!$F$7,C1172)","v":0}]
[{"$f":"IF(C1173<>\"na\",C1173/Configurations!$F$7,C1173)","v":0}]
[{"$f":"IF(C1174<>\"na\",C1174/Configurations!$F$7,C1174)","v":0}]
[{"$f":"IF(C1175<>\"na\",C1175/Configurations!$F$7,C1175)","v":0}]
[{"$f":"IF(C1176<>\"na\",C1176/Configurations!$F$7,C1176)","v":0}]
[{"$f":"IF(C1177<>\"na\",C1177/Configurations!$F$7,C1177)","v":0}]
[{"$f":"IF(C1178<>\"na\",C1178/Configurations!$F$7,C1178)","v":0}]
[{"$f":"IF(C1179<>\"na\",C1179/Configurations!$F$7,C1179)","v":0}]
[{"$f":"IF(C1180<>\"na\",C1180/Configurations!$F$7,C1180)","v":0}]
[{"$f":"IF(C1181<>\"na\",C1181/Configurations!$F$7,C1181)","v":0}]
[{"$f":"IF(C1182<>\"na\",C1182/Configurations!$F$7,C1182)","v":0}]
[{"$f":"IF(C1183<>\"na\",C1183/Configurations!$F$7,C1183)","v":0}]
[{"$f":"IF(C1184<>\"na\",C1184/Configurations!$F$7,C1184)","v":0}]
[{"$f":"IF(C1185<>\"na\",C1185/Configurations!$F$7,C1185)","v":0}]
[{"$f":"IF(C1186<>\"na\",C1186/Configurations!$F$7,C1186)","v":0}]
[{"$f":"IF(C1187<>\"na\",C1187/Configurations!$F$7,C1187)","v":0}]
[{"$f":"IF(C1188<>\"na\",C1188/Configurations!$F$7,C1188)","v":0}]
[{"$f":"IF(C1189<>\"na\",C1189/Configurations!$F$7,C1189)","v":0}]
[{"$f":"IF(C1190<>\"na\",C1190/Configurations!$F$7,C1190)","v":0}]
[{"$f":"IF(C1191<>\"na\",C1191/Configurations!$F$7,C1191)","v":0}]
[{"$f":"IF(C1192<>\"na\",C1192/Configurations!$F$7,C1192)","v":0}]
[{"$f":"IF(C1193<>\"na\",C1193/Configurations!$F$7,C1193)","v":0}]
[{"$f":"IF(C1194<>\"na\",C1194/Configurations!$F$7,C1194)","v":0}]
[{"$f":"IF(C1195<>\"na\",C1195/Configurations!$F$7,C1195)","v":0}]
[{"$f":"IF(C1196<>\"na\",C1196/Configurations!$F$7,C1196)","v":0}]
[{"$f":"IF(C1197<>\"na\",C1197/Configurations!$F$7,C1197)","v":0}]
[{"$f":"IF(C1198<>\"na\",C1198/Configurations!$F$7,C1198)","v":0}]
[{"$f":"IF(C1199<>\"na\",C1199/Configurations!$F$7,C1199)","v":0}]
[{"$f":"IF(C1200<>\"na\",C1200/Configurations!$F$7,C1200)","v":0}]
[{"$f":"IF(C1201<>\"na\",C1201/Configurations!$F$7,C1201)","v":0}]
[{"$f":"IF(C1202<>\"na\",C1202/Configurations!$F$7,C1202)","v":0}]
[{"$f":"IF(C1203<>\"na\",C1203/Configurations!$F$7,C1203)","v":0}]
[{"$f":"IF(C1204<>\"na\",C1204/Configurations!$F$7,C1204)","v":0}]
[{"$f":"IF(C1205<>\"na\",C1205/Configurations!$F$7,C1205)","v":0}]
[{"$f":"IF(C1206<>\"na\",C1206/Configurations!$F$7,C1206)","v":0}]
[{"$f":"IF(C1207<>\"na\",C1207/Configurations!$F$7,C1207)","v":0}]
[{"$f":"IF(C1208<>\"na\",C1208/Configurations!$F$7,C1208)","v":0}]
[{"$f":"IF(C1209<>\"na\",C1209/Configurations!$F$7,C1209)","v":0}]
[{"$f":"IF(C1210<>\"na\",C1210/Configurations!$F$7,C1210)","v":0}]
[{"$f":"IF(C1211<>\"na\",C1211/Configurations!$F$7,C1211)","v":0}]
[{"$f":"IF(C1212<>\"na\",C1212/Configurations!$F$7,C1212)","v":0}]
[{"$f":"IF(C1213<>\"na\",C1213/Configurations!$F$7,C1213)","v":0}]
[{"$f":"IF(C1214<>\"na\",C1214/Configurations!$F$7,C1214)","v":0}]
[{"$f":"IF(C1215<>\"na\",C1215/Configurations!$F$7,C1215)","v":0}]
[{"$f":"IF(C1216<>\"na\",C1216/Configurations!$F$7,C1216)","v":0}]
[{"$f":"IF(C1217<>\"na\",C1217/Configurations!$F$7,C1217)","v":0}]
[{"$f":"IF(C1218<>\"na\",C1218/Configurations!$F$7,C1218)","v":0}]
[{"$f":"IF(C1219<>\"na\",C1219/Configurations!$F$7,C1219)","v":0}]
[{"$f":"IF(C1220<>\"na\",C1220/Configurations!$F$7,C1220)","v":0}]
[{"$f":"IF(C1221<>\"na\",C1221/Configurations!$F$7,C1221)","v":0}]
[{"$f":"IF(C1222<>\"na\",C1222/Configurations!$F$7,C1222)","v":0}]
[{"$f":"IF(C1223<>\"na\",C1223/Configurations!$F$7,C1223)","v":0}]
[{"$f":"IF(C1224<>\"na\",C1224/Configurations!$F$7,C1224)","v":0}]
[{"$f":"IF(C1225<>\"na\",C1225/Configurations!$F$7,C1225)","v":0}]
[{"$f":"IF(C1226<>\"na\",C1226/Configurations!$F$7,C1226)","v":0}]
[{"$f":"IF(C1227<>\"na\",C1227/Configurations!$F$7,C1227)","v":0}]
[{"$f":"IF(C1228<>\"na\",C1228/Configurations!$F$7,C1228)","v":0}]
[{"$f":"IF(C1229<>\"na\",C1229/Configurations!$F$7,C1229)","v":0}]
[{"$f":"IF(C1230<>\"na\",C1230/Configurations!$F$7,C1230)","v":0}]
[{"$f":"IF(C1231<>\"na\",C1231/Configurations!$F$7,C1231)","v":0}]
[{"$f":"IF(C1232<>\"na\",C1232/Configurations!$F$7,C1232)","v":0}]
[{"$f":"IF(C1233<>\"na\",C1233/Configurations!$F$7,C1233)","v":0}]
[{"$f":"IF(C1234<>\"na\",C1234/Configurations!$F$7,C1234)","v":0}]
[{"$f":"IF(C1235<>\"na\",C1235/Configurations!$F$7,C1235)","v":0}]
[{"$f":"IF(C1236<>\"na\",C1236/Configurations!$F$7,C1236)","v":0}]
[{"$f":"IF(C1237<>\"na\",C1237/Configurations!$F$7,C1237)","v":0}]
[{"$f":"IF(C1238<>\"na\",C1238/Configurations!$F$7,C1238)","v":0}]
[{"$f":"IF(C1239<>\"na\",C1239/Configurations!$F$7,C1239)","v":0}]
[{"$f":"IF(C1240<>\"na\",C1240/Configurations!$F$7,C1240)","v":0}]
[{"$f":"IF(C1241<>\"na\",C1241/Configurations!$F$7,C1241)","v":0}]
[{"$f":"IF(C1242<>\"na\",C1242/Configurations!$F$7,C1242)","v":0}]
[{"$f":"IF(C1243<>\"na\",C1243/Configurations!$F$7,C1243)","v":0}]
[{"$f":"IF(C1244<>\"na\",C1244/Configurations!$F$7,C1244)","v":0}]
[{"$f":"IF(C1245<>\"na\",C1245/Configurations!$F$7,C1245)","v":0}]
[{"$f":"IF(C1246<>\"na\",C1246/Configurations!$F$7,C1246)","v":0}]
[{"$f":"IF(C1247<>\"na\",C1247/Configurations!$F$7,C1247)","v":0}]
[{"$f":"IF(C1248<>\"na\",C1248/Configurations!$F$7,C1248)","v":0}]
[{"$f":"IF(C1249<>\"na\",C1249/Configurations!$F$7,C1249)","v":0}]
[{"$f":"IF(C1250<>\"na\",C1250/Configurations!$F$7,C1250)","v":0}]
[{"$f":"IF(C1251<>\"na\",C1251/Configurations!$F$7,C1251)","v":0}]
[{"$f":"IF(C1252<>\"na\",C1252/Configurations!$F$7,C1252)","v":0}]
[{"$f":"IF(C1253<>\"na\",C1253/Configurations!$F$7,C1253)","v":0}]
[{"$f":"IF(C1254<>\"na\",C1254/Configurations!$F$7,C1254)","v":0}]
[{"$f":"IF(C1255<>\"na\",C1255/Configurations!$F$7,C1255)","v":0}]
[{"$f":"IF(C1256<>\"na\",C1256/Configurations!$F$7,C1256)","v":0}]
[{"$f":"IF(C1257<>\"na\",C1257/Configurations!$F$7,C1257)","v":0}]
[{"$f":"IF(C1258<>\"na\",C1258/Configurations!$F$7,C1258)","v":0}]
[{"$f":"IF(C1259<>\"na\",C1259/Configurations!$F$7,C1259)","v":0}]
[{"$f":"IF(C1260<>\"na\",C1260/Configurations!$F$7,C1260)","v":0}]
[{"$f":"IF(C1261<>\"na\",C1261/Configurations!$F$7,C1261)","v":0}]
[{"$f":"IF(C1262<>\"na\",C1262/Configurations!$F$7,C1262)","v":0}]
[{"$f":"IF(C1263<>\"na\",C1263/Configurations!$F$7,C1263)","v":0}]
[{"$f":"IF(C1264<>\"na\",C1264/Configurations!$F$7,C1264)","v":0}]
[{"$f":"IF(C1265<>\"na\",C1265/Configurations!$F$7,C1265)","v":0}]
[{"$f":"IF(C1266<>\"na\",C1266/Configurations!$F$7,C1266)","v":0}]
[{"$f":"IF(C1267<>\"na\",C1267/Configurations!$F$7,C1267)","v":0}]
[{"$f":"IF(C1268<>\"na\",C1268/Configurations!$F$7,C1268)","v":0}]
[{"$f":"IF(C1269<>\"na\",C1269/Configurations!$F$7,C1269)","v":0}]
[{"$f":"IF(C1270<>\"na\",C1270/Configurations!$F$7,C1270)","v":0}]
[{"$f":"IF(C1271<>\"na\",C1271/Configurations!$F$7,C1271)","v":0}]
[{"$f":"IF(C1272<>\"na\",C1272/Configurations!$F$7,C1272)","v":0}]
[{"$f":"IF(C1273<>\"na\",C1273/Configurations!$F$7,C1273)","v":0}]
[{"$f":"IF(C1274<>\"na\",C1274/Configurations!$F$7,C1274)","v":0}]
[{"$f":"IF(C1275<>\"na\",C1275/Configurations!$F$7,C1275)","v":0}]
[{"$f":"IF(C1276<>\"na\",C1276/Configurations!$F$7,C1276)","v":0}]
[{"$f":"IF(C1277<>\"na\",C1277/Configurations!$F$7,C1277)","v":0}]
[{"$f":"IF(C1278<>\"na\",C1278/Configurations!$F$7,C1278)","v":0}]
[{"$f":"IF(C1279<>\"na\",C1279/Configurations!$F$7,C1279)","v":0}]
[{"$f":"IF(C1280<>\"na\",C1280/Configurations!$F$7,C1280)","v":0}]
[{"$f":"IF(C1281<>\"na\",C1281/Configurations!$F$7,C1281)","v":0}]
[{"$f":"IF(C1282<>\"na\",C1282/Configurations!$F$7,C1282)","v":0}]
[{"$f":"IF(C1283<>\"na\",C1283/Configurations!$F$7,C1283)","v":0}]
[{"$f":"IF(C1284<>\"na\",C1284/Configurations!$F$7,C1284)","v":0}]
[{"$f":"IF(C1285<>\"na\",C1285/Configurations!$F$7,C1285)","v":0}]
[{"$f":"IF(C1286<>\"na\",C1286/Configurations!$F$7,C1286)","v":0}]
[{"$f":"IF(C1287<>\"na\",C1287/Configurations!$F$7,C1287)","v":0}]
[{"$f":"IF(C1288<>\"na\",C1288/Configurations!$F$7,C1288)","v":0}]
[{"$f":"IF(C1289<>\"na\",C1289/Configurations!$F$7,C1289)","v":0}]
[{"$f":"IF(C1290<>\"na\",C1290/Configurations!$F$7,C1290)","v":0}]
[{"$f":"IF(C1291<>\"na\",C1291/Configurations!$F$7,C1291)","v":0}]
[{"$f":"IF(C1292<>\"na\",C1292/Configurations!$F$7,C1292)","v":0}]
[{"$f":"IF(C1293<>\"na\",C1293/Configurations!$F$7,C1293)","v":0}]
[{"$f":"IF(C1294<>\"na\",C1294/Configurations!$F$7,C1294)","v":0}]
[{"$f":"IF(C1295<>\"na\",C1295/Configurations!$F$7,C1295)","v":0}]
[{"$f":"IF(C1296<>\"na\",C1296/Configurations!$F$7,C1296)","v":0}]
[{"$f":"IF(C1297<>\"na\",C1297/Configurations!$F$7,C1297)","v":0}]
[{"$f":"IF(C1298<>\"na\",C1298/Configurations!$F$7,C1298)","v":0}]
[{"$f":"IF(C1299<>\"na\",C1299/Configurations!$F$7,C1299)","v":0}]
[{"$f":"IF(C1300<>\"na\",C1300/Configurations!$F$7,C1300)","v":0}]
[{"$f":"IF(C1301<>\"na\",C1301/Configurations!$F$7,C1301)","v":0}]
[{"$f":"IF(C1302<>\"na\",C1302/Configurations!$F$7,C1302)","v":0}]
[{"$f":"IF(C1303<>\"na\",C1303/Configurations!$F$7,C1303)","v":0}]
[{"$f":"IF(C1304<>\"na\",C1304/Configurations!$F$7,C1304)","v":0}]
[{"$f":"IF(C1305<>\"na\",C1305/Configurations!$F$7,C1305)","v":0}]
[{"$f":"IF(C1306<>\"na\",C1306/Configurations!$F$7,C1306)","v":0}]
[{"$f":"IF(C1307<>\"na\",C1307/Configurations!$F$7,C1307)","v":0}]
[{"$f":"IF(C1308<>\"na\",C1308/Configurations!$F$7,C1308)","v":0}]
[{"$f":"IF(C1309<>\"na\",C1309/Configurations!$F$7,C1309)","v":0}]
[{"$f":"IF(C1310<>\"na\",C1310/Configurations!$F$7,C1310)","v":0}]
[{"$f":"IF(C1311<>\"na\",C1311/Configurations!$F$7,C1311)","v":0}]
[{"$f":"IF(C1312<>\"na\",C1312/Configurations!$F$7,C1312)","v":0}]
[{"$f":"IF(C1313<>\"na\",C1313/Configurations!$F$7,C1313)","v":0}]
[{"$f":"IF(C1314<>\"na\",C1314/Configurations!$F$7,C1314)","v":0}]
[{"$f":"IF(C1315<>\"na\",C1315/Configurations!$F$7,C1315)","v":0}]
[{"$f":"IF(C1316<>\"na\",C1316/Configurations!$F$7,C1316)","v":0}]
[{"$f":"IF(C1317<>\"na\",C1317/Configurations!$F$7,C1317)","v":0}]
[{"$f":"IF(C1318<>\"na\",C1318/Configurations!$F$7,C1318)","v":0}]
[{"$f":"IF(C1319<>\"na\",C1319/Configurations!$F$7,C1319)","v":0}]
[{"$f":"IF(C1320<>\"na\",C1320/Configurations!$F$7,C1320)","v":0}]
[{"$f":"IF(C1321<>\"na\",C1321/Configurations!$F$7,C1321)","v":0}]
[{"$f":"IF(C1322<>\"na\",C1322/Configurations!$F$7,C1322)","v":0}]
[{"$f":"IF(C1323<>\"na\",C1323/Configurations!$F$7,C1323)","v":0}]
[{"$f":"IF(C1324<>\"na\",C1324/Configurations!$F$7,C1324)","v":0}]
[{"$f":"IF(C1325<>\"na\",C1325/Configurations!$F$7,C1325)","v":0}]
[{"$f":"IF(C1326<>\"na\",C1326/Configurations!$F$7,C1326)","v":0}]
[{"$f":"IF(C1327<>\"na\",C1327/Configurations!$F$7,C1327)","v":0}]
[{"$f":"IF(C1328<>\"na\",C1328/Configurations!$F$7,C1328)","v":0}]
[{"$f":"IF(C1329<>\"na\",C1329/Configurations!$F$7,C1329)","v":0}]
[{"$f":"IF(C1330<>\"na\",C1330/Configurations!$F$7,C1330)","v":0}]
[{"$f":"IF(C1331<>\"na\",C1331/Configurations!$F$7,C1331)","v":0}]
[{"$f":"IF(C1332<>\"na\",C1332/Configurations!$F$7,C1332)","v":0}]
[{"$f":"IF(C1333<>\"na\",C1333/Configurations!$F$7,C1333)","v":0}]
[{"$f":"IF(C1334<>\"na\",C1334/Configurations!$F$7,C1334)","v":0}]
[{"$f":"IF(C1335<>\"na\",C1335/Configurations!$F$7,C1335)","v":0}]
[{"$f":"IF(C1336<>\"na\",C1336/Configurations!$F$7,C1336)","v":0}]
[{"$f":"IF(C1337<>\"na\",C1337/Configurations!$F$7,C1337)","v":0}]
[{"$f":"IF(C1338<>\"na\",C1338/Configurations!$F$7,C1338)","v":0}]
[{"$f":"IF(C1339<>\"na\",C1339/Configurations!$F$7,C1339)","v":0}]
[{"$f":"IF(C1340<>\"na\",C1340/Configurations!$F$7,C1340)","v":0}]
[{"$f":"IF(C1341<>\"na\",C1341/Configurations!$F$7,C1341)","v":0}]
[{"$f":"IF(C1342<>\"na\",C1342/Configurations!$F$7,C1342)","v":0}]
[{"$f":"IF(C1343<>\"na\",C1343/Configurations!$F$7,C1343)","v":0}]
[{"$f":"IF(C1344<>\"na\",C1344/Configurations!$F$7,C1344)","v":0}]
[{"$f":"IF(C1345<>\"na\",C1345/Configurations!$F$7,C1345)","v":0}]
[{"$f":"IF(C1346<>\"na\",C1346/Configurations!$F$7,C1346)","v":0}]
[{"$f":"IF(C1347<>\"na\",C1347/Configurations!$F$7,C1347)","v":0}]
[{"$f":"IF(C1348<>\"na\",C1348/Configurations!$F$7,C1348)","v":0}]
[{"$f":"IF(C1349<>\"na\",C1349/Configurations!$F$7,C1349)","v":0}]
[{"$f":"IF(C1350<>\"na\",C1350/Configurations!$F$7,C1350)","v":0}]
[{"$f":"IF(C1351<>\"na\",C1351/Configurations!$F$7,C1351)","v":0}]
[{"$f":"IF(C1352<>\"na\",C1352/Configurations!$F$7,C1352)","v":0}]
[{"$f":"IF(C1353<>\"na\",C1353/Configurations!$F$7,C1353)","v":0}]
[{"$f":"IF(C1354<>\"na\",C1354/Configurations!$F$7,C1354)","v":0}]
[{"$f":"IF(C1355<>\"na\",C1355/Configurations!$F$7,C1355)","v":0}]
[{"$f":"IF(C1356<>\"na\",C1356/Configurations!$F$7,C1356)","v":0}]
[{"$f":"IF(C1357<>\"na\",C1357/Configurations!$F$7,C1357)","v":0}]
[{"$f":"IF(C1358<>\"na\",C1358/Configurations!$F$7,C1358)","v":0}]
[{"$f":"IF(C1359<>\"na\",C1359/Configurations!$F$7,C1359)","v":0}]
[{"$f":"IF(C1360<>\"na\",C1360/Configurations!$F$7,C1360)","v":0}]
[{"$f":"IF(C1361<>\"na\",C1361/Configurations!$F$7,C1361)","v":0}]
[{"$f":"IF(C1362<>\"na\",C1362/Configurations!$F$7,C1362)","v":0}]
[{"$f":"IF(C1363<>\"na\",C1363/Configurations!$F$7,C1363)","v":0}]
[{"$f":"IF(C1364<>\"na\",C1364/Configurations!$F$7,C1364)","v":0}]
[{"$f":"IF(C1365<>\"na\",C1365/Configurations!$F$7,C1365)","v":0}]
[{"$f":"IF(C1366<>\"na\",C1366/Configurations!$F$7,C1366)","v":0}]
[{"$f":"IF(C1367<>\"na\",C1367/Configurations!$F$7,C1367)","v":0}]
[{"$f":"IF(C1368<>\"na\",C1368/Configurations!$F$7,C1368)","v":0}]
[{"$f":"IF(C1369<>\"na\",C1369/Configurations!$F$7,C1369)","v":0}]
[{"$f":"IF(C1370<>\"na\",C1370/Configurations!$F$7,C1370)","v":0}]
[{"$f":"IF(C1371<>\"na\",C1371/Configurations!$F$7,C1371)","v":0}]
[{"$f":"IF(C1372<>\"na\",C1372/Configurations!$F$7,C1372)","v":0}]
[{"$f":"IF(C1373<>\"na\",C1373/Configurations!$F$7,C1373)","v":0}]
[{"$f":"IF(C1374<>\"na\",C1374/Configurations!$F$7,C1374)","v":0}]
[{"$f":"IF(C1375<>\"na\",C1375/Configurations!$F$7,C1375)","v":0}]
[{"$f":"IF(C1376<>\"na\",C1376/Configurations!$F$7,C1376)","v":0}]
[{"$f":"IF(C1377<>\"na\",C1377/Configurations!$F$7,C1377)","v":0}]
[{"$f":"IF(C1378<>\"na\",C1378/Configurations!$F$7,C1378)","v":0}]
[{"$f":"IF(C1379<>\"na\",C1379/Configurations!$F$7,C1379)","v":0}]
[{"$f":"IF(C1380<>\"na\",C1380/Configurations!$F$7,C1380)","v":0}]
[{"$f":"IF(C1381<>\"na\",C1381/Configurations!$F$7,C1381)","v":0}]
[{"$f":"IF(C1382<>\"na\",C1382/Configurations!$F$7,C1382)","v":0}]
[{"$f":"IF(C1383<>\"na\",C1383/Configurations!$F$7,C1383)","v":0}]
[{"$f":"IF(C1384<>\"na\",C1384/Configurations!$F$7,C1384)","v":0}]
[{"$f":"IF(C1385<>\"na\",C1385/Configurations!$F$7,C1385)","v":0}]
[{"$f":"IF(C1386<>\"na\",C1386/Configurations!$F$7,C1386)","v":0}]
[{"$f":"IF(C1387<>\"na\",C1387/Configurations!$F$7,C1387)","v":0}]
[{"$f":"IF(C1388<>\"na\",C1388/Configurations!$F$7,C1388)","v":0}]
[{"$f":"IF(C1389<>\"na\",C1389/Configurations!$F$7,C1389)","v":0}]
[{"$f":"IF(C1390<>\"na\",C1390/Configurations!$F$7,C1390)","v":0}]
[{"$f":"IF(C1391<>\"na\",C1391/Configurations!$F$7,C1391)","v":0}]
[{"$f":"IF(C1392<>\"na\",C1392/Configurations!$F$7,C1392)","v":0}]
[{"$f":"IF(C1393<>\"na\",C1393/Configurations!$F$7,C1393)","v":0}]
[{"$f":"IF(C1394<>\"na\",C1394/Configurations!$F$7,C1394)","v":0}]
[{"$f":"IF(C1395<>\"na\",C1395/Configurations!$F$7,C1395)","v":0}]
[{"$f":"IF(C1396<>\"na\",C1396/Configurations!$F$7,C1396)","v":0}]
[{"$f":"IF(C1397<>\"na\",C1397/Configurations!$F$7,C1397)","v":0}]
[{"$f":"IF(C1398<>\"na\",C1398/Configurations!$F$7,C1398)","v":0}]
[{"$f":"IF(C1399<>\"na\",C1399/Configurations!$F$7,C1399)","v":0}]
[{"$f":"IF(C1400<>\"na\",C1400/Configurations!$F$7,C1400)","v":0}]
[{"$f":"IF(C1401<>\"na\",C1401/Configurations!$F$7,C1401)","v":0}]
[{"$f":"IF(C1402<>\"na\",C1402/Configurations!$F$7,C1402)","v":0}]
[{"$f":"IF(C1403<>\"na\",C1403/Configurations!$F$7,C1403)","v":0}]
[{"$f":"IF(C1404<>\"na\",C1404/Configurations!$F$7,C1404)","v":0}]
[{"$f":"IF(C1405<>\"na\",C1405/Configurations!$F$7,C1405)","v":0}]
[{"$f":"IF(C1406<>\"na\",C1406/Configurations!$F$7,C1406)","v":0}]
[{"$f":"IF(C1407<>\"na\",C1407/Configurations!$F$7,C1407)","v":0}]
[{"$f":"IF(C1408<>\"na\",C1408/Configurations!$F$7,C1408)","v":0}]
[{"$f":"IF(C1409<>\"na\",C1409/Configurations!$F$7,C1409)","v":0}]
[{"$f":"IF(C1410<>\"na\",C1410/Configurations!$F$7,C1410)","v":0}]
[{"$f":"IF(C1411<>\"na\",C1411/Configurations!$F$7,C1411)","v":0}]
[{"$f":"IF(C1412<>\"na\",C1412/Configurations!$F$7,C1412)","v":0}]
[{"$f":"IF(C1413<>\"na\",C1413/Configurations!$F$7,C1413)","v":0}]
[{"$f":"IF(C1414<>\"na\",C1414/Configurations!$F$7,C1414)","v":0}]
[{"$f":"IF(C1415<>\"na\",C1415/Configurations!$F$7,C1415)","v":0}]
[{"$f":"IF(C1416<>\"na\",C1416/Configurations!$F$7,C1416)","v":0}]
[{"$f":"IF(C1417<>\"na\",C1417/Configurations!$F$7,C1417)","v":0}]
[{"$f":"IF(C1418<>\"na\",C1418/Configurations!$F$7,C1418)","v":0}]
[{"$f":"IF(C1419<>\"na\",C1419/Configurations!$F$7,C1419)","v":0}]
[{"$f":"IF(C1420<>\"na\",C1420/Configurations!$F$7,C1420)","v":0}]
[{"$f":"IF(C1421<>\"na\",C1421/Configurations!$F$7,C1421)","v":0}]
[{"$f":"IF(C1422<>\"na\",C1422/Configurations!$F$7,C1422)","v":0}]
[{"$f":"IF(C1423<>\"na\",C1423/Configurations!$F$7,C1423)","v":0}]
[{"$f":"IF(C1424<>\"na\",C1424/Configurations!$F$7,C1424)","v":0}]
[{"$f":"IF(C1425<>\"na\",C1425/Configurations!$F$7,C1425)","v":0}]
[{"$f":"IF(C1426<>\"na\",C1426/Configurations!$F$7,C1426)","v":0}]
[{"$f":"IF(C1427<>\"na\",C1427/Configurations!$F$7,C1427)","v":0}]
[{"$f":"IF(C1428<>\"na\",C1428/Configurations!$F$7,C1428)","v":0}]
[{"$f":"IF(C1429<>\"na\",C1429/Configurations!$F$7,C1429)","v":0}]
[{"$f":"IF(C1430<>\"na\",C1430/Configurations!$F$7,C1430)","v":0}]
[{"$f":"IF(C1431<>\"na\",C1431/Configurations!$F$7,C1431)","v":0}]
[{"$f":"IF(C1432<>\"na\",C1432/Configurations!$F$7,C1432)","v":0}]
[{"$f":"IF(C1433<>\"na\",C1433/Configurations!$F$7,C1433)","v":0}]
[{"$f":"IF(C1434<>\"na\",C1434/Configurations!$F$7,C1434)","v":0}]
[{"$f":"IF(C1435<>\"na\",C1435/Configurations!$F$7,C1435)","v":0}]
[{"$f":"IF(C1436<>\"na\",C1436/Configurations!$F$7,C1436)","v":0}]
[{"$f":"IF(C1437<>\"na\",C1437/Configurations!$F$7,C1437)","v":0}]
[{"$f":"IF(C1438<>\"na\",C1438/Configurations!$F$7,C1438)","v":0}]
[{"$f":"IF(C1439<>\"na\",C1439/Configurations!$F$7,C1439)","v":0}]
[{"$f":"IF(C1440<>\"na\",C1440/Configurations!$F$7,C1440)","v":0}]
[{"$f":"IF(C1441<>\"na\",C1441/Configurations!$F$7,C1441)","v":0}]
[{"$f":"IF(C1442<>\"na\",C1442/Configurations!$F$7,C1442)","v":0}]
[{"$f":"IF(C1443<>\"na\",C1443/Configurations!$F$7,C1443)","v":0}]
[{"$f":"IF(C1444<>\"na\",C1444/Configurations!$F$7,C1444)","v":0}]
[{"$f":"IF(C1445<>\"na\",C1445/Configurations!$F$7,C1445)","v":0}]
[{"$f":"IF(C1446<>\"na\",C1446/Configurations!$F$7,C1446)","v":0}]
[{"$f":"IF(C1447<>\"na\",C1447/Configurations!$F$7,C1447)","v":0}]
[{"$f":"IF(C1448<>\"na\",C1448/Configurations!$F$7,C1448)","v":0}]
[{"$f":"IF(C1449<>\"na\",C1449/Configurations!$F$7,C1449)","v":0}]
[{"$f":"IF(C1450<>\"na\",C1450/Configurations!$F$7,C1450)","v":0}]
[{"$f":"IF(C1451<>\"na\",C1451/Configurations!$F$7,C1451)","v":0}]
[{"$f":"IF(C1452<>\"na\",C1452/Configurations!$F$7,C1452)","v":0}]
[{"$f":"IF(C1453<>\"na\",C1453/Configurations!$F$7,C1453)","v":0}]
[{"$f":"IF(C1454<>\"na\",C1454/Configurations!$F$7,C1454)","v":0}]
[{"$f":"IF(C1455<>\"na\",C1455/Configurations!$F$7,C1455)","v":0}]
[{"$f":"IF(C1456<>\"na\",C1456/Configurations!$F$7,C1456)","v":0}]
[{"$f":"IF(C1457<>\"na\",C1457/Configurations!$F$7,C1457)","v":0}]
[{"$f":"IF(C1458<>\"na\",C1458/Configurations!$F$7,C1458)","v":0}]
[{"$f":"IF(C1459<>\"na\",C1459/Configurations!$F$7,C1459)","v":0}]
[{"$f":"IF(C1460<>\"na\",C1460/Configurations!$F$7,C1460)","v":0}]
[{"$f":"IF(C1461<>\"na\",C1461/Configurations!$F$7,C1461)","v":0}]
[{"$f":"IF(C1462<>\"na\",C1462/Configurations!$F$7,C1462)","v":0}]
[{"$f":"IF(C1463<>\"na\",C1463/Configurations!$F$7,C1463)","v":0}]
[{"$f":"IF(C1464<>\"na\",C1464/Configurations!$F$7,C1464)","v":0}]
[{"$f":"IF(C1465<>\"na\",C1465/Configurations!$F$7,C1465)","v":0}]
[{"$f":"IF(C1466<>\"na\",C1466/Configurations!$F$7,C1466)","v":0}]
[{"$f":"IF(C1467<>\"na\",C1467/Configurations!$F$7,C1467)","v":0}]
[{"$f":"IF(C1468<>\"na\",C1468/Configurations!$F$7,C1468)","v":0}]
[{"$f":"IF(C1469<>\"na\",C1469/Configurations!$F$7,C1469)","v":0}]
[{"$f":"IF(C1470<>\"na\",C1470/Configurations!$F$7,C1470)","v":0}]
[{"$f":"IF(C1471<>\"na\",C1471/Configurations!$F$7,C1471)","v":0}]
[{"$f":"IF(C1472<>\"na\",C1472/Configurations!$F$7,C1472)","v":0}]
[{"$f":"IF(C1473<>\"na\",C1473/Configurations!$F$7,C1473)","v":0}]
[{"$f":"IF(C1474<>\"na\",C1474/Configurations!$F$7,C1474)","v":0}]
[{"$f":"IF(C1475<>\"na\",C1475/Configurations!$F$7,C1475)","v":0}]
[{"$f":"IF(C1476<>\"na\",C1476/Configurations!$F$7,C1476)","v":0}]
[{"$f":"IF(C1477<>\"na\",C1477/Configurations!$F$7,C1477)","v":0}]
[{"$f":"IF(C1478<>\"na\",C1478/Configurations!$F$7,C1478)","v":0}]
[{"$f":"IF(C1479<>\"na\",C1479/Configurations!$F$7,C1479)","v":0}]
[{"$f":"IF(C1480<>\"na\",C1480/Configurations!$F$7,C1480)","v":0}]
[{"$f":"IF(C1481<>\"na\",C1481/Configurations!$F$7,C1481)","v":0}]
[{"$f":"IF(C1482<>\"na\",C1482/Configurations!$F$7,C1482)","v":0}]
[{"$f":"IF(C1483<>\"na\",C1483/Configurations!$F$7,C1483)","v":0}]
[{"$f":"IF(C1484<>\"na\",C1484/Configurations!$F$7,C1484)","v":0}]
[{"$f":"IF(C1485<>\"na\",C1485/Configurations!$F$7,C1485)","v":0}]
[{"$f":"IF(C1486<>\"na\",C1486/Configurations!$F$7,C1486)","v":0}]
[{"$f":"IF(C1487<>\"na\",C1487/Configurations!$F$7,C1487)","v":0}]
[{"$f":"IF(C1488<>\"na\",C1488/Configurations!$F$7,C1488)","v":0}]
[{"$f":"IF(C1489<>\"na\",C1489/Configurations!$F$7,C1489)","v":0}]
[{"$f":"IF(C1490<>\"na\",C1490/Configurations!$F$7,C1490)","v":0}]
[{"$f":"IF(C1491<>\"na\",C1491/Configurations!$F$7,C1491)","v":0}]
[{"$f":"IF(C1492<>\"na\",C1492/Configurations!$F$7,C1492)","v":0}]
[{"$f":"IF(C1493<>\"na\",C1493/Configurations!$F$7,C1493)","v":0}]
[{"$f":"IF(C1494<>\"na\",C1494/Configurations!$F$7,C1494)","v":0}]
[{"$f":"IF(C1495<>\"na\",C1495/Configurations!$F$7,C1495)","v":0}]
[{"$f":"IF(C1496<>\"na\",C1496/Configurations!$F$7,C1496)","v":0}]
[{"$f":"IF(C1497<>\"na\",C1497/Configurations!$F$7,C1497)","v":0}]
[{"$f":"IF(C1498<>\"na\",C1498/Configurations!$F$7,C1498)","v":0}]
[{"$f":"IF(C1499<>\"na\",C1499/Configurations!$F$7,C1499)","v":0}]
[{"$f":"IF(C1500<>\"na\",C1500/Configurations!$F$7,C1500)","v":0}]
[{"$f":"IF(C1501<>\"na\",C1501/Configurations!$F$7,C1501)","v":0}]
[{"$f":"IF(C1502<>\"na\",C1502/Configurations!$F$7,C1502)","v":0}]
[{"$f":"IF(C1503<>\"na\",C1503/Configurations!$F$7,C1503)","v":0}]
[{"$f":"IF(C1504<>\"na\",C1504/Configurations!$F$7,C1504)","v":0}]
[{"$f":"IF(C1505<>\"na\",C1505/Configurations!$F$7,C1505)","v":0}]
[{"$f":"IF(C1506<>\"na\",C1506/Configurations!$F$7,C1506)","v":0}]
[{"$f":"IF(C1507<>\"na\",C1507/Configurations!$F$7,C1507)","v":0}]
[{"$f":"IF(C1508<>\"na\",C1508/Configurations!$F$7,C1508)","v":0}]
[{"$f":"IF(C1509<>\"na\",C1509/Configurations!$F$7,C1509)","v":0}]
[{"$f":"IF(C1510<>\"na\",C1510/Configurations!$F$7,C1510)","v":0}]
[{"$f":"IF(C1511<>\"na\",C1511/Configurations!$F$7,C1511)","v":0}]
[{"$f":"IF(C1512<>\"na\",C1512/Configurations!$F$7,C1512)","v":0}]
[{"$f":"IF(C1513<>\"na\",C1513/Configurations!$F$7,C1513)","v":0}]
[{"$f":"IF(C1514<>\"na\",C1514/Configurations!$F$7,C1514)","v":0}]
[{"$f":"IF(C1515<>\"na\",C1515/Configurations!$F$7,C1515)","v":0}]
[{"$f":"IF(C1516<>\"na\",C1516/Configurations!$F$7,C1516)","v":0}]
[{"$f":"IF(C1517<>\"na\",C1517/Configurations!$F$7,C1517)","v":0}]
[{"$f":"IF(C1518<>\"na\",C1518/Configurations!$F$7,C1518)","v":0}]
[{"$f":"IF(C1519<>\"na\",C1519/Configurations!$F$7,C1519)","v":0}]
[{"$f":"IF(C1520<>\"na\",C1520/Configurations!$F$7,C1520)","v":0}]
[{"$f":"IF(C1521<>\"na\",C1521/Configurations!$F$7,C1521)","v":0}]
[{"$f":"IF(C1522<>\"na\",C1522/Configurations!$F$7,C1522)","v":0}]
[{"$f":"IF(C1523<>\"na\",C1523/Configurations!$F$7,C1523)","v":0}]
[{"$f":"IF(C1524<>\"na\",C1524/Configurations!$F$7,C1524)","v":0}]
[{"$f":"IF(C1525<>\"na\",C1525/Configurations!$F$7,C1525)","v":0}]
[{"$f":"IF(C1526<>\"na\",C1526/Configurations!$F$7,C1526)","v":0}]
[{"$f":"IF(C1527<>\"na\",C1527/Configurations!$F$7,C1527)","v":0}]
[{"$f":"IF(C1528<>\"na\",C1528/Configurations!$F$7,C1528)","v":0}]
[{"$f":"IF(C1529<>\"na\",C1529/Configurations!$F$7,C1529)","v":0}]
[{"$f":"IF(C1530<>\"na\",C1530/Configurations!$F$7,C1530)","v":0}]
[{"$f":"IF(C1531<>\"na\",C1531/Configurations!$F$7,C1531)","v":0}]
[{"$f":"IF(C1532<>\"na\",C1532/Configurations!$F$7,C1532)","v":0}]
[{"$f":"IF(C1533<>\"na\",C1533/Configurations!$F$7,C1533)","v":0}]
[{"$f":"IF(C1534<>\"na\",C1534/Configurations!$F$7,C1534)","v":0}]
[{"$f":"IF(C1535<>\"na\",C1535/Configurations!$F$7,C1535)","v":0}]
[{"$f":"IF(C1536<>\"na\",C1536/Configurations!$F$7,C1536)","v":0}]
[{"$f":"IF(C1537<>\"na\",C1537/Configurations!$F$7,C1537)","v":0}]
[{"$f":"IF(C1538<>\"na\",C1538/Configurations!$F$7,C1538)","v":0}]
[{"$f":"IF(C1539<>\"na\",C1539/Configurations!$F$7,C1539)","v":0}]
[{"$f":"IF(C1540<>\"na\",C1540/Configurations!$F$7,C1540)","v":0}]
[{"$f":"IF(C1541<>\"na\",C1541/Configurations!$F$7,C1541)","v":0}]
[{"$f":"IF(C1542<>\"na\",C1542/Configurations!$F$7,C1542)","v":0}]
[{"$f":"IF(C1543<>\"na\",C1543/Configurations!$F$7,C1543)","v":0}]
[{"$f":"IF(C1544<>\"na\",C1544/Configurations!$F$7,C1544)","v":0}]
[{"$f":"IF(C1545<>\"na\",C1545/Configurations!$F$7,C1545)","v":0}]
[{"$f":"IF(C1546<>\"na\",C1546/Configurations!$F$7,C1546)","v":0}]
[{"$f":"IF(C1547<>\"na\",C1547/Configurations!$F$7,C1547)","v":0}]
[{"$f":"IF(C1548<>\"na\",C1548/Configurations!$F$7,C1548)","v":0}]
[{"$f":"IF(C1549<>\"na\",C1549/Configurations!$F$7,C1549)","v":0}]
[{"$f":"IF(C1550<>\"na\",C1550/Configurations!$F$7,C1550)","v":0}]
[{"$f":"IF(C1551<>\"na\",C1551/Configurations!$F$7,C1551)","v":0}]
[{"$f":"IF(C1552<>\"na\",C1552/Configurations!$F$7,C1552)","v":0}]
[{"$f":"IF(C1553<>\"na\",C1553/Configurations!$F$7,C1553)","v":0}]
[{"$f":"IF(C1554<>\"na\",C1554/Configurations!$F$7,C1554)","v":0}]
[{"$f":"IF(C1555<>\"na\",C1555/Configurations!$F$7,C1555)","v":0}]
[{"$f":"IF(C1556<>\"na\",C1556/Configurations!$F$7,C1556)","v":0}]
[{"$f":"IF(C1557<>\"na\",C1557/Configurations!$F$7,C1557)","v":0}]
[{"$f":"IF(C1558<>\"na\",C1558/Configurations!$F$7,C1558)","v":0}]
[{"$f":"IF(C1559<>\"na\",C1559/Configurations!$F$7,C1559)","v":0}]
[{"$f":"IF(C1560<>\"na\",C1560/Configurations!$F$7,C1560)","v":0}]
[{"$f":"IF(C1561<>\"na\",C1561/Configurations!$F$7,C1561)","v":0}]
[{"$f":"IF(C1562<>\"na\",C1562/Configurations!$F$7,C1562)","v":0}]
[{"$f":"IF(C1563<>\"na\",C1563/Configurations!$F$7,C1563)","v":0}]
[{"$f":"IF(C1564<>\"na\",C1564/Configurations!$F$7,C1564)","v":0}]
[{"$f":"IF(C1565<>\"na\",C1565/Configurations!$F$7,C1565)","v":0}]
[{"$f":"IF(C1566<>\"na\",C1566/Configurations!$F$7,C1566)","v":0}]
[{"$f":"IF(C1567<>\"na\",C1567/Configurations!$F$7,C1567)","v":0}]
[{"$f":"IF(C1568<>\"na\",C1568/Configurations!$F$7,C1568)","v":0}]
[{"$f":"IF(C1569<>\"na\",C1569/Configurations!$F$7,C1569)","v":0}]
[{"$f":"IF(C1570<>\"na\",C1570/Configurations!$F$7,C1570)","v":0}]
[{"$f":"IF(C1571<>\"na\",C1571/Configurations!$F$7,C1571)","v":0}]
[{"$f":"IF(C1572<>\"na\",C1572/Configurations!$F$7,C1572)","v":0}]
[{"$f":"IF(C1573<>\"na\",C1573/Configurations!$F$7,C1573)","v":0}]
[{"$f":"IF(C1574<>\"na\",C1574/Configurations!$F$7,C1574)","v":0}]
[{"$f":"IF(C1575<>\"na\",C1575/Configurations!$F$7,C1575)","v":0}]
[{"$f":"IF(C1576<>\"na\",C1576/Configurations!$F$7,C1576)","v":0}]
[{"$f":"IF(C1577<>\"na\",C1577/Configurations!$F$7,C1577)","v":0}]
[{"$f":"IF(C1578<>\"na\",C1578/Configurations!$F$7,C1578)","v":0}]
[{"$f":"IF(C1579<>\"na\",C1579/Configurations!$F$7,C1579)","v":0}]
[{"$f":"IF(C1580<>\"na\",C1580/Configurations!$F$7,C1580)","v":0}]
[{"$f":"IF(C1581<>\"na\",C1581/Configurations!$F$7,C1581)","v":0}]
[{"$f":"IF(C1582<>\"na\",C1582/Configurations!$F$7,C1582)","v":0}]
[{"$f":"IF(C1583<>\"na\",C1583/Configurations!$F$7,C1583)","v":0}]
[{"$f":"IF(C1584<>\"na\",C1584/Configurations!$F$7,C1584)","v":0}]
[{"$f":"IF(C1585<>\"na\",C1585/Configurations!$F$7,C1585)","v":0}]
[{"$f":"IF(C1586<>\"na\",C1586/Configurations!$F$7,C1586)","v":0}]
[{"$f":"IF(C1587<>\"na\",C1587/Configurations!$F$7,C1587)","v":0}]
[{"$f":"IF(C1588<>\"na\",C1588/Configurations!$F$7,C1588)","v":0}]
[{"$f":"IF(C1589<>\"na\",C1589/Configurations!$F$7,C1589)","v":0}]
[{"$f":"IF(C1590<>\"na\",C1590/Configurations!$F$7,C1590)","v":0}]
[{"$f":"IF(C1591<>\"na\",C1591/Configurations!$F$7,C1591)","v":0}]
[{"$f":"IF(C1592<>\"na\",C1592/Configurations!$F$7,C1592)","v":0}]
[{"$f":"IF(C1593<>\"na\",C1593/Configurations!$F$7,C1593)","v":0}]
[{"$f":"IF(C1594<>\"na\",C1594/Configurations!$F$7,C1594)","v":0}]
[{"$f":"IF(C1595<>\"na\",C1595/Configurations!$F$7,C1595)","v":0}]
[{"$f":"IF(C1596<>\"na\",C1596/Configurations!$F$7,C1596)","v":0}]
[{"$f":"IF(C1597<>\"na\",C1597/Configurations!$F$7,C1597)","v":0}]
[{"$f":"IF(C1598<>\"na\",C1598/Configurations!$F$7,C1598)","v":0}]
[{"$f":"IF(C1599<>\"na\",C1599/Configurations!$F$7,C1599)","v":0}]
[{"$f":"IF(C1600<>\"na\",C1600/Configurations!$F$7,C1600)","v":0}]
[{"$f":"IF(C1601<>\"na\",C1601/Configurations!$F$7,C1601)","v":0}]
[{"$f":"IF(C1602<>\"na\",C1602/Configurations!$F$7,C1602)","v":0}]
[{"$f":"IF(C1603<>\"na\",C1603/Configurations!$F$7,C1603)","v":0}]
[{"$f":"IF(C1604<>\"na\",C1604/Configurations!$F$7,C1604)","v":0}]
[{"$f":"IF(C1605<>\"na\",C1605/Configurations!$F$7,C1605)","v":0}]
[{"$f":"IF(C1606<>\"na\",C1606/Configurations!$F$7,C1606)","v":0}]
[{"$f":"IF(C1607<>\"na\",C1607/Configurations!$F$7,C1607)","v":0}]
[{"$f":"IF(C1608<>\"na\",C1608/Configurations!$F$7,C1608)","v":0}]
[{"$f":"IF(C1609<>\"na\",C1609/Configurations!$F$7,C1609)","v":0}]
[{"$f":"IF(C1610<>\"na\",C1610/Configurations!$F$7,C1610)","v":0}]
[{"$f":"IF(C1611<>\"na\",C1611/Configurations!$F$7,C1611)","v":0}]
[{"$f":"IF(C1612<>\"na\",C1612/Configurations!$F$7,C1612)","v":0}]
[{"$f":"IF(C1613<>\"na\",C1613/Configurations!$F$7,C1613)","v":0}]
[{"$f":"IF(C1614<>\"na\",C1614/Configurations!$F$7,C1614)","v":0}]
[{"$f":"IF(C1615<>\"na\",C1615/Configurations!$F$7,C1615)","v":0}]
[{"$f":"IF(C1616<>\"na\",C1616/Configurations!$F$7,C1616)","v":0}]
[{"$f":"IF(C1617<>\"na\",C1617/Configurations!$F$7,C1617)","v":0}]
[{"$f":"IF(C1618<>\"na\",C1618/Configurations!$F$7,C1618)","v":0}]
[{"$f":"IF(C1619<>\"na\",C1619/Configurations!$F$7,C1619)","v":0}]
[{"$f":"IF(C1620<>\"na\",C1620/Configurations!$F$7,C1620)","v":0}]
[{"$f":"IF(C1621<>\"na\",C1621/Configurations!$F$7,C1621)","v":0}]
[{"$f":"IF(C1622<>\"na\",C1622/Configurations!$F$7,C1622)","v":0}]
[{"$f":"IF(C1623<>\"na\",C1623/Configurations!$F$7,C1623)","v":0}]
[{"$f":"IF(C1624<>\"na\",C1624/Configurations!$F$7,C1624)","v":0}]
[{"$f":"IF(C1625<>\"na\",C1625/Configurations!$F$7,C1625)","v":0}]
[{"$f":"IF(C1626<>\"na\",C1626/Configurations!$F$7,C1626)","v":0}]
[{"$f":"IF(C1627<>\"na\",C1627/Configurations!$F$7,C1627)","v":0}]
[{"$f":"IF(C1628<>\"na\",C1628/Configurations!$F$7,C1628)","v":0}]
[{"$f":"IF(C1629<>\"na\",C1629/Configurations!$F$7,C1629)","v":0}]
[{"$f":"IF(C1630<>\"na\",C1630/Configurations!$F$7,C1630)","v":0}]
[{"$f":"IF(C1631<>\"na\",C1631/Configurations!$F$7,C1631)","v":0}]
[{"$f":"IF(C1632<>\"na\",C1632/Configurations!$F$7,C1632)","v":0}]
[{"$f":"IF(C1633<>\"na\",C1633/Configurations!$F$7,C1633)","v":0}]
[{"$f":"IF(C1634<>\"na\",C1634/Configurations!$F$7,C1634)","v":0}]
[{"$f":"IF(C1635<>\"na\",C1635/Configurations!$F$7,C1635)","v":0}]
[{"$f":"IF(C1636<>\"na\",C1636/Configurations!$F$7,C1636)","v":0}]
[{"$f":"IF(C1637<>\"na\",C1637/Configurations!$F$7,C1637)","v":0}]
[{"$f":"IF(C1638<>\"na\",C1638/Configurations!$F$7,C1638)","v":0}]
[{"$f":"IF(C1639<>\"na\",C1639/Configurations!$F$7,C1639)","v":0}]
[{"$f":"IF(C1640<>\"na\",C1640/Configurations!$F$7,C1640)","v":0}]
[{"$f":"IF(C1641<>\"na\",C1641/Configurations!$F$7,C1641)","v":0}]
[{"$f":"IF(C1642<>\"na\",C1642/Configurations!$F$7,C1642)","v":0}]
[{"$f":"IF(C1643<>\"na\",C1643/Configurations!$F$7,C1643)","v":0}]
[{"$f":"IF(C1644<>\"na\",C1644/Configurations!$F$7,C1644)","v":0}]
[{"$f":"IF(C1645<>\"na\",C1645/Configurations!$F$7,C1645)","v":0}]
[{"$f":"IF(C1646<>\"na\",C1646/Configurations!$F$7,C1646)","v":0}]
[{"$f":"IF(C1647<>\"na\",C1647/Configurations!$F$7,C1647)","v":0}]
[{"$f":"IF(C1648<>\"na\",C1648/Configurations!$F$7,C1648)","v":0}]
[{"$f":"IF(C1649<>\"na\",C1649/Configurations!$F$7,C1649)","v":0}]
[{"$f":"IF(C1650<>\"na\",C1650/Configurations!$F$7,C1650)","v":0}]
[{"$f":"IF(C1651<>\"na\",C1651/Configurations!$F$7,C1651)","v":0}]
[{"$f":"IF(C1652<>\"na\",C1652/Configurations!$F$7,C1652)","v":0}]
[{"$f":"IF(C1653<>\"na\",C1653/Configurations!$F$7,C1653)","v":0}]
[{"$f":"IF(C1654<>\"na\",C1654/Configurations!$F$7,C1654)","v":0}]
[{"$f":"IF(C1655<>\"na\",C1655/Configurations!$F$7,C1655)","v":0}]
[{"$f":"IF(C1656<>\"na\",C1656/Configurations!$F$7,C1656)","v":0}]
[{"$f":"IF(C1657<>\"na\",C1657/Configurations!$F$7,C1657)","v":0}]
[{"$f":"IF(C1658<>\"na\",C1658/Configurations!$F$7,C1658)","v":0}]
[{"$f":"IF(C1659<>\"na\",C1659/Configurations!$F$7,C1659)","v":0}]
[{"$f":"IF(C1660<>\"na\",C1660/Configurations!$F$7,C1660)","v":0}]
[{"$f":"IF(C1661<>\"na\",C1661/Configurations!$F$7,C1661)","v":0}]
[{"$f":"IF(C1662<>\"na\",C1662/Configurations!$F$7,C1662)","v":0}]
[{"$f":"IF(C1663<>\"na\",C1663/Configurations!$F$7,C1663)","v":0}]
[{"$f":"IF(C1664<>\"na\",C1664/Configurations!$F$7,C1664)","v":0}]
[{"$f":"IF(C1665<>\"na\",C1665/Configurations!$F$7,C1665)","v":0}]
[{"$f":"IF(C1666<>\"na\",C1666/Configurations!$F$7,C1666)","v":0}]
[{"$f":"IF(C1667<>\"na\",C1667/Configurations!$F$7,C1667)","v":0}]
[{"$f":"IF(C1668<>\"na\",C1668/Configurations!$F$7,C1668)","v":0}]
[{"$f":"IF(C1669<>\"na\",C1669/Configurations!$F$7,C1669)","v":0}]
[{"$f":"IF(C1670<>\"na\",C1670/Configurations!$F$7,C1670)","v":0}]
[{"$f":"IF(C1671<>\"na\",C1671/Configurations!$F$7,C1671)","v":0}]
[{"$f":"IF(C1672<>\"na\",C1672/Configurations!$F$7,C1672)","v":0}]
[{"$f":"IF(C1673<>\"na\",C1673/Configurations!$F$7,C1673)","v":0}]
[{"$f":"IF(C1674<>\"na\",C1674/Configurations!$F$7,C1674)","v":0}]
[{"$f":"IF(C1675<>\"na\",C1675/Configurations!$F$7,C1675)","v":0}]
[{"$f":"IF(C1676<>\"na\",C1676/Configurations!$F$7,C1676)","v":0}]
[{"$f":"IF(C1677<>\"na\",C1677/Configurations!$F$7,C1677)","v":0}]
[{"$f":"IF(C1678<>\"na\",C1678/Configurations!$F$7,C1678)","v":0}]
[{"$f":"IF(C1679<>\"na\",C1679/Configurations!$F$7,C1679)","v":0}]
[{"$f":"IF(C1680<>\"na\",C1680/Configurations!$F$7,C1680)","v":0}]
[{"$f":"IF(C1681<>\"na\",C1681/Configurations!$F$7,C1681)","v":0}]
[{"$f":"IF(C1682<>\"na\",C1682/Configurations!$F$7,C1682)","v":0}]
[{"$f":"IF(C1683<>\"na\",C1683/Configurations!$F$7,C1683)","v":0}]
[{"$f":"IF(C1684<>\"na\",C1684/Configurations!$F$7,C1684)","v":0}]
[{"$f":"IF(C1685<>\"na\",C1685/Configurations!$F$7,C1685)","v":0}]
[{"$f":"IF(C1686<>\"na\",C1686/Configurations!$F$7,C1686)","v":0}]
[{"$f":"IF(C1687<>\"na\",C1687/Configurations!$F$7,C1687)","v":0}]
[{"$f":"IF(C1688<>\"na\",C1688/Configurations!$F$7,C1688)","v":0}]
[{"$f":"IF(C1689<>\"na\",C1689/Configurations!$F$7,C1689)","v":0}]
[{"$f":"IF(C1690<>\"na\",C1690/Configurations!$F$7,C1690)","v":0}]
[{"$f":"IF(C1691<>\"na\",C1691/Configurations!$F$7,C1691)","v":0}]
[{"$f":"IF(C1692<>\"na\",C1692/Configurations!$F$7,C1692)","v":0}]
[{"$f":"IF(C1693<>\"na\",C1693/Configurations!$F$7,C1693)","v":0}]
[{"$f":"IF(C1694<>\"na\",C1694/Configurations!$F$7,C1694)","v":0}]
[{"$f":"IF(C1695<>\"na\",C1695/Configurations!$F$7,C1695)","v":0}]
[{"$f":"IF(C1696<>\"na\",C1696/Configurations!$F$7,C1696)","v":0}]
[{"$f":"IF(C1697<>\"na\",C1697/Configurations!$F$7,C1697)","v":0}]
[{"$f":"IF(C1698<>\"na\",C1698/Configurations!$F$7,C1698)","v":0}]
[{"$f":"IF(C1699<>\"na\",C1699/Configurations!$F$7,C1699)","v":0}]
[{"$f":"IF(C1700<>\"na\",C1700/Configurations!$F$7,C1700)","v":0}]
[{"$f":"IF(C1701<>\"na\",C1701/Configurations!$F$7,C1701)","v":0}]
[{"$f":"IF(C1702<>\"na\",C1702/Configurations!$F$7,C1702)","v":0}]
[{"$f":"IF(C1703<>\"na\",C1703/Configurations!$F$7,C1703)","v":0}]
[{"$f":"IF(C1704<>\"na\",C1704/Configurations!$F$7,C1704)","v":0}]
[{"$f":"IF(C1705<>\"na\",C1705/Configurations!$F$7,C1705)","v":0}]
[{"$f":"IF(C1706<>\"na\",C1706/Configurations!$F$7,C1706)","v":0}]
[{"$f":"IF(C1707<>\"na\",C1707/Configurations!$F$7,C1707)","v":0}]
[{"$f":"IF(C1708<>\"na\",C1708/Configurations!$F$7,C1708)","v":0}]
[{"$f":"IF(C1709<>\"na\",C1709/Configurations!$F$7,C1709)","v":0}]
[{"$f":"IF(C1710<>\"na\",C1710/Configurations!$F$7,C1710)","v":0}]
[{"$f":"IF(C1711<>\"na\",C1711/Configurations!$F$7,C1711)","v":0}]
[{"$f":"IF(C1712<>\"na\",C1712/Configurations!$F$7,C1712)","v":0}]
[{"$f":"IF(C1713<>\"na\",C1713/Configurations!$F$7,C1713)","v":0}]
[{"$f":"IF(C1714<>\"na\",C1714/Configurations!$F$7,C1714)","v":0}]
[{"$f":"IF(C1715<>\"na\",C1715/Configurations!$F$7,C1715)","v":0}]
[{"$f":"IF(C1716<>\"na\",C1716/Configurations!$F$7,C1716)","v":0}]
[{"$f":"IF(C1717<>\"na\",C1717/Configurations!$F$7,C1717)","v":0}]
[{"$f":"IF(C1718<>\"na\",C1718/Configurations!$F$7,C1718)","v":0}]
[{"$f":"IF(C1719<>\"na\",C1719/Configurations!$F$7,C1719)","v":0}]
[{"$f":"IF(C1720<>\"na\",C1720/Configurations!$F$7,C1720)","v":0}]
[{"$f":"IF(C1721<>\"na\",C1721/Configurations!$F$7,C1721)","v":0}]
[{"$f":"IF(C1722<>\"na\",C1722/Configurations!$F$7,C1722)","v":0}]
[{"$f":"IF(C1723<>\"na\",C1723/Configurations!$F$7,C1723)","v":0}]
[{"$f":"IF(C1724<>\"na\",C1724/Configurations!$F$7,C1724)","v":0}]
[{"$f":"IF(C1725<>\"na\",C1725/Configurations!$F$7,C1725)","v":0}]
[{"$f":"IF(C1726<>\"na\",C1726/Configurations!$F$7,C1726)","v":0}]
[{"$f":"IF(C1727<>\"na\",C1727/Configurations!$F$7,C1727)","v":0}]
[{"$f":"IF(C1728<>\"na\",C1728/Configurations!$F$7,C1728)","v":0}]
[{"$f":"IF(C1729<>\"na\",C1729/Configurations!$F$7,C1729)","v":0}]
[{"$f":"IF(C1730<>\"na\",C1730/Configurations!$F$7,C1730)","v":0}]
[{"$f":"IF(C1731<>\"na\",C1731/Configurations!$F$7,C1731)","v":0}]
[{"$f":"IF(C1732<>\"na\",C1732/Configurations!$F$7,C1732)","v":0}]
[{"$f":"IF(C1733<>\"na\",C1733/Configurations!$F$7,C1733)","v":0}]
[{"$f":"IF(C1734<>\"na\",C1734/Configurations!$F$7,C1734)","v":0}]
[{"$f":"IF(C1735<>\"na\",C1735/Configurations!$F$7,C1735)","v":0}]
[{"$f":"IF(C1736<>\"na\",C1736/Configurations!$F$7,C1736)","v":0}]
[{"$f":"IF(C1737<>\"na\",C1737/Configurations!$F$7,C1737)","v":0}]
[{"$f":"IF(C1738<>\"na\",C1738/Configurations!$F$7,C1738)","v":0}]
[{"$f":"IF(C1739<>\"na\",C1739/Configurations!$F$7,C1739)","v":0}]
[{"$f":"IF(C1740<>\"na\",C1740/Configurations!$F$7,C1740)","v":0}]
[{"$f":"IF(C1741<>\"na\",C1741/Configurations!$F$7,C1741)","v":0}]
[{"$f":"IF(C1742<>\"na\",C1742/Configurations!$F$7,C1742)","v":0}]
[{"$f":"IF(C1743<>\"na\",C1743/Configurations!$F$7,C1743)","v":0}]
[{"$f":"IF(C1744<>\"na\",C1744/Configurations!$F$7,C1744)","v":0}]
[{"$f":"IF(C1745<>\"na\",C1745/Configurations!$F$7,C1745)","v":0}]
[{"$f":"IF(C1746<>\"na\",C1746/Configurations!$F$7,C1746)","v":0}]
[{"$f":"IF(C1747<>\"na\",C1747/Configurations!$F$7,C1747)","v":0}]
[{"$f":"IF(C1748<>\"na\",C1748/Configurations!$F$7,C1748)","v":0}]
[{"$f":"IF(C1749<>\"na\",C1749/Configurations!$F$7,C1749)","v":0}]
[{"$f":"IF(C1750<>\"na\",C1750/Configurations!$F$7,C1750)","v":0}]
[{"$f":"IF(C1751<>\"na\",C1751/Configurations!$F$7,C1751)","v":0}]
[{"$f":"IF(C1752<>\"na\",C1752/Configurations!$F$7,C1752)","v":0}]
[{"$f":"IF(C1753<>\"na\",C1753/Configurations!$F$7,C1753)","v":0}]
[{"$f":"IF(C1754<>\"na\",C1754/Configurations!$F$7,C1754)","v":0}]
[{"$f":"IF(C1755<>\"na\",C1755/Configurations!$F$7,C1755)","v":0}]
[{"$f":"IF(C1756<>\"na\",C1756/Configurations!$F$7,C1756)","v":0}]
[{"$f":"IF(C1757<>\"na\",C1757/Configurations!$F$7,C1757)","v":0}]
[{"$f":"IF(C1758<>\"na\",C1758/Configurations!$F$7,C1758)","v":0}]
[{"$f":"IF(C1759<>\"na\",C1759/Configurations!$F$7,C1759)","v":0}]
[{"$f":"IF(C1760<>\"na\",C1760/Configurations!$F$7,C1760)","v":0}]
[{"$f":"IF(C1761<>\"na\",C1761/Configurations!$F$7,C1761)","v":0}]
[{"$f":"IF(C1762<>\"na\",C1762/Configurations!$F$7,C1762)","v":0}]
[{"$f":"IF(C1763<>\"na\",C1763/Configurations!$F$7,C1763)","v":0}]
[{"$f":"IF(C1764<>\"na\",C1764/Configurations!$F$7,C1764)","v":0}]
[{"$f":"IF(C1765<>\"na\",C1765/Configurations!$F$7,C1765)","v":0}]
[{"$f":"IF(C1766<>\"na\",C1766/Configurations!$F$7,C1766)","v":0}]
[{"$f":"IF(C1767<>\"na\",C1767/Configurations!$F$7,C1767)","v":0}]
[{"$f":"IF(C1768<>\"na\",C1768/Configurations!$F$7,C1768)","v":0}]
[{"$f":"IF(C1769<>\"na\",C1769/Configurations!$F$7,C1769)","v":0}]
[{"$f":"IF(C1770<>\"na\",C1770/Configurations!$F$7,C1770)","v":0}]
[{"$f":"IF(C1771<>\"na\",C1771/Configurations!$F$7,C1771)","v":0}]
[{"$f":"IF(C1772<>\"na\",C1772/Configurations!$F$7,C1772)","v":0}]
[{"$f":"IF(C1773<>\"na\",C1773/Configurations!$F$7,C1773)","v":0}]
[{"$f":"IF(C1774<>\"na\",C1774/Configurations!$F$7,C1774)","v":0}]
[{"$f":"IF(C1775<>\"na\",C1775/Configurations!$F$7,C1775)","v":0}]
[{"$f":"IF(C1776<>\"na\",C1776/Configurations!$F$7,C1776)","v":0}]
[{"$f":"IF(C1777<>\"na\",C1777/Configurations!$F$7,C1777)","v":0}]
[{"$f":"IF(C1778<>\"na\",C1778/Configurations!$F$7,C1778)","v":0}]
[{"$f":"IF(C1779<>\"na\",C1779/Configurations!$F$7,C1779)","v":0}]
[{"$f":"IF(C1780<>\"na\",C1780/Configurations!$F$7,C1780)","v":0}]
[{"$f":"IF(C1781<>\"na\",C1781/Configurations!$F$7,C1781)","v":0}]
[{"$f":"IF(C1782<>\"na\",C1782/Configurations!$F$7,C1782)","v":0}]
[{"$f":"IF(C1783<>\"na\",C1783/Configurations!$F$7,C1783)","v":0}]
[{"$f":"IF(C1784<>\"na\",C1784/Configurations!$F$7,C1784)","v":0}]
[{"$f":"IF(C1785<>\"na\",C1785/Configurations!$F$7,C1785)","v":0}]
[{"$f":"IF(C1786<>\"na\",C1786/Configurations!$F$7,C1786)","v":0}]
[{"$f":"IF(C1787<>\"na\",C1787/Configurations!$F$7,C1787)","v":0}]
[{"$f":"IF(C1788<>\"na\",C1788/Configurations!$F$7,C1788)","v":0}]
[{"$f":"IF(C1789<>\"na\",C1789/Configurations!$F$7,C1789)","v":0}]
[{"$f":"IF(C1790<>\"na\",C1790/Configurations!$F$7,C1790)","v":0}]
[{"$f":"IF(C1791<>\"na\",C1791/Configurations!$F$7,C1791)","v":0}]
[{"$f":"IF(C1792<>\"na\",C1792/Configurations!$F$7,C1792)","v":0}]
[{"$f":"IF(C1793<>\"na\",C1793/Configurations!$F$7,C1793)","v":0}]
[{"$f":"IF(C1794<>\"na\",C1794/Configurations!$F$7,C1794)","v":0}]
[{"$f":"IF(C1795<>\"na\",C1795/Configurations!$F$7,C1795)","v":0}]
[{"$f":"IF(C1796<>\"na\",C1796/Configurations!$F$7,C1796)","v":0}]
[{"$f":"IF(C1797<>\"na\",C1797/Configurations!$F$7,C1797)","v":0}]
[{"$f":"IF(C1798<>\"na\",C1798/Configurations!$F$7,C1798)","v":0}]
[{"$f":"IF(C1799<>\"na\",C1799/Configurations!$F$7,C1799)","v":0}]
[{"$f":"IF(C1800<>\"na\",C1800/Configurations!$F$7,C1800)","v":0}]
[{"$f":"IF(C1801<>\"na\",C1801/Configurations!$F$7,C1801)","v":0}]
[{"$f":"IF(C1802<>\"na\",C1802/Configurations!$F$7,C1802)","v":0}]
[{"$f":"IF(C1803<>\"na\",C1803/Configurations!$F$7,C1803)","v":0}]
[{"$f":"IF(C1804<>\"na\",C1804/Configurations!$F$7,C1804)","v":0}]
[{"$f":"IF(C1805<>\"na\",C1805/Configurations!$F$7,C1805)","v":0}]
[{"$f":"IF(C1806<>\"na\",C1806/Configurations!$F$7,C1806)","v":0}]
[{"$f":"IF(C1807<>\"na\",C1807/Configurations!$F$7,C1807)","v":0}]
[{"$f":"IF(C1808<>\"na\",C1808/Configurations!$F$7,C1808)","v":0}]
[{"$f":"IF(C1809<>\"na\",C1809/Configurations!$F$7,C1809)","v":0}]
[{"$f":"IF(C1810<>\"na\",C1810/Configurations!$F$7,C1810)","v":0}]
[{"$f":"IF(C1811<>\"na\",C1811/Configurations!$F$7,C1811)","v":0}]
[{"$f":"IF(C1812<>\"na\",C1812/Configurations!$F$7,C1812)","v":0}]
[{"$f":"IF(C1813<>\"na\",C1813/Configurations!$F$7,C1813)","v":0}]
[{"$f":"IF(C1814<>\"na\",C1814/Configurations!$F$7,C1814)","v":0}]
[{"$f":"IF(C1815<>\"na\",C1815/Configurations!$F$7,C1815)","v":0}]
[{"$f":"IF(C1816<>\"na\",C1816/Configurations!$F$7,C1816)","v":0}]
[{"$f":"IF(C1817<>\"na\",C1817/Configurations!$F$7,C1817)","v":0}]
[{"$f":"IF(C1818<>\"na\",C1818/Configurations!$F$7,C1818)","v":0}]
[{"$f":"IF(C1819<>\"na\",C1819/Configurations!$F$7,C1819)","v":0}]
[{"$f":"IF(C1820<>\"na\",C1820/Configurations!$F$7,C1820)","v":0}]
[{"$f":"IF(C1821<>\"na\",C1821/Configurations!$F$7,C1821)","v":0}]
[{"$f":"IF(C1822<>\"na\",C1822/Configurations!$F$7,C1822)","v":0}]
[{"$f":"IF(C1823<>\"na\",C1823/Configurations!$F$7,C1823)","v":0}]
[{"$f":"IF(C1824<>\"na\",C1824/Configurations!$F$7,C1824)","v":0}]
[{"$f":"IF(C1825<>\"na\",C1825/Configurations!$F$7,C1825)","v":0}]
[{"$f":"IF(C1826<>\"na\",C1826/Configurations!$F$7,C1826)","v":0}]
[{"$f":"IF(C1827<>\"na\",C1827/Configurations!$F$7,C1827)","v":0}]
[{"$f":"IF(C1828<>\"na\",C1828/Configurations!$F$7,C1828)","v":0}]
[{"$f":"IF(C1829<>\"na\",C1829/Configurations!$F$7,C1829)","v":0}]
[{"$f":"IF(C1830<>\"na\",C1830/Configurations!$F$7,C1830)","v":0}]
[{"$f":"IF(C1831<>\"na\",C1831/Configurations!$F$7,C1831)","v":0}]
[{"$f":"IF(C1832<>\"na\",C1832/Configurations!$F$7,C1832)","v":0}]
[{"$f":"IF(C1833<>\"na\",C1833/Configurations!$F$7,C1833)","v":0}]
[{"$f":"IF(C1834<>\"na\",C1834/Configurations!$F$7,C1834)","v":0}]
[{"$f":"IF(C1835<>\"na\",C1835/Configurations!$F$7,C1835)","v":0}]
[{"$f":"IF(C1836<>\"na\",C1836/Configurations!$F$7,C1836)","v":0}]
[{"$f":"IF(C1837<>\"na\",C1837/Configurations!$F$7,C1837)","v":0}]
[{"$f":"IF(C1838<>\"na\",C1838/Configurations!$F$7,C1838)","v":0}]
[{"$f":"IF(C1839<>\"na\",C1839/Configurations!$F$7,C1839)","v":0}]
[{"$f":"IF(C1840<>\"na\",C1840/Configurations!$F$7,C1840)","v":0}]
[{"$f":"IF(C1841<>\"na\",C1841/Configurations!$F$7,C1841)","v":0}]
[{"$f":"IF(C1842<>\"na\",C1842/Configurations!$F$7,C1842)","v":0}]
[{"$f":"IF(C1843<>\"na\",C1843/Configurations!$F$7,C1843)","v":0}]
[{"$f":"IF(C1844<>\"na\",C1844/Configurations!$F$7,C1844)","v":0}]
[{"$f":"IF(C1845<>\"na\",C1845/Configurations!$F$7,C1845)","v":0}]
[{"$f":"IF(C1846<>\"na\",C1846/Configurations!$F$7,C1846)","v":0}]
[{"$f":"IF(C1847<>\"na\",C1847/Configurations!$F$7,C1847)","v":0}]
[{"$f":"IF(C1848<>\"na\",C1848/Configurations!$F$7,C1848)","v":0}]
[{"$f":"IF(C1849<>\"na\",C1849/Configurations!$F$7,C1849)","v":0}]
[{"$f":"IF(C1850<>\"na\",C1850/Configurations!$F$7,C1850)","v":0}]
[{"$f":"IF(C1851<>\"na\",C1851/Configurations!$F$7,C1851)","v":0}]
[{"$f":"IF(C1852<>\"na\",C1852/Configurations!$F$7,C1852)","v":0}]
[{"$f":"IF(C1853<>\"na\",C1853/Configurations!$F$7,C1853)","v":0}]
[{"$f":"IF(C1854<>\"na\",C1854/Configurations!$F$7,C1854)","v":0}]
[{"$f":"IF(C1855<>\"na\",C1855/Configurations!$F$7,C1855)","v":0}]
[{"$f":"IF(C1856<>\"na\",C1856/Configurations!$F$7,C1856)","v":0}]
[{"$f":"IF(C1857<>\"na\",C1857/Configurations!$F$7,C1857)","v":0}]
[{"$f":"IF(C1858<>\"na\",C1858/Configurations!$F$7,C1858)","v":0}]
[{"$f":"IF(C1859<>\"na\",C1859/Configurations!$F$7,C1859)","v":0}]
[{"$f":"IF(C1860<>\"na\",C1860/Configurations!$F$7,C1860)","v":0}]
[{"$f":"IF(C1861<>\"na\",C1861/Configurations!$F$7,C1861)","v":0}]
[{"$f":"IF(C1862<>\"na\",C1862/Configurations!$F$7,C1862)","v":0}]
[{"$f":"IF(C1863<>\"na\",C1863/Configurations!$F$7,C1863)","v":0}]
[{"$f":"IF(C1864<>\"na\",C1864/Configurations!$F$7,C1864)","v":0}]
[{"$f":"IF(C1865<>\"na\",C1865/Configurations!$F$7,C1865)","v":0}]
[{"$f":"IF(C1866<>\"na\",C1866/Configurations!$F$7,C1866)","v":0}]
[{"$f":"IF(C1867<>\"na\",C1867/Configurations!$F$7,C1867)","v":0}]
[{"$f":"IF(C1868<>\"na\",C1868/Configurations!$F$7,C1868)","v":0}]
[{"$f":"IF(C1869<>\"na\",C1869/Configurations!$F$7,C1869)","v":0}]
[{"$f":"IF(C1870<>\"na\",C1870/Configurations!$F$7,C1870)","v":0}]
[{"$f":"IF(C1871<>\"na\",C1871/Configurations!$F$7,C1871)","v":0}]
[{"$f":"IF(C1872<>\"na\",C1872/Configurations!$F$7,C1872)","v":0}]
[{"$f":"IF(C1873<>\"na\",C1873/Configurations!$F$7,C1873)","v":0}]
[{"$f":"IF(C1874<>\"na\",C1874/Configurations!$F$7,C1874)","v":0}]
[{"$f":"IF(C1875<>\"na\",C1875/Configurations!$F$7,C1875)","v":0}]
[{"$f":"IF(C1876<>\"na\",C1876/Configurations!$F$7,C1876)","v":0}]
[{"$f":"IF(C1877<>\"na\",C1877/Configurations!$F$7,C1877)","v":0}]
[{"$f":"IF(C1878<>\"na\",C1878/Configurations!$F$7,C1878)","v":0}]
[{"$f":"IF(C1879<>\"na\",C1879/Configurations!$F$7,C1879)","v":0}]
[{"$f":"IF(C1880<>\"na\",C1880/Configurations!$F$7,C1880)","v":0}]
[{"$f":"IF(C1881<>\"na\",C1881/Configurations!$F$7,C1881)","v":0}]
[{"$f":"IF(C1882<>\"na\",C1882/Configurations!$F$7,C1882)","v":0}]
[{"$f":"IF(C1883<>\"na\",C1883/Configurations!$F$7,C1883)","v":0}]
[{"$f":"IF(C1884<>\"na\",C1884/Configurations!$F$7,C1884)","v":0}]
[{"$f":"IF(C1885<>\"na\",C1885/Configurations!$F$7,C1885)","v":0}]
[{"$f":"IF(C1886<>\"na\",C1886/Configurations!$F$7,C1886)","v":0}]
[{"$f":"IF(C1887<>\"na\",C1887/Configurations!$F$7,C1887)","v":0}]
[{"$f":"IF(C1888<>\"na\",C1888/Configurations!$F$7,C1888)","v":0}]
[{"$f":"IF(C1889<>\"na\",C1889/Configurations!$F$7,C1889)","v":0}]
[{"$f":"IF(C1890<>\"na\",C1890/Configurations!$F$7,C1890)","v":0}]
[{"$f":"IF(C1891<>\"na\",C1891/Configurations!$F$7,C1891)","v":0}]
[{"$f":"IF(C1892<>\"na\",C1892/Configurations!$F$7,C1892)","v":0}]
[{"$f":"IF(C1893<>\"na\",C1893/Configurations!$F$7,C1893)","v":0}]
[{"$f":"IF(C1894<>\"na\",C1894/Configurations!$F$7,C1894)","v":0}]
[{"$f":"IF(C1895<>\"na\",C1895/Configurations!$F$7,C1895)","v":0}]
[{"$f":"IF(C1896<>\"na\",C1896/Configurations!$F$7,C1896)","v":0}]
[{"$f":"IF(C1897<>\"na\",C1897/Configurations!$F$7,C1897)","v":0}]
[{"$f":"IF(C1898<>\"na\",C1898/Configurations!$F$7,C1898)","v":0}]
[{"$f":"IF(C1899<>\"na\",C1899/Configurations!$F$7,C1899)","v":0}]
[{"$f":"IF(C1900<>\"na\",C1900/Configurations!$F$7,C1900)","v":0}]
[{"$f":"IF(C1901<>\"na\",C1901/Configurations!$F$7,C1901)","v":0}]
[{"$f":"IF(C1902<>\"na\",C1902/Configurations!$F$7,C1902)","v":0}]
[{"$f":"IF(C1903<>\"na\",C1903/Configurations!$F$7,C1903)","v":0}]
[{"$f":"IF(C1904<>\"na\",C1904/Configurations!$F$7,C1904)","v":0}]
[{"$f":"IF(C1905<>\"na\",C1905/Configurations!$F$7,C1905)","v":0}]
[{"$f":"IF(C1906<>\"na\",C1906/Configurations!$F$7,C1906)","v":0}]
[{"$f":"IF(C1907<>\"na\",C1907/Configurations!$F$7,C1907)","v":0}]
[{"$f":"IF(C1908<>\"na\",C1908/Configurations!$F$7,C1908)","v":0}]
[{"$f":"IF(C1909<>\"na\",C1909/Configurations!$F$7,C1909)","v":0}]
[{"$f":"IF(C1910<>\"na\",C1910/Configurations!$F$7,C1910)","v":0}]
[{"$f":"IF(C1911<>\"na\",C1911/Configurations!$F$7,C1911)","v":0}]
[{"$f":"IF(C1912<>\"na\",C1912/Configurations!$F$7,C1912)","v":0}]
[{"$f":"IF(C1913<>\"na\",C1913/Configurations!$F$7,C1913)","v":0}]
[{"$f":"IF(C1914<>\"na\",C1914/Configurations!$F$7,C1914)","v":0}]
[{"$f":"IF(C1915<>\"na\",C1915/Configurations!$F$7,C1915)","v":0}]
[{"$f":"IF(C1916<>\"na\",C1916/Configurations!$F$7,C1916)","v":0}]
[{"$f":"IF(C1917<>\"na\",C1917/Configurations!$F$7,C1917)","v":0}]
[{"$f":"IF(C1918<>\"na\",C1918/Configurations!$F$7,C1918)","v":0}]
[{"$f":"IF(C1919<>\"na\",C1919/Configurations!$F$7,C1919)","v":0}]
[{"$f":"IF(C1920<>\"na\",C1920/Configurations!$F$7,C1920)","v":0}]
[{"$f":"IF(C1921<>\"na\",C1921/Configurations!$F$7,C1921)","v":0}]
[{"$f":"IF(C1922<>\"na\",C1922/Configurations!$F$7,C1922)","v":0}]
[{"$f":"IF(C1923<>\"na\",C1923/Configurations!$F$7,C1923)","v":0}]
[{"$f":"IF(C1924<>\"na\",C1924/Configurations!$F$7,C1924)","v":0}]
[{"$f":"IF(C1925<>\"na\",C1925/Configurations!$F$7,C1925)","v":0}]
[{"$f":"IF(C1926<>\"na\",C1926/Configurations!$F$7,C1926)","v":0}]
[{"$f":"IF(C1927<>\"na\",C1927/Configurations!$F$7,C1927)","v":0}]
[{"$f":"IF(C1928<>\"na\",C1928/Configurations!$F$7,C1928)","v":0}]
[{"$f":"IF(C1929<>\"na\",C1929/Configurations!$F$7,C1929)","v":0}]
[{"$f":"IF(C1930<>\"na\",C1930/Configurations!$F$7,C1930)","v":0}]
[{"$f":"IF(C1931<>\"na\",C1931/Configurations!$F$7,C1931)","v":0}]
[{"$f":"IF(C1932<>\"na\",C1932/Configurations!$F$7,C1932)","v":0}]
[{"$f":"IF(C1933<>\"na\",C1933/Configurations!$F$7,C1933)","v":0}]
[{"$f":"IF(C1934<>\"na\",C1934/Configurations!$F$7,C1934)","v":0}]
[{"$f":"IF(C1935<>\"na\",C1935/Configurations!$F$7,C1935)","v":0}]
[{"$f":"IF(C1936<>\"na\",C1936/Configurations!$F$7,C1936)","v":0}]
[{"$f":"IF(C1937<>\"na\",C1937/Configurations!$F$7,C1937)","v":0}]
[{"$f":"IF(C1938<>\"na\",C1938/Configurations!$F$7,C1938)","v":0}]
[{"$f":"IF(C1939<>\"na\",C1939/Configurations!$F$7,C1939)","v":0}]
[{"$f":"IF(C1940<>\"na\",C1940/Configurations!$F$7,C1940)","v":0}]
[{"$f":"IF(C1941<>\"na\",C1941/Configurations!$F$7,C1941)","v":0}]
[{"$f":"IF(C1942<>\"na\",C1942/Configurations!$F$7,C1942)","v":0}]
[{"$f":"IF(C1943<>\"na\",C1943/Configurations!$F$7,C1943)","v":0}]
[{"$f":"IF(C1944<>\"na\",C1944/Configurations!$F$7,C1944)","v":0}]
[{"$f":"IF(C1945<>\"na\",C1945/Configurations!$F$7,C1945)","v":0}]
[{"$f":"IF(C1946<>\"na\",C1946/Configurations!$F$7,C1946)","v":0}]
[{"$f":"IF(C1947<>\"na\",C1947/Configurations!$F$7,C1947)","v":0}]
[{"$f":"IF(C1948<>\"na\",C1948/Configurations!$F$7,C1948)","v":0}]
[{"$f":"IF(C1949<>\"na\",C1949/Configurations!$F$7,C1949)","v":0}]
[{"$f":"IF(C1950<>\"na\",C1950/Configurations!$F$7,C1950)","v":0}]
[{"$f":"IF(C1951<>\"na\",C1951/Configurations!$F$7,C1951)","v":0}]
[{"$f":"IF(C1952<>\"na\",C1952/Configurations!$F$7,C1952)","v":0}]
[{"$f":"IF(C1953<>\"na\",C1953/Configurations!$F$7,C1953)","v":0}]
[{"$f":"IF(C1954<>\"na\",C1954/Configurations!$F$7,C1954)","v":0}]
[{"$f":"IF(C1955<>\"na\",C1955/Configurations!$F$7,C1955)","v":0}]
[{"$f":"IF(C1956<>\"na\",C1956/Configurations!$F$7,C1956)","v":0}]
[{"$f":"IF(C1957<>\"na\",C1957/Configurations!$F$7,C1957)","v":0}]
[{"$f":"IF(C1958<>\"na\",C1958/Configurations!$F$7,C1958)","v":0}]
[{"$f":"IF(C1959<>\"na\",C1959/Configurations!$F$7,C1959)","v":0}]
[{"$f":"IF(C1960<>\"na\",C1960/Configurations!$F$7,C1960)","v":0}]
[{"$f":"IF(C1961<>\"na\",C1961/Configurations!$F$7,C1961)","v":0}]
[{"$f":"IF(C1962<>\"na\",C1962/Configurations!$F$7,C1962)","v":0}]
[{"$f":"IF(C1963<>\"na\",C1963/Configurations!$F$7,C1963)","v":0}]
[{"$f":"IF(C1964<>\"na\",C1964/Configurations!$F$7,C1964)","v":0}]
[{"$f":"IF(C1965<>\"na\",C1965/Configurations!$F$7,C1965)","v":0}]
[{"$f":"IF(C1966<>\"na\",C1966/Configurations!$F$7,C1966)","v":0}]
[{"$f":"IF(C1967<>\"na\",C1967/Configurations!$F$7,C1967)","v":0}]
[{"$f":"IF(C1968<>\"na\",C1968/Configurations!$F$7,C1968)","v":0}]
[{"$f":"IF(C1969<>\"na\",C1969/Configurations!$F$7,C1969)","v":0}]
[{"$f":"IF(C1970<>\"na\",C1970/Configurations!$F$7,C1970)","v":0}]
[{"$f":"IF(C1971<>\"na\",C1971/Configurations!$F$7,C1971)","v":0}]
[{"$f":"IF(C1972<>\"na\",C1972/Configurations!$F$7,C1972)","v":0}]
[{"$f":"IF(C1973<>\"na\",C1973/Configurations!$F$7,C1973)","v":0}]
[{"$f":"IF(C1974<>\"na\",C1974/Configurations!$F$7,C1974)","v":0}]
[{"$f":"IF(C1975<>\"na\",C1975/Configurations!$F$7,C1975)","v":0}]
[{"$f":"IF(C1976<>\"na\",C1976/Configurations!$F$7,C1976)","v":0}]
[{"$f":"IF(C1977<>\"na\",C1977/Configurations!$F$7,C1977)","v":0}]
[{"$f":"IF(C1978<>\"na\",C1978/Configurations!$F$7,C1978)","v":0}]
[{"$f":"IF(C1979<>\"na\",C1979/Configurations!$F$7,C1979)","v":0}]
[{"$f":"IF(C1980<>\"na\",C1980/Configurations!$F$7,C1980)","v":0}]
[{"$f":"IF(C1981<>\"na\",C1981/Configurations!$F$7,C1981)","v":0}]
[{"$f":"IF(C1982<>\"na\",C1982/Configurations!$F$7,C1982)","v":0}]
[{"$f":"IF(C1983<>\"na\",C1983/Configurations!$F$7,C1983)","v":0}]
[{"$f":"IF(C1984<>\"na\",C1984/Configurations!$F$7,C1984)","v":0}]
[{"$f":"IF(C1985<>\"na\",C1985/Configurations!$F$7,C1985)","v":0}]
[{"$f":"IF(C1986<>\"na\",C1986/Configurations!$F$7,C1986)","v":0}]
[{"$f":"IF(C1987<>\"na\",C1987/Configurations!$F$7,C1987)","v":0}]
[{"$f":"IF(C1988<>\"na\",C1988/Configurations!$F$7,C1988)","v":0}]
[{"$f":"IF(C1989<>\"na\",C1989/Configurations!$F$7,C1989)","v":0}]
[{"$f":"IF(C1990<>\"na\",C1990/Configurations!$F$7,C1990)","v":0}]
[{"$f":"IF(C1991<>\"na\",C1991/Configurations!$F$7,C1991)","v":0}]
[{"$f":"IF(C1992<>\"na\",C1992/Configurations!$F$7,C1992)","v":0}]
[{"$f":"IF(C1993<>\"na\",C1993/Configurations!$F$7,C1993)","v":0}]
[{"$f":"IF(C1994<>\"na\",C1994/Configurations!$F$7,C1994)","v":0}]
[{"$f":"IF(C1995<>\"na\",C1995/Configurations!$F$7,C1995)","v":0}]
[{"$f":"IF(C1996<>\"na\",C1996/Configurations!$F$7,C1996)","v":0}]
[{"$f":"IF(C1997<>\"na\",C1997/Configurations!$F$7,C1997)","v":0}]
[{"$f":"IF(C1998<>\"na\",C1998/Configurations!$F$7,C1998)","v":0}]
[{"$f":"IF(C1999<>\"na\",C1999/Configurations!$F$7,C1999)","v":0}]
[{"$f":"IF(C2000<>\"na\",C2000/Configurations!$F$7,C2000)","v":0}]

{"sheet":"Chapters","index":1,"n_rows":26,"n_cols":19,"rows_kept":26,"cut":false,"hidden":false,"merged":[[24,0,24,4],[25,0,25,4],[0,0,0,18]]}
["Total  Marks  by  Evaluation  Sheet"]
["#","ST","Mark",null,"#","ST","Mark",null,"#","ST","Mark",null,"#","ST","Mark",null,"#","ST","Mark"]
[1,{"$f":"SUM(INDIRECT(ADDRESS((A3-1)*20+1,1,1,TRUE,\"Questions\")):INDIRECT(ADDRESS((A3)*20,1,1,TRUE,\"Questions\")))","v":0},{"$f":"B3/(20*Configurations!$F$7)*Configurations!$F$7","v":0},null,{"$f":"A22+1","v":21},{"$f":"SUM(INDIRECT(ADDRESS((E3-1)*20+1,1,1,TRUE,\"Questions\")):INDIRECT(ADDRESS((E3)*20,1,1,TRUE,\"Questions\")))","v":0},{"$f":"F3/(20*Configurations!$F$7)*Configurations!$F$7","v":0},null,{"$f":"E22+1","v":41},{"$f":"SUM(INDIRECT(ADDRESS((I3-1)*20+1,1,1,TRUE,\"Questions\")):INDIRECT(ADDRESS((I3)*20,1,1,TRUE,\"Questions\")))","v":0},{"$f":"J3/(20*Configurations!$F$7)*Configurations!$F$7","v":0},null,{"$f":"I22+1","v":61},{"$f":"SUM(INDIRECT(ADDRESS((M3-1)*20+1,1,1,TRUE,\"Questions\")):INDIRECT(ADDRESS((M3)*20,1,1,TRUE,\"Questions\")))","v":0},{"$f":"N3/(20*Configurations!$F$7)*Configurations!$F$7","v":0},null,{"$f":"M22+1","v":81},{"$f":"SUM(INDIRECT(ADDRESS((Q3-1)*20+1,1,1,TRUE,\"Questions\")):INDIRECT(ADDRESS((Q3)*20,1,1,TRUE,\"Questions\")))","v":0},{"$f":"R3/(20*Configurations!$F$7)*Configurations!$F$7","v":0}]
[{"$f":"A3+1","v":2},{"$f":"SUM(INDIRECT(ADDRESS((A4-1)*20+1,1,1,TRUE,\"Questions\")):INDIRECT(ADDRESS((A4)*20,1,1,TRUE,\"Questions\")))","v":0},{"$f":"B4/(20*Configurations!$F$7)*Configurations!$F$7","v":0},null,{"$f":"E3+1","v":22},{"$f":"SUM(INDIRECT(ADDRESS((E4-1)*20+1,1,1,TRUE,\"Questions\")):INDIRECT(ADDRESS((E4)*20,1,1,TRUE,\"Questions\")))","v":0},{"$f":"F4/(20*Configurations!$F$7)*Configurations!$F$7","v":0},null,{"$f":"I3+1","v":42},{"$f":"SUM(INDIRECT(ADDRESS((I4-1)*20+1,1,1,TRUE,\"Questions\")):INDIRECT(ADDRESS((I4)*20,1,1,TRUE,\"Questions\")))","v":0},{"$f":"J4/(20*Configurations!$F$7)*Configurations!$F$7","v":0},null,{"$f":"M3+1","v":62},{"$f":"SUM(INDIRECT(ADDRESS((M4-1)*20+1,1,1,TRUE,\"Questions\")):INDIRECT(ADDRESS((M4)*20,1,1,TRUE,\"Questions\")))","v":0},{"$f":"N4/(20*Configurations!$F$7)*Configurations!$F$7","v":0},null,{"$f":"Q3+1","v":82},{"$f":"SUM(INDIRECT(ADDRESS((Q4-1)*20+1,1,1,TRUE,\"Questions\")):INDIRECT(ADDRESS((Q4)*20,1,1,TRUE,\"Questions\")))","v":0},{"$f":"R4/(20*Configurations!$F$7)*Configurations!$F$7","v":0}]
[{"$f":"A4+1","v":3},{"$f":"SUM(INDIRECT(ADDRESS((A5-1)*20+1,1,1,TRUE,\"Questions\")):INDIRECT(ADDRESS((A5)*20,1,1,TRUE,\"Questions\")))","v":0},{"$f":"B5/(20*Configurations!$F$7)*Configurations!$F$7","v":0},null,{"$f":"E4+1","v":23},{"$f":"SUM(INDIRECT(ADDRESS((E5-1)*20+1,1,1,TRUE,\"Questions\")):INDIRECT(ADDRESS((E5)*20,1,1,TRUE,\"Questions\")))","v":0},{"$f":"F5/(20*Configurations!$F$7)*Configurations!$F$7","v":0},null,{"$f":"I4+1","v":43},{"$f":"SUM(INDIRECT(ADDRESS((I5-1)*20+1,1,1,TRUE,\"Questions\")):INDIRECT(ADDRESS((I5)*20,1,1,TRUE,\"Questions\")))","v":0},{"$f":"J5/(20*Configurations!$F$7)*Configurations!$F$7","v":0},null,{"$f":"M4+1","v":63},{"$f":"SUM(INDIRECT(ADDRESS((M5-1)*20+1,1,1,TRUE,\"Questions\")):INDIRECT(ADDRESS((M5)*20,1,1,TRUE,\"Questions\")))","v":0},{"$f":"N5/(20*Configurations!$F$7)*Configurations!$F$7","v":0},null,{"$f":"Q4+1","v":83},{"$f":"SUM(INDIRECT(ADDRESS((Q5-1)*20+1,1,1,TRUE,\"Questions\")):INDIRECT(ADDRESS((Q5)*20,1,1,TRUE,\"Questions\")))","v":0},{"$f":"R5/(20*Configurations!$F$7)*Configurations!$F$7","v":0}]
[4,{"$f":"SUM(INDIRECT(ADDRESS((A6-1)*20+1,1,1,TRUE,\"Questions\")):INDIRECT(ADDRESS((A6)*20,1,1,TRUE,\"Questions\")))","v":0},{"$f":"B6/(20*Configurations!$F$7)*Configurations!$F$7","v":0},null,24,{"$f":"SUM(INDIRECT(ADDRESS((E6-1)*20+1,1,1,TRUE,\"Questions\")):INDIRECT(ADDRESS((E6)*20,1,1,TRUE,\"Questions\")))","v":0},{"$f":"F6/(20*Configurations!$F$7)*Configurations!$F$7","v":0},null,44,{"$f":"SUM(INDIRECT(ADDRESS((I6-1)*20+1,1,1,TRUE,\"Questions\")):INDIRECT(ADDRESS((I6)*20,1,1,TRUE,\"Questions\")))","v":0},{"$f":"J6/(20*Configurations!$F$7)*Configurations!$F$7","v":0},null,64,{"$f":"SUM(INDIRECT(ADDRESS((M6-1)*20+1,1,1,TRUE,\"Questions\")):INDIRECT(ADDRESS((M6)*20,1,1,TRUE,\"Questions\")))","v":0},{"$f":"N6/(20*Configurations!$F$7)*Configurations!$F$7","v":0},null,84,{"$f":"SUM(INDIRECT(ADDRESS((Q6-1)*20+1,1,1,TRUE,\"Questions\")):INDIRECT(ADDRESS((Q6)*20,1,1,TRUE,\"Questions\")))","v":0},{"$f":"R6/(20*Configurations!$F$7)*Configurations!$F$7","v":0}]
[5,{"$f":"SUM(INDIRECT(ADDRESS((A7-1)*20+1,1,1,TRUE,\"Questions\")):INDIRECT(ADDRESS((A7)*20,1,1,TRUE,\"Questions\")))","v":0},{"$f":"B7/(20*Configurations!$F$7)*Configurations!$F$7","v":0},null,25,{"$f":"SUM(INDIRECT(ADDRESS((E7-1)*20+1,1,1,TRUE,\"Questions\")):INDIRECT(ADDRESS((E7)*20,1,1,TRUE,\"Questions\")))","v":0},{"$f":"F7/(20*Configurations!$F$7)*Configurations!$F$7","v":0},null,45,{"$f":"SUM(INDIRECT(ADDRESS((I7-1)*20+1,1,1,TRUE,\"Questions\")):INDIRECT(ADDRESS((I7)*20,1,1,TRUE,\"Questions\")))","v":0},{"$f":"J7/(20*Configurations!$F$7)*Configurations!$F$7","v":0},null,65,{"$f":"SUM(INDIRECT(ADDRESS((M7-1)*20+1,1,1,TRUE,\"Questions\")):INDIRECT(ADDRESS((M7)*20,1,1,TRUE,\"Questions\")))","v":0},{"$f":"N7/(20*Configurations!$F$7)*Configurations!$F$7","v":0},null,85,{"$f":"SUM(INDIRECT(ADDRESS((Q7-1)*20+1,1,1,TRUE,\"Questions\")):INDIRECT(ADDRESS((Q7)*20,1,1,TRUE,\"Questions\")))","v":0},{"$f":"R7/(20*Configurations!$F$7)*Configurations!$F$7","v":0}]
[6,{"$f":"SUM(INDIRECT(ADDRESS((A8-1)*20+1,1,1,TRUE,\"Questions\")):INDIRECT(ADDRESS((A8)*20,1,1,TRUE,\"Questions\")))","v":0},{"$f":"B8/(20*Configurations!$F$7)*Configurations!$F$7","v":0},null,26,{"$f":"SUM(INDIRECT(ADDRESS((E8-1)*20+1,1,1,TRUE,\"Questions\")):INDIRECT(ADDRESS((E8)*20,1,1,TRUE,\"Questions\")))","v":0},{"$f":"F8/(20*Configurations!$F$7)*Configurations!$F$7","v":0},null,46,{"$f":"SUM(INDIRECT(ADDRESS((I8-1)*20+1,1,1,TRUE,\"Questions\")):INDIRECT(ADDRESS((I8)*20,1,1,TRUE,\"Questions\")))","v":0},{"$f":"J8/(20*Configurations!$F$7)*Configurations!$F$7","v":0},null,66,{"$f":"SUM(INDIRECT(ADDRESS((M8-1)*20+1,1,1,TRUE,\"Questions\")):INDIRECT(ADDRESS((M8)*20,1,1,TRUE,\"Questions\")))","v":0},{"$f":"N8/(20*Configurations!$F$7)*Configurations!$F$7","v":0},null,86,{"$f":"SUM(INDIRECT(ADDRESS((Q8-1)*20+1,1,1,TRUE,\"Questions\")):INDIRECT(ADDRESS((Q8)*20,1,1,TRUE,\"Questions\")))","v":0},{"$f":"R8/(20*Configurations!$F$7)*Configurations!$F$7","v":0}]
[7,{"$f":"SUM(INDIRECT(ADDRESS((A9-1)*20+1,1,1,TRUE,\"Questions\")):INDIRECT(ADDRESS((A9)*20,1,1,TRUE,\"Questions\")))","v":0},{"$f":"B9/(20*Configurations!$F$7)*Configurations!$F$7","v":0},null,27,{"$f":"SUM(INDIRECT(ADDRESS((E9-1)*20+1,1,1,TRUE,\"Questions\")):INDIRECT(ADDRESS((E9)*20,1,1,TRUE,\"Questions\")))","v":0},{"$f":"F9/(20*Configurations!$F$7)*Configurations!$F$7","v":0},null,47,{"$f":"SUM(INDIRECT(ADDRESS((I9-1)*20+1,1,1,TRUE,\"Questions\")):INDIRECT(ADDRESS((I9)*20,1,1,TRUE,\"Questions\")))","v":0},{"$f":"J9/(20*Configurations!$F$7)*Configurations!$F$7","v":0},null,67,{"$f":"SUM(INDIRECT(ADDRESS((M9-1)*20+1,1,1,TRUE,\"Questions\")):INDIRECT(ADDRESS((M9)*20,1,1,TRUE,\"Questions\")))","v":0},{"$f":"N9/(20*Configurations!$F$7)*Configurations!$F$7","v":0},null,87,{"$f":"SUM(INDIRECT(ADDRESS((Q9-1)*20+1,1,1,TRUE,\"Questions\")):INDIRECT(ADDRESS((Q9)*20,1,1,TRUE,\"Questions\")))","v":0},{"$f":"R9/(20*Configurations!$F$7)*Configurations!$F$7","v":0}]
[8,{"$f":"SUM(INDIRECT(ADDRESS((A10-1)*20+1,1,1,TRUE,\"Questions\")):INDIRECT(ADDRESS((A10)*20,1,1,TRUE,\"Questions\")))","v":0},{"$f":"B10/(20*Configurations!$F$7)*Configurations!$F$7","v":0},null,28,{"$f":"SUM(INDIRECT(ADDRESS((E10-1)*20+1,1,1,TRUE,\"Questions\")):INDIRECT(ADDRESS((E10)*20,1,1,TRUE,\"Questions\")))","v":0},{"$f":"F10/(20*Configurations!$F$7)*Configurations!$F$7","v":0},null,48,{"$f":"SUM(INDIRECT(ADDRESS((I10-1)*20+1,1,1,TRUE,\"Questions\")):INDIRECT(ADDRESS((I10)*20,1,1,TRUE,\"Questions\")))","v":0},{"$f":"J10/(20*Configurations!$F$7)*Configurations!$F$7","v":0},null,68,{"$f":"SUM(INDIRECT(ADDRESS((M10-1)*20+1,1,1,TRUE,\"Questions\")):INDIRECT(ADDRESS((M10)*20,1,1,TRUE,\"Questions\")))","v":0},{"$f":"N10/(20*Configurations!$F$7)*Configurations!$F$7","v":0},null,88,{"$f":"SUM(INDIRECT(ADDRESS((Q10-1)*20+1,1,1,TRUE,\"Questions\")):INDIRECT(ADDRESS((Q10)*20,1,1,TRUE,\"Questions\")))","v":0},{"$f":"R10/(20*Configurations!$F$7)*Configurations!$F$7","v":0}]
[9,{"$f":"SUM(INDIRECT(ADDRESS((A11-1)*20+1,1,1,TRUE,\"Questions\")):INDIRECT(ADDRESS((A11)*20,1,1,TRUE,\"Questions\")))","v":0},{"$f":"B11/(20*Configurations!$F$7)*Configurations!$F$7","v":0},null,29,{"$f":"SUM(INDIRECT(ADDRESS((E11-1)*20+1,1,1,TRUE,\"Questions\")):INDIRECT(ADDRESS((E11)*20,1,1,TRUE,\"Questions\")))","v":0},{"$f":"F11/(20*Configurations!$F$7)*Configurations!$F$7","v":0},null,49,{"$f":"SUM(INDIRECT(ADDRESS((I11-1)*20+1,1,1,TRUE,\"Questions\")):INDIRECT(ADDRESS((I11)*20,1,1,TRUE,\"Questions\")))","v":0},{"$f":"J11/(20*Configurations!$F$7)*Configurations!$F$7","v":0},null,69,{"$f":"SUM(INDIRECT(ADDRESS((M11-1)*20+1,1,1,TRUE,\"Questions\")):INDIRECT(ADDRESS((M11)*20,1,1,TRUE,\"Questions\")))","v":0},{"$f":"N11/(20*Configurations!$F$7)*Configurations!$F$7","v":0},null,89,{"$f":"SUM(INDIRECT(ADDRESS((Q11-1)*20+1,1,1,TRUE,\"Questions\")):INDIRECT(ADDRESS((Q11)*20,1,1,TRUE,\"Questions\")))","v":0},{"$f":"R11/(20*Configurations!$F$7)*Configurations!$F$7","v":0}]
[10,{"$f":"SUM(INDIRECT(ADDRESS((A12-1)*20+1,1,1,TRUE,\"Questions\")):INDIRECT(ADDRESS((A12)*20,1,1,TRUE,\"Questions\")))","v":0},{"$f":"B12/(20*Configurations!$F$7)*Configurations!$F$7","v":0},null,30,{"$f":"SUM(INDIRECT(ADDRESS((E12-1)*20+1,1,1,TRUE,\"Questions\")):INDIRECT(ADDRESS((E12)*20,1,1,TRUE,\"Questions\")))","v":0},{"$f":"F12/(20*Configurations!$F$7)*Configurations!$F$7","v":0},null,50,{"$f":"SUM(INDIRECT(ADDRESS((I12-1)*20+1,1,1,TRUE,\"Questions\")):INDIRECT(ADDRESS((I12)*20,1,1,TRUE,\"Questions\")))","v":0},{"$f":"J12/(20*Configurations!$F$7)*Configurations!$F$7","v":0},null,70,{"$f":"SUM(INDIRECT(ADDRESS((M12-1)*20+1,1,1,TRUE,\"Questions\")):INDIRECT(ADDRESS((M12)*20,1,1,TRUE,\"Questions\")))","v":0},{"$f":"N12/(20*Configurations!$F$7)*Configurations!$F$7","v":0},null,90,{"$f":"SUM(INDIRECT(ADDRESS((Q12-1)*20+1,1,1,TRUE,\"Questions\")):INDIRECT(ADDRESS((Q12)*20,1,1,TRUE,\"Questions\")))","v":0},{"$f":"R12/(20*Configurations!$F$7)*Configurations!$F$7","v":0}]
[11,{"$f":"SUM(INDIRECT(ADDRESS((A13-1)*20+1,1,1,TRUE,\"Questions\")):INDIRECT(ADDRESS((A13)*20,1,1,TRUE,\"Questions\")))","v":0},{"$f":"B13/(20*Configurations!$F$7)*Configurations!$F$7","v":0},null,31,{"$f":"SUM(INDIRECT(ADDRESS((E13-1)*20+1,1,1,TRUE,\"Questions\")):INDIRECT(ADDRESS((E13)*20,1,1,TRUE,\"Questions\")))","v":0},{"$f":"F13/(20*Configurations!$F$7)*Configurations!$F$7","v":0},null,51,{"$f":"SUM(INDIRECT(ADDRESS((I13-1)*20+1,1,1,TRUE,\"Questions\")):INDIRECT(ADDRESS((I13)*20,1,1,TRUE,\"Questions\")))","v":0},{"$f":"J13/(20*Configurations!$F$7)*Configurations!$F$7","v":0},null,71,{"$f":"SUM(INDIRECT(ADDRESS((M13-1)*20+1,1,1,TRUE,\"Questions\")):INDIRECT(ADDRESS((M13)*20,1,1,TRUE,\"Questions\")))","v":0},{"$f":"N13/(20*Configurations!$F$7)*Configurations!$F$7","v":0},null,91,{"$f":"SUM(INDIRECT(ADDRESS((Q13-1)*20+1,1,1,TRUE,\"Questions\")):INDIRECT(ADDRESS((Q13)*20,1,1,TRUE,\"Questions\")))","v":0},{"$f":"R13/(20*Configurations!$F$7)*Configurations!$F$7","v":0}]
[12,{"$f":"SUM(INDIRECT(ADDRESS((A14-1)*20+1,1,1,TRUE,\"Questions\")):INDIRECT(ADDRESS((A14)*20,1,1,TRUE,\"Questions\")))","v":0},{"$f":"B14/(20*Configurations!$F$7)*Configurations!$F$7","v":0},null,32,{"$f":"SUM(INDIRECT(ADDRESS((E14-1)*20+1,1,1,TRUE,\"Questions\")):INDIRECT(ADDRESS((E14)*20,1,1,TRUE,\"Questions\")))","v":0},{"$f":"F14/(20*Configurations!$F$7)*Configurations!$F$7","v":0},null,52,{"$f":"SUM(INDIRECT(ADDRESS((I14-1)*20+1,1,1,TRUE,\"Questions\")):INDIRECT(ADDRESS((I14)*20,1,1,TRUE,\"Questions\")))","v":0},{"$f":"J14/(20*Configurations!$F$7)*Configurations!$F$7","v":0},null,72,{"$f":"SUM(INDIRECT(ADDRESS((M14-1)*20+1,1,1,TRUE,\"Questions\")):INDIRECT(ADDRESS((M14)*20,1,1,TRUE,\"Questions\")))","v":0},{"$f":"N14/(20*Configurations!$F$7)*Configurations!$F$7","v":0},null,92,{"$f":"SUM(INDIRECT(ADDRESS((Q14-1)*20+1,1,1,TRUE,\"Questions\")):INDIRECT(ADDRESS((Q14)*20,1,1,TRUE,\"Questions\")))","v":0},{"$f":"R14/(20*Configurations!$F$7)*Configurations!$F$7","v":0}]
[13,{"$f":"SUM(INDIRECT(ADDRESS((A15-1)*20+1,1,1,TRUE,\"Questions\")):INDIRECT(ADDRESS((A15)*20,1,1,TRUE,\"Questions\")))","v":0},{"$f":"B15/(20*Configurations!$F$7)*Configurations!$F$7","v":0},null,33,{"$f":"SUM(INDIRECT(ADDRESS((E15-1)*20+1,1,1,TRUE,\"Questions\")):INDIRECT(ADDRESS((E15)*20,1,1,TRUE,\"Questions\")))","v":0},{"$f":"F15/(20*Configurations!$F$7)*Configurations!$F$7","v":0},null,53,{"$f":"SUM(INDIRECT(ADDRESS((I15-1)*20+1,1,1,TRUE,\"Questions\")):INDIRECT(ADDRESS((I15)*20,1,1,TRUE,\"Questions\")))","v":0},{"$f":"J15/(20*Configurations!$F$7)*Configurations!$F$7","v":0},null,73,{"$f":"SUM(INDIRECT(ADDRESS((M15-1)*20+1,1,1,TRUE,\"Questions\")):INDIRECT(ADDRESS((M15)*20,1,1,TRUE,\"Questions\")))","v":0},{"$f":"N15/(20*Configurations!$F$7)*Configurations!$F$7","v":0},null,93,{"$f":"SUM(INDIRECT(ADDRESS((Q15-1)*20+1,1,1,TRUE,\"Questions\")):INDIRECT(ADDRESS((Q15)*20,1,1,TRUE,\"Questions\")))","v":0},{"$f":"R15/(20*Configurations!$F$7)*Configurations!$F$7","v":0}]
[14,{"$f":"SUM(INDIRECT(ADDRESS((A16-1)*20+1,1,1,TRUE,\"Questions\")):INDIRECT(ADDRESS((A16)*20,1,1,TRUE,\"Questions\")))","v":0},{"$f":"B16/(20*Configurations!$F$7)*Configurations!$F$7","v":0},null,34,{"$f":"SUM(INDIRECT(ADDRESS((E16-1)*20+1,1,1,TRUE,\"Questions\")):INDIRECT(ADDRESS((E16)*20,1,1,TRUE,\"Questions\")))","v":0},{"$f":"F16/(20*Configurations!$F$7)*Configurations!$F$7","v":0},null,54,{"$f":"SUM(INDIRECT(ADDRESS((I16-1)*20+1,1,1,TRUE,\"Questions\")):INDIRECT(ADDRESS((I16)*20,1,1,TRUE,\"Questions\")))","v":0},{"$f":"J16/(20*Configurations!$F$7)*Configurations!$F$7","v":0},null,74,{"$f":"SUM(INDIRECT(ADDRESS((M16-1)*20+1,1,1,TRUE,\"Questions\")):INDIRECT(ADDRESS((M16)*20,1,1,TRUE,\"Questions\")))","v":0},{"$f":"N16/(20*Configurations!$F$7)*Configurations!$F$7","v":0},null,94,{"$f":"SUM(INDIRECT(ADDRESS((Q16-1)*20+1,1,1,TRUE,\"Questions\")):INDIRECT(ADDRESS((Q16)*20,1,1,TRUE,\"Questions\")))","v":0},{"$f":"R16/(20*Configurations!$F$7)*Configurations!$F$7","v":0}]
[15,{"$f":"SUM(INDIRECT(ADDRESS((A17-1)*20+1,1,1,TRUE,\"Questions\")):INDIRECT(ADDRESS((A17)*20,1,1,TRUE,\"Questions\")))","v":0},{"$f":"B17/(20*Configurations!$F$7)*Configurations!$F$7","v":0},null,35,{"$f":"SUM(INDIRECT(ADDRESS((E17-1)*20+1,1,1,TRUE,\"Questions\")):INDIRECT(ADDRESS((E17)*20,1,1,TRUE,\"Questions\")))","v":0},{"$f":"F17/(20*Configurations!$F$7)*Configurations!$F$7","v":0},null,55,{"$f":"SUM(INDIRECT(ADDRESS((I17-1)*20+1,1,1,TRUE,\"Questions\")):INDIRECT(ADDRESS((I17)*20,1,1,TRUE,\"Questions\")))","v":0},{"$f":"J17/(20*Configurations!$F$7)*Configurations!$F$7","v":0},null,75,{"$f":"SUM(INDIRECT(ADDRESS((M17-1)*20+1,1,1,TRUE,\"Questions\")):INDIRECT(ADDRESS((M17)*20,1,1,TRUE,\"Questions\")))","v":0},{"$f":"N17/(20*Configurations!$F$7)*Configurations!$F$7","v":0},null,95,{"$f":"SUM(INDIRECT(ADDRESS((Q17-1)*20+1,1,1,TRUE,\"Questions\")):INDIRECT(ADDRESS((Q17)*20,1,1,TRUE,\"Questions\")))","v":0},{"$f":"R17/(20*Configurations!$F$7)*Configurations!$F$7","v":0}]
[16,{"$f":"SUM(INDIRECT(ADDRESS((A18-1)*20+1,1,1,TRUE,\"Questions\")):INDIRECT(ADDRESS((A18)*20,1,1,TRUE,\"Questions\")))","v":0},{"$f":"B18/(20*Configurations!$F$7)*Configurations!$F$7","v":0},null,36,{"$f":"SUM(INDIRECT(ADDRESS((E18-1)*20+1,1,1,TRUE,\"Questions\")):INDIRECT(ADDRESS((E18)*20,1,1,TRUE,\"Questions\")))","v":0},{"$f":"F18/(20*Configurations!$F$7)*Configurations!$F$7","v":0},null,56,{"$f":"SUM(INDIRECT(ADDRESS((I18-1)*20+1,1,1,TRUE,\"Questions\")):INDIRECT(ADDRESS((I18)*20,1,1,TRUE,\"Questions\")))","v":0},{"$f":"J18/(20*Configurations!$F$7)*Configurations!$F$7","v":0},null,76,{"$f":"SUM(INDIRECT(ADDRESS((M18-1)*20+1,1,1,TRUE,\"Questions\")):INDIRECT(ADDRESS((M18)*20,1,1,TRUE,\"Questions\")))","v":0},{"$f":"N18/(20*Configurations!$F$7)*Configurations!$F$7","v":0},null,96,{"$f":"SUM(INDIRECT(ADDRESS((Q18-1)*20+1,1,1,TRUE,\"Questions\")):INDIRECT(ADDRESS((Q18)*20,1,1,TRUE,\"Questions\")))","v":0},{"$f":"R18/(20*Configurations!$F$7)*Configurations!$F$7","v":0}]
[17,{"$f":"SUM(INDIRECT(ADDRESS((A19-1)*20+1,1,1,TRUE,\"Questions\")):INDIRECT(ADDRESS((A19)*20,1,1,TRUE,\"Questions\")))","v":0},{"$f":"B19/(20*Configurations!$F$7)*Configurations!$F$7","v":0},null,37,{"$f":"SUM(INDIRECT(ADDRESS((E19-1)*20+1,1,1,TRUE,\"Questions\")):INDIRECT(ADDRESS((E19)*20,1,1,TRUE,\"Questions\")))","v":0},{"$f":"F19/(20*Configurations!$F$7)*Configurations!$F$7","v":0},null,57,{"$f":"SUM(INDIRECT(ADDRESS((I19-1)*20+1,1,1,TRUE,\"Questions\")):INDIRECT(ADDRESS((I19)*20,1,1,TRUE,\"Questions\")))","v":0},{"$f":"J19/(20*Configurations!$F$7)*Configurations!$F$7","v":0},null,77,{"$f":"SUM(INDIRECT(ADDRESS((M19-1)*20+1,1,1,TRUE,\"Questions\")):INDIRECT(ADDRESS((M19)*20,1,1,TRUE,\"Questions\")))","v":0},{"$f":"N19/(20*Configurations!$F$7)*Configurations!$F$7","v":0},null,97,{"$f":"SUM(INDIRECT(ADDRESS((Q19-1)*20+1,1,1,TRUE,\"Questions\")):INDIRECT(ADDRESS((Q19)*20,1,1,TRUE,\"Questions\")))","v":0},{"$f":"R19/(20*Configurations!$F$7)*Configurations!$F$7","v":0}]
[18,{"$f":"SUM(INDIRECT(ADDRESS((A20-1)*20+1,1,1,TRUE,\"Questions\")):INDIRECT(ADDRESS((A20)*20,1,1,TRUE,\"Questions\")))","v":0},{"$f":"B20/(20*Configurations!$F$7)*Configurations!$F$7","v":0},null,38,{"$f":"SUM(INDIRECT(ADDRESS((E20-1)*20+1,1,1,TRUE,\"Questions\")):INDIRECT(ADDRESS((E20)*20,1,1,TRUE,\"Questions\")))","v":0},{"$f":"F20/(20*Configurations!$F$7)*Configurations!$F$7","v":0},null,58,{"$f":"SUM(INDIRECT(ADDRESS((I20-1)*20+1,1,1,TRUE,\"Questions\")):INDIRECT(ADDRESS((I20)*20,1,1,TRUE,\"Questions\")))","v":0},{"$f":"J20/(20*Configurations!$F$7)*Configurations!$F$7","v":0},null,78,{"$f":"SUM(INDIRECT(ADDRESS((M20-1)*20+1,1,1,TRUE,\"Questions\")):INDIRECT(ADDRESS((M20)*20,1,1,TRUE,\"Questions\")))","v":0},{"$f":"N20/(20*Configurations!$F$7)*Configurations!$F$7","v":0},null,98,{"$f":"SUM(INDIRECT(ADDRESS((Q20-1)*20+1,1,1,TRUE,\"Questions\")):INDIRECT(ADDRESS((Q20)*20,1,1,TRUE,\"Questions\")))","v":0},{"$f":"R20/(20*Configurations!$F$7)*Configurations!$F$7","v":0}]
[19,{"$f":"SUM(INDIRECT(ADDRESS((A21-1)*20+1,1,1,TRUE,\"Questions\")):INDIRECT(ADDRESS((A21)*20,1,1,TRUE,\"Questions\")))","v":0},{"$f":"B21/(20*Configurations!$F$7)*Configurations!$F$7","v":0},null,39,{"$f":"SUM(INDIRECT(ADDRESS((E21-1)*20+1,1,1,TRUE,\"Questions\")):INDIRECT(ADDRESS((E21)*20,1,1,TRUE,\"Questions\")))","v":0},{"$f":"F21/(20*Configurations!$F$7)*Configurations!$F$7","v":0},null,59,{"$f":"SUM(INDIRECT(ADDRESS((I21-1)*20+1,1,1,TRUE,\"Questions\")):INDIRECT(ADDRESS((I21)*20,1,1,TRUE,\"Questions\")))","v":0},{"$f":"J21/(20*Configurations!$F$7)*Configurations!$F$7","v":0},null,79,{"$f":"SUM(INDIRECT(ADDRESS((M21-1)*20+1,1,1,TRUE,\"Questions\")):INDIRECT(ADDRESS((M21)*20,1,1,TRUE,\"Questions\")))","v":0},{"$f":"N21/(20*Configurations!$F$7)*Configurations!$F$7","v":0},null,99,{"$f":"SUM(INDIRECT(ADDRESS((Q21-1)*20+1,1,1,TRUE,\"Questions\")):INDIRECT(ADDRESS((Q21)*20,1,1,TRUE,\"Questions\")))","v":0},{"$f":"R21/(20*Configurations!$F$7)*Configurations!$F$7","v":0}]
[20,{"$f":"SUM(INDIRECT(ADDRESS((A22-1)*20+1,1,1,TRUE,\"Questions\")):INDIRECT(ADDRESS((A22)*20,1,1,TRUE,\"Questions\")))","v":0},{"$f":"B22/(20*Configurations!$F$7)*Configurations!$F$7","v":0},null,40,{"$f":"SUM(INDIRECT(ADDRESS((E22-1)*20+1,1,1,TRUE,\"Questions\")):INDIRECT(ADDRESS((E22)*20,1,1,TRUE,\"Questions\")))","v":0},{"$f":"F22/(20*Configurations!$F$7)*Configurations!$F$7","v":0},null,60,{"$f":"SUM(INDIRECT(ADDRESS((I22-1)*20+1,1,1,TRUE,\"Questions\")):INDIRECT(ADDRESS((I22)*20,1,1,TRUE,\"Questions\")))","v":0},{"$f":"J22/(20*Configurations!$F$7)*Configurations!$F$7","v":0},null,80,{"$f":"SUM(INDIRECT(ADDRESS((M22-1)*20+1,1,1,TRUE,\"Questions\")):INDIRECT(ADDRESS((M22)*20,1,1,TRUE,\"Questions\")))","v":0},{"$f":"N22/(20*Configurations!$F$7)*Configurations!$F$7","v":0},null,100,{"$f":"SUM(INDIRECT(ADDRESS((Q22-1)*20+1,1,1,TRUE,\"Questions\")):INDIRECT(ADDRESS((Q22)*20,1,1,TRUE,\"Questions\")))","v":0},{"$f":"R22/(20*Configurations!$F$7)*Configurations!$F$7","v":0}]
[]
[]
["Megaweaktrait: Lowest grade",null,null,null,null,0.25]
["Megastrongtrait: Highest grade",null,null,null,null,0.6]

{"sheet":"Quality","index":2,"n_rows":103,"n_cols":11,"rows_kept":103,"cut":false,"hidden":false,"merged":[]}
[0,"ANALYSIS OF THE CONSCIOUSNESS' EVALUATION SHEETS"]
[null,null,"TABLE SORTED BY MARK"]
["ITEM","VARIABLE","ES","QUALITY","GRADE","ST",{"$f":"A1","v":0}]
[1,{"$f":"Analysis!V41","v":"INTRASOMATICITY"},1,{"$f":"Analysis!V42","v":"Intrasomaticity (Conscin and Soma)"},{"$f":"Analysis!$X$42","v":0},{"$f":"Analysis!$W$42","v":0},{"$f":"G3+1","v":1}]
[2,{"$f":"Analysis!V41","v":"INTRASOMATICITY"},2,{"$f":"Analysis!V43","v":"Inheritance (Paragenetics and Genetics)"},{"$f":"Analysis!$X$43","v":0},{"$f":"Analysis!$W$43","v":0},{"$f":"G4+1","v":2}]
[3,{"$f":"Analysis!V41","v":"INTRASOMATICITY"},3,{"$f":"Analysis!V44","v":"Minority (Child-Conscin)"},{"$f":"Analysis!$X$44","v":0},{"$f":"Analysis!$W$44","v":0},3]
[4,{"$f":"Analysis!V41","v":"INTRASOMATICITY"},4,{"$f":"Analysis!V45","v":"Sexuality (Conscin, Soma and Sex)"},{"$f":"Analysis!$X$45","v":0},{"$f":"Analysis!$W$45","v":0},4]
[5,{"$f":"Analysis!V41","v":"INTRASOMATICITY"},5,{"$f":"Analysis!V46","v":"Youth (Juvenile-Conscin)"},{"$f":"Analysis!$X$46","v":0},{"$f":"Analysis!$W$46","v":0},5]
[6,{"$f":"Analysis!V41","v":"INTRASOMATICITY"},6,{"$f":"Analysis!V47","v":"Psychomotricity (Neurons and Muscle Mass)"},{"$f":"Analysis!$X$47","v":0},{"$f":"Analysis!$W$47","v":0},6]
[7,{"$f":"Analysis!V41","v":"INTRASOMATICITY"},7,{"$f":"Analysis!V48","v":"Scholarship (Personal Curriculum)"},{"$f":"Analysis!$X$48","v":0},{"$f":"Analysis!$W$48","v":0},7]
[8,{"$f":"Analysis!V41","v":"INTRASOMATICITY"},8,{"$f":"Analysis!V49","v":"Kinship (Conscin and Family)"},{"$f":"Analysis!$X$49","v":0},{"$f":"Analysis!$W$49","v":0},8,null,"Highlight the",10,"first"]
[9,{"$f":"Analysis!V41","v":"INTRASOMATICITY"},9,{"$f":"Analysis!V50","v":"Convivality (Cosmoethical links)"},{"$f":"Analysis!$X$50","v":0},{"$f":"Analysis!$W$50","v":0},9]
[10,{"$f":"Analysis!V41","v":"INTRASOMATICITY"},10,{"$f":"Analysis!V51","v":"Longevity (Old age)"},{"$f":"Analysis!$X$51","v":0},{"$f":"Analysis!$W$51","v":0},10]
[11,{"$f":"Analysis!V53","v":"BIOENERGETICS"},11,{"$f":"Analysis!V54","v":"Sensitivity (Consciential Energies)"},{"$f":"Analysis!$X$54","v":0},{"$f":"Analysis!$W$54","v":0},11]
[12,{"$f":"Analysis!V53","v":"BIOENERGETICS"},12,{"$f":"Analysis!V55","v":"Sexochakrality (Conscin and Sexochakra)"},{"$f":"Analysis!$X$55","v":0},{"$f":"Analysis!$W$55","v":0},12]
[13,{"$f":"Analysis!V53","v":"BIOENERGETICS"},13,{"$f":"Analysis!V56","v":"Vitality (Abdominal Sub-brain)"},{"$f":"Analysis!$X$56","v":0},{"$f":"Analysis!$W$56","v":0},13]
[14,{"$f":"Analysis!V53","v":"BIOENERGETICS"},14,{"$f":"Analysis!V57","v":"Applicability (Utilization of Bioenergies)"},{"$f":"Analysis!$X$57","v":0},{"$f":"Analysis!$W$57","v":0},14]
[15,{"$f":"Analysis!V53","v":"BIOENERGETICS"},15,{"$f":"Analysis!V58","v":"Frontochakrality (Conscin and the Third Eye)"},{"$f":"Analysis!$X$58","v":0},{"$f":"Analysis!$W$58","v":0},15]
[16,{"$f":"Analysis!V53","v":"BIOENERGETICS"},16,{"$f":"Analysis!V59","v":"Sanity (Homeostasis of the Conscin)"},{"$f":"Analysis!$X$59","v":0},{"$f":"Analysis!$W$59","v":0},16]
[17,{"$f":"Analysis!V53","v":"BIOENERGETICS"},17,{"$f":"Analysis!V60","v":"Self-Defensivity (Maturity of Prophylaxes)"},{"$f":"Analysis!$X$60","v":0},{"$f":"Analysis!$W$60","v":0},17]
[18,{"$f":"Analysis!V53","v":"BIOENERGETICS"},18,{"$f":"Analysis!V61","v":"Aquisitivity (Self-attachment and Self-detachment)"},{"$f":"Analysis!$X$61","v":0},{"$f":"Analysis!$W$61","v":0},18]
[19,{"$f":"Analysis!V53","v":"BIOENERGETICS"},19,{"$f":"Analysis!V62","v":"Detoxicity (Energetic Self-compensations)"},{"$f":"Analysis!$X$62","v":0},{"$f":"Analysis!$W$62","v":0},19]
[20,{"$f":"Analysis!V53","v":"BIOENERGETICS"},20,{"$f":"Analysis!V63","v":"Energosomaticity (Conscin and Energy Body)"},{"$f":"Analysis!$X$63","v":0},{"$f":"Analysis!$W$63","v":0},20]
[21,{"$f":"Analysis!V65","v":"ANTI-EMOTIONALITY"},21,{"$f":"Analysis!V66","v":"Anteriority (Presomatic Consciousness)"},{"$f":"Analysis!$X$66","v":0},{"$f":"Analysis!$W$66","v":0},21]
[22,{"$f":"Analysis!V65","v":"ANTI-EMOTIONALITY"},22,{"$f":"Analysis!V67","v":"Potentiality (Courage of the Consciousness)"},{"$f":"Analysis!$X$67","v":0},{"$f":"Analysis!$W$67","v":0},22]
[23,{"$f":"Analysis!V65","v":"ANTI-EMOTIONALITY"},23,{"$f":"Analysis!V68","v":"Serenity (Consciousness and Serenism)"},{"$f":"Analysis!$X$68","v":0},{"$f":"Analysis!$W$68","v":0},23]
[24,{"$f":"Analysis!V65","v":"ANTI-EMOTIONALITY"},24,{"$f":"Analysis!V69","v":"Cardiochakrality (Dominant Emotionality)"},{"$f":"Analysis!$X$69","v":0},{"$f":"Analysis!$W$69","v":0},24]
[25,{"$f":"Analysis!V65","v":"ANTI-EMOTIONALITY"},25,{"$f":"Analysis!V70","v":"Utility (Conscin and Free Time)"},{"$f":"Analysis!$X$70","v":0},{"$f":"Analysis!$W$70","v":0},25]
[26,{"$f":"Analysis!V65","v":"ANTI-EMOTIONALITY"},26,{"$f":"Analysis!V71","v":"Depth (Self-education and Superstitions)"},{"$f":"Analysis!$X$71","v":0},{"$f":"Analysis!$W$71","v":0},26]
[27,{"$f":"Analysis!V65","v":"ANTI-EMOTIONALITY"},27,{"$f":"Analysis!V72","v":"Influentiability (Satellite-Conscin)"},{"$f":"Analysis!$X$72","v":0},{"$f":"Analysis!$W$72","v":0},27]
[28,{"$f":"Analysis!V65","v":"ANTI-EMOTIONALITY"},28,{"$f":"Analysis!V73","v":"Paraperceptibility (Animism-Parapsiquism)"},{"$f":"Analysis!$X$73","v":0},{"$f":"Analysis!$W$73","v":0},28]
[29,{"$f":"Analysis!V65","v":"ANTI-EMOTIONALITY"},29,{"$f":"Analysis!V74","v":"Transcendentality (Conscin and Mysticism)"},{"$f":"Analysis!$X$74","v":0},{"$f":"Analysis!$W$74","v":0},29]
[30,{"$f":"Analysis!V65","v":"ANTI-EMOTIONALITY"},30,{"$f":"Analysis!V75","v":"Egokarmality (Conscin and Egotísm)"},{"$f":"Analysis!$X$75","v":0},{"$f":"Analysis!$W$75","v":0},30]
[31,{"$f":"Analysis!V77","v":"RATIONALITY"},31,{"$f":"Analysis!V78","v":"Invulgarity (Consciousness and Talents)"},{"$f":"Analysis!$X$78","v":0},{"$f":"Analysis!$W$78","v":0},31]
[32,{"$f":"Analysis!V77","v":"RATIONALITY"},32,{"$f":"Analysis!V79","v":"Rationality (Conscin and Mentalsoma)"},{"$f":"Analysis!$X$79","v":0},{"$f":"Analysis!$W$79","v":0},32]
[33,{"$f":"Analysis!V77","v":"RATIONALITY"},33,{"$f":"Analysis!V80","v":"Intellectuality (Conscin and Intelligence)"},{"$f":"Analysis!$X$80","v":0},{"$f":"Analysis!$W$80","v":0},33]
[34,{"$f":"Analysis!V77","v":"RATIONALITY"},34,{"$f":"Analysis!V81","v":"Personality (Personal Temperament)"},{"$f":"Analysis!$X$81","v":0},{"$f":"Analysis!$W$81","v":0},34]
[35,{"$f":"Analysis!V77","v":"RATIONALITY"},35,{"$f":"Analysis!V82","v":"Animicity (Conscin and Animism)"},{"$f":"Analysis!$X$82","v":0},{"$f":"Analysis!$W$82","v":0},35]
[36,{"$f":"Analysis!V77","v":"RATIONALITY"},36,{"$f":"Analysis!V83","v":"Megachakrality (Consciential Door)"},{"$f":"Analysis!$X$83","v":0},{"$f":"Analysis!$W$83","v":0},36]
[37,{"$f":"Analysis!V77","v":"RATIONALITY"},37,{"$f":"Analysis!V84","v":"Imperturbability (Conscin and Self-control)"},{"$f":"Analysis!$X$84","v":0},{"$f":"Analysis!$W$84","v":0},37]
[38,{"$f":"Analysis!V77","v":"RATIONALITY"},38,{"$f":"Analysis!V85","v":"Sentimentality (Controlled Emotionality)"},{"$f":"Analysis!$X$85","v":0},{"$f":"Analysis!$W$85","v":0},38]
[39,{"$f":"Analysis!V77","v":"RATIONALITY"},39,{"$f":"Analysis!V86","v":"Maxiconsensuality (Vanguard Knowledge)"},{"$f":"Analysis!$X$86","v":0},{"$f":"Analysis!$W$86","v":0},39]
[40,{"$f":"Analysis!V77","v":"RATIONALITY"},40,{"$f":"Analysis!V87","v":"Cosmoconscientiality (Conscin and Samadhi)"},{"$f":"Analysis!$X$87","v":0},{"$f":"Analysis!$W$87","v":0},40]
[41,{"$f":"Analysis!V89","v":"LEADERSHIP"},41,{"$f":"Analysis!V90","v":"Authority (Power of Conduction)"},{"$f":"Analysis!$X$90","v":0},{"$f":"Analysis!$W$90","v":0},41]
[42,{"$f":"Analysis!V89","v":"LEADERSHIP"},42,{"$f":"Analysis!V91","v":"Mentality (Self-evolutionary Politicology)"},{"$f":"Analysis!$X$91","v":0},{"$f":"Analysis!$W$91","v":0},42]
[43,{"$f":"Analysis!V89","v":"LEADERSHIP"},43,{"$f":"Analysis!V92","v":"Repercussionability (Multidimensional Leadership)"},{"$f":"Analysis!$X$92","v":0},{"$f":"Analysis!$W$92","v":0},43]
[44,{"$f":"Analysis!V89","v":"LEADERSHIP"},44,{"$f":"Analysis!V93","v":"Retractibility (Public Self-judgments)"},{"$f":"Analysis!$X$93","v":0},{"$f":"Analysis!$W$93","v":0},44]
[45,{"$f":"Analysis!V89","v":"LEADERSHIP"},45,{"$f":"Analysis!V94","v":"Anti-offensiveness (Utilization of Forgiveness)"},{"$f":"Analysis!$X$94","v":0},{"$f":"Analysis!$W$94","v":0},45]
[46,{"$f":"Analysis!V89","v":"LEADERSHIP"},46,{"$f":"Analysis!V95","v":"Antidispersiveness (Maturity of Performances)"},{"$f":"Analysis!$X$95","v":0},{"$f":"Analysis!$W$95","v":0},46]
[47,{"$f":"Analysis!V89","v":"LEADERSHIP"},47,{"$f":"Analysis!V96","v":"Productivity (Consciential Megagestations)"},{"$f":"Analysis!$X$96","v":0},{"$f":"Analysis!$W$96","v":0},47]
[48,{"$f":"Analysis!V89","v":"LEADERSHIP"},48,{"$f":"Analysis!V97","v":"Continuity (Mobilization of Consciousnesses)"},{"$f":"Analysis!$X$97","v":0},{"$f":"Analysis!$W$97","v":0},48]
[49,{"$f":"Analysis!V89","v":"LEADERSHIP"},49,{"$f":"Analysis!V98","v":"Contemporaneity (Conscin and its Epoch)"},{"$f":"Analysis!$X$98","v":0},{"$f":"Analysis!$W$98","v":0},49]
[50,{"$f":"Analysis!V89","v":"LEADERSHIP"},50,{"$f":"Analysis!V99","v":"Humanity (Conscin and Mesology)"},{"$f":"Analysis!$X$99","v":0},{"$f":"Analysis!$W$99","v":0},50]
[51,{"$f":"Analysis!V101","v":"COMMUNICABILITY"},51,{"$f":"Analysis!V102","v":"Sociability (Contacts of the Consciousness)"},{"$f":"Analysis!$X$102","v":0},{"$f":"Analysis!$W$102","v":0},51]
[52,{"$f":"Analysis!V101","v":"COMMUNICABILITY"},52,{"$f":"Analysis!V103","v":"Maxicommunicability (Conscin and Language)"},{"$f":"Analysis!$X$103","v":0},{"$f":"Analysis!$W$103","v":0},52]
[53,{"$f":"Analysis!V101","v":"COMMUNICABILITY"},53,{"$f":"Analysis!V104","v":"Reality (Conscin and Symbols)"},{"$f":"Analysis!$X$104","v":0},{"$f":"Analysis!$W$104","v":0},53]
[54,{"$f":"Analysis!V101","v":"COMMUNICABILITY"},54,{"$f":"Analysis!V105","v":"Syntacity (Exposition of Ideas)"},{"$f":"Analysis!$X$105","v":0},{"$f":"Analysis!$W$105","v":0},54]
[55,{"$f":"Analysis!V101","v":"COMMUNICABILITY"},55,{"$f":"Analysis!V106","v":"Fertility (Consciousness and Ideas)"},{"$f":"Analysis!$X$106","v":0},{"$f":"Analysis!$W$106","v":0},55]
[56,{"$f":"Analysis!V101","v":"COMMUNICABILITY"},56,{"$f":"Analysis!V107","v":"Reverifiability (Conscin and Omniquestioning)"},{"$f":"Analysis!$X$107","v":0},{"$f":"Analysis!$W$107","v":0},56]
[57,{"$f":"Analysis!V101","v":"COMMUNICABILITY"},57,{"$f":"Analysis!V108","v":"Aestheticity (Conscin and Art)"},{"$f":"Analysis!$X$108","v":0},{"$f":"Analysis!$W$108","v":0},57]
[58,{"$f":"Analysis!V101","v":"COMMUNICABILITY"},58,{"$f":"Analysis!V109","v":"Parapsychism (Multidimensional Interchange)"},{"$f":"Analysis!$X$109","v":0},{"$f":"Analysis!$W$109","v":0},58]
[59,{"$f":"Analysis!V101","v":"COMMUNICABILITY"},59,{"$f":"Analysis!V110","v":"Exotericity (Conscin and Openness)"},{"$f":"Analysis!$X$110","v":0},{"$f":"Analysis!$W$110","v":0},59]
[60,{"$f":"Analysis!V101","v":"COMMUNICABILITY"},60,{"$f":"Analysis!V111","v":"Opinionicity (Opinion for the Public)"},{"$f":"Analysis!$X$111","v":0},{"$f":"Analysis!$W$111","v":0},60]
[61,{"$f":"Analysis!V113","v":"PRIORITIZATION"},61,{"$f":"Analysis!V114","v":"Freedom (Conscin and Freewill)"},{"$f":"Analysis!$X$114","v":0},{"$f":"Analysis!$W$114","v":0},61]
[62,{"$f":"Analysis!V113","v":"PRIORITIZATION"},62,{"$f":"Analysis!V115","v":"Maxipriority (Maturity of Freewill)"},{"$f":"Analysis!$X$115","v":0},{"$f":"Analysis!$W$115","v":0},62]
[63,{"$f":"Analysis!V113","v":"PRIORITIZATION"},63,{"$f":"Analysis!V116","v":"Operosity (Personal Works)"},{"$f":"Analysis!$X$116","v":0},{"$f":"Analysis!$W$116","v":0},63]
[64,{"$f":"Analysis!V113","v":"PRIORITIZATION"},64,{"$f":"Analysis!V117","v":"Economicity (Conscin and Dollar Signs)"},{"$f":"Analysis!$X$117","v":0},{"$f":"Analysis!$W$117","v":0},64]
[65,{"$f":"Analysis!V113","v":"PRIORITIZATION"},65,{"$f":"Analysis!V118","v":"Professionality (Livelihood)"},{"$f":"Analysis!$X$118","v":0},{"$f":"Analysis!$W$118","v":0},65]
[66,{"$f":"Analysis!V113","v":"PRIORITIZATION"},66,{"$f":"Analysis!V119","v":"Activity (Maturity of Tasks)"},{"$f":"Analysis!$X$119","v":0},{"$f":"Analysis!$W$119","v":0},{"$f":"G68+1","v":66}]
[67,{"$f":"Analysis!V113","v":"PRIORITIZATION"},67,{"$f":"Analysis!V120","v":"Scientificity (Conscin and Science)"},{"$f":"Analysis!$X$120","v":0},{"$f":"Analysis!$W$120","v":0},67]
[68,{"$f":"Analysis!V113","v":"PRIORITIZATION"},68,{"$f":"Analysis!V121","v":"Versatility (Intellectual Universalism)"},{"$f":"Analysis!$X$121","v":0},{"$f":"Analysis!$W$121","v":0},68]
[69,{"$f":"Analysis!V113","v":"PRIORITIZATION"},69,{"$f":"Analysis!V122","v":"Totality (Completeness in Life)"},{"$f":"Analysis!$X$122","v":0},{"$f":"Analysis!$W$122","v":0},69]
[70,{"$f":"Analysis!V113","v":"PRIORITIZATION"},70,{"$f":"Analysis!V123","v":"Cosmoethicity (Conscin and Cosmoethics)"},{"$f":"Analysis!$X$123","v":0},{"$f":"Analysis!$W$123","v":0},70]
[71,{"$f":"Analysis!V125","v":"COHERENCE"},71,{"$f":"Analysis!V126","v":"Connectivity (Conscin and Coherence)"},{"$f":"Analysis!$X$126","v":0},{"$f":"Analysis!$W$126","v":0},71]
[72,{"$f":"Analysis!V125","v":"COHERENCE"},72,{"$f":"Analysis!V127","v":"Derepressivity (Deconditioning)"},{"$f":"Analysis!$X$127","v":0},{"$f":"Analysis!$W$127","v":0},72]
[73,{"$f":"Analysis!V125","v":"COHERENCE"},73,{"$f":"Analysis!V128","v":"Responsibility (Conscin and Ambiguities)"},{"$f":"Analysis!$X$128","v":0},{"$f":"Analysis!$W$128","v":0},73]
[74,{"$f":"Analysis!V125","v":"COHERENCE"},74,{"$f":"Analysis!V129","v":"Logicity (Conscin and Hyperacuity)"},{"$f":"Analysis!$X$129","v":0},{"$f":"Analysis!$W$129","v":0},74]
[75,{"$f":"Analysis!V125","v":"COHERENCE"},75,{"$f":"Analysis!V130","v":"Criticalness (Conscin and Criticism)"},{"$f":"Analysis!$X$130","v":0},{"$f":"Analysis!$W$130","v":0},75]
[76,{"$f":"Analysis!V125","v":"COHERENCE"},76,{"$f":"Analysis!V131","v":"Objectivity (Theory and Experience)"},{"$f":"Analysis!$X$131","v":0},{"$f":"Analysis!$W$131","v":0},76]
[77,{"$f":"Analysis!V125","v":"COHERENCE"},77,{"$f":"Analysis!V132","v":"Veracity (Words and Actions)"},{"$f":"Analysis!$X$132","v":0},{"$f":"Analysis!$W$132","v":0},77]
[78,{"$f":"Analysis!V125","v":"COHERENCE"},78,{"$f":"Analysis!V133","v":"Competitiveness (Conscin and Competition)"},{"$f":"Analysis!$X$133","v":0},{"$f":"Analysis!$W$133","v":0},78]
[79,{"$f":"Analysis!V125","v":"COHERENCE"},79,{"$f":"Analysis!V134","v":"Assistantiality (Sense of Generosity)"},{"$f":"Analysis!$X$134","v":0},{"$f":"Analysis!$W$134","v":0},79]
[80,{"$f":"Analysis!V125","v":"COHERENCE"},80,{"$f":"Analysis!V135","v":"Equanimity (Justice Consciousness)"},{"$f":"Analysis!$X$135","v":0},{"$f":"Analysis!$W$135","v":0},80]
[81,{"$f":"Analysis!V137","v":"CONSCIENTIALITY"},81,{"$f":"Analysis!V138","v":"Conscientiality (Consciousness and Immortality)"},{"$f":"Analysis!$X$138","v":0},{"$f":"Analysis!$W$138","v":0},81]
[82,{"$f":"Analysis!V137","v":"CONSCIENTIALITY"},82,{"$f":"Analysis!V139","v":"Identity (Conscins and Inheritances)"},{"$f":"Analysis!$X$139","v":0},{"$f":"Analysis!$W$139","v":0},82]
[83,{"$f":"Analysis!V137","v":"CONSCIENTIALITY"},83,{"$f":"Analysis!V140","v":"Antimateriality (Conscin and Materialism)"},{"$f":"Analysis!$X$140","v":0},{"$f":"Analysis!$W$140","v":0},83]
[84,{"$f":"Analysis!V137","v":"CONSCIENTIALITY"},84,{"$f":"Analysis!V141","v":"Seriality (Successive Lives)"},{"$f":"Analysis!$X$141","v":0},{"$f":"Analysis!$W$141","v":0},84]
[85,{"$f":"Analysis!V137","v":"CONSCIENTIALITY"},85,{"$f":"Analysis!V142","v":"Multidimensionality (Multidimensional Life)"},{"$f":"Analysis!$X$142","v":0},{"$f":"Analysis!$W$142","v":0},85]
[86,{"$f":"Analysis!V137","v":"CONSCIENTIALITY"},86,{"$f":"Analysis!V143","v":"Immediacy (Material Powers)"},{"$f":"Analysis!$X$143","v":0},{"$f":"Analysis!$W$143","v":0},86]
[87,{"$f":"Analysis!V137","v":"CONSCIENTIALITY"},87,{"$f":"Analysis!V144","v":"Groupkarmality (Conscin and Clan)"},{"$f":"Analysis!$X$144","v":0},{"$f":"Analysis!$W$144","v":0},87]
[88,{"$f":"Analysis!V137","v":"CONSCIENTIALITY"},88,{"$f":"Analysis!V145","v":"Pacificity (Conscin and Antibellicism)"},{"$f":"Analysis!$X$145","v":0},{"$f":"Analysis!$W$145","v":0},88]
[89,{"$f":"Analysis!V137","v":"CONSCIENTIALITY"},89,{"$f":"Analysis!V146","v":"Interconscientiality (Consciential Families)"},{"$f":"Analysis!$X$146","v":0},{"$f":"Analysis!$W$146","v":0},89]
[90,{"$f":"Analysis!V137","v":"CONSCIENTIALITY"},90,{"$f":"Analysis!V147","v":"Polykarmality (Universalized Karma)"},{"$f":"Analysis!$X$147","v":0},{"$f":"Analysis!$W$147","v":0},90]
[91,{"$f":"Analysis!V149","v":"UNIVERSALITY"},91,{"$f":"Analysis!V150","v":"Maxifraternity (Deliberate Altruism)"},{"$f":"Analysis!$X$150","v":0},{"$f":"Analysis!$W$150","v":0},91]
[92,{"$f":"Analysis!V149","v":"UNIVERSALITY"},92,{"$f":"Analysis!V151","v":"Statelessness (Consciousness and Citizenship)"},{"$f":"Analysis!$X$151","v":0},{"$f":"Analysis!$W$151","v":0},92]
[93,{"$f":"Analysis!V149","v":"UNIVERSALITY"},93,{"$f":"Analysis!V152","v":"Maxiuniversality (Conscin and Antisectarianism)"},{"$f":"Analysis!$X$152","v":0},{"$f":"Analysis!$W$152","v":0},93]
[94,{"$f":"Analysis!V149","v":"UNIVERSALITY"},94,{"$f":"Analysis!V153","v":"Authenticity (Conscin and Demagogies)"},{"$f":"Analysis!$X$153","v":0},{"$f":"Analysis!$W$153","v":0},94]
[95,{"$f":"Analysis!V149","v":"UNIVERSALITY"},95,{"$f":"Analysis!V154","v":"Omnicooperativity (Vanguard Collaboration)"},{"$f":"Analysis!$X$154","v":0},{"$f":"Analysis!$W$154","v":0},95]
[96,{"$f":"Analysis!V149","v":"UNIVERSALITY"},96,{"$f":"Analysis!V155","v":"Phytocoexistentiality (Conscin and Flora)"},{"$f":"Analysis!$X$155","v":0},{"$f":"Analysis!$W$155","v":0},96]
[97,{"$f":"Analysis!V149","v":"UNIVERSALITY"},97,{"$f":"Analysis!V156","v":"Zoocoexistentiality (Conscin and Fauna)"},{"$f":"Analysis!$X$156","v":0},{"$f":"Analysis!$W$156","v":0},97]
[98,{"$f":"Analysis!V149","v":"UNIVERSALITY"},98,{"$f":"Analysis!V157","v":"Inseparability (Conscin and Interdependences)"},{"$f":"Analysis!$X$157","v":0},{"$f":"Analysis!$W$157","v":0},98]
[99,{"$f":"Analysis!V149","v":"UNIVERSALITY"},99,{"$f":"Analysis!V158","v":"Holosomaticity (Conscin and Instruments)"},{"$f":"Analysis!$X$158","v":0},{"$f":"Analysis!$W$158","v":0},99]
[100,{"$f":"Analysis!V149","v":"UNIVERSALITY"},100,{"$f":"Analysis!V159","v":"Holokarmality (Integral Karma)"},{"$f":"Analysis!$X$159","v":0},{"$f":"Analysis!$W$159","v":0},100]

{"sheet":"Analysis","index":3,"n_rows":159,"n_cols":26,"rows_kept":159,"cut":false,"hidden":false,"merged":[[136,24,146,24],[148,24,158,24],[40,24,50,24],[100,24,110,24],[112,24,122,24],[124,24,134,24],[88,24,98,24],[76,24,86,24],[64,24,74,24],[52,24,62,24]]}
[]
[]
[]
[null,"MAP OF THE GLOBAL EVALUATION OF THE CONSCIOUSNESS",null,null,null,null,null,null,null,null,null,null,null,null,null,null,null,null,null,null,"JUDGEMENTAL EVALUATION OF THE CONSCIOUSNESS"]
[]
[]
[]
[]
[null,null,null,null,null,null,null,null,null,null,null,null,null,null,null,null,null,null,null,null,"MEGASTRONGTRAIT  -  MEGAWEAKTRAIT",null,null,null,"EVOLUTIONARY SCALE OF CONSCIOUSNESSES"]
[]
[null,null,null,null,null,null,null,null,null,null,null,null,null,null,null,null,null,null,null,1,{"$f":"$Y$65","v":0},{"$f":"$V$65","v":"ANTI-EMOTIONALITY"},null,null,0.1,"TRANSMIGRATED CONSREUS"]
[null,null,null,null,null,null,null,null,null,null,null,null,null,null,null,null,null,null,null,2,{"$f":"$Y$53","v":0},{"$f":"$V$53","v":"BIOENERGETICS"},null,null,0.2,"RESOMATED CONSREUS"]
[null,null,null,null,null,null,null,null,null,null,null,null,null,null,null,null,null,null,null,3,{"$f":"$Y$125","v":0},{"$f":"$V$125","v":"COHERENCE"},null,null,0.25,"COMMON PRE-SERENISSIMUS"]
[null,null,null,null,null,null,null,null,null,null,null,null,null,null,null,null,null,null,null,4,{"$f":"$Y$101","v":0},{"$f":"$V$101","v":"COMMUNICABILITY"},null,null,0.25,"UNCONSCIOUS BAIT"]
[null,null,null,null,null,null,null,null,null,null,null,null,null,null,null,null,null,null,null,5,{"$f":"$Y$137","v":0},{"$f":"$V$137","v":"CONSCIENTIALITY"},null,null,0.25,"PENTA PRACTITIONER"]
[null,null,null,null,null,null,null,null,null,null,null,null,null,null,null,null,null,null,null,6,{"$f":"$Y$41","v":0},{"$f":"$V$41","v":"INTRASOMATICITY"},null,null,0.3,"CONSCIOUS PROJECTOR"]
[null,null,null,null,null,null,null,null,null,null,null,null,null,null,null,null,null,null,null,7,{"$f":"$Y$89","v":0},{"$f":"$V$89","v":"LEADERSHIP"},null,null,0.35,"LUCID EPICON"]
[null,null,null,null,null,null,null,null,null,null,null,null,null,null,null,null,null,null,null,8,{"$f":"$Y$113","v":0},{"$f":"$V$113","v":"PRIORITIZATION"},null,null,0.4,"CONSCIENTIOLOGIST"]
[null,null,null,null,null,null,null,null,null,null,null,null,null,null,null,null,null,null,null,9,{"$f":"$Y$77","v":0},{"$f":"$V$77","v":"RATIONALITY"},null,null,0.5,"PERMANINTFREE"]
[null,null,null,null,null,null,null,null,null,null,null,null,null,null,null,null,null,null,null,10,{"$f":"$Y$149","v":0},{"$f":"$V$149","v":"UNIVERSALITY"},null,null,0.6,"SEMI-CONSCIEX"]
[null,null,null,null,null,null,null,null,null,null,null,null,null,null,null,null,null,null,null,null,null,null,null,null,0.65,"SELF-CRITICAL TELEGUIDED"]
[null,null,null,null,null,null,null,null,null,null,null,null,null,null,null,null,null,null,null,null,null,null,null,null,0.75,"EVOLUTIONOLOGIST"]
[null,null,null,null,null,null,null,null,null,null,null,null,null,null,null,null,null,null,null,null,null,null,null,null,1,"SERENISSIMUS"]
[null,null,null,null,null,null,null,null,null,null,null,null,null,null,null,null,null,null,null,null,null,null,null,null,"∞","FREE CONSCIEX"]
[]
[]
[]
[]
[null,null,null,null,null,null,null,null,null,null,null,null,null,null,null,null,null,null,null,null,null,"Total Score for the Conscientiogram",{"$f":"SUM(W42:W159)/(2000-(COUNTIF(Questions!C1:C2000,\"na\")+COUNTIF(Questions!C1:C2000,\"\")))/[0]!MaxQuestionValue","v":{"$error":"#DIV/0!"}}]
[null,null,null,null,null,null,null,null,null,null,null,null,null,null,null,null,null,null,null,null,null,"Evaluation Sheet   Megaweaktrait:",{"$f":"W29-W34","v":{"$error":"#DIV/0!"}},null," variation below the average"]
[null,null,null,null,null,null,null,null,null,null,null,null,null,null,null,null,null,null,null,null,null,"Megastrongtrait:",{"$f":"W29+W34","v":{"$error":"#DIV/0!"}},null," variation above the average"]
[null,null,null,null,null,null,null,null,null,null,null,null,null,null,null,null,null,null,null,null,null,"Question             Megaweaktrait:",2.5,null,"below"]
[null,null,null,null,null,null,null,null,null,null,null,null,null,null,null,null,null,null,null,null,null,"Megastrongtrait:",5,null,"above"]
[null,null,null,null,null,null,null,null,null,null,null,null,null,null,null,null,null,null,null,null,null,"Variation from the average : ",0.1,null,"error in the responses"]
[null,null,null,null,null,null,null,null,null,null,null,null,null,null,null,null,null,null,null,null,null,null,null,"NA - Not Applicable"]
[]
[]
[]
[]
[]
[null,1,2,3,4,5,6,7,8,9,10,11,12,13,14,15,16,17,18,19,20,"INTRASOMATICITY","ST","T",{"$f":"SUM(W42:W51)/(IF(COUNTIF(X42:X51,\">0\")>0,COUNTIF(X42:X51,\">0\"),1)*20*Configurations!$F$7)","v":0}]
[1,{"$f":"Questions!C1","v":0},{"$f":"Questions!C2","v":0},{"$f":"Questions!C3","v":0},{"$f":"Questions!C4","v":0},{"$f":"Questions!C5","v":0},{"$f":"Questions!C6","v":0},{"$f":"Questions!C7","v":0},{"$f":"Questions!C8","v":0},{"$f":"Questions!C9","v":0},{"$f":"Questions!C10","v":0},{"$f":"Questions!C11","v":0},{"$f":"Questions!C12","v":0},{"$f":"Questions!C13","v":0},{"$f":"Questions!C14","v":0},{"$f":"Questions!C15","v":0},{"$f":"Questions!C16","v":0},{"$f":"Questions!C17","v":0},{"$f":"Questions!C18","v":0},{"$f":"Questions!C19","v":0},{"$f":"Questions!C20","v":0},"Intrasomaticity (Conscin and Soma)",{"$f":"IF(COUNTIF(B42:U42,\"na\")=20,\"na\",SUM(B42:U42))","v":0},{"$f":"IF(W42=\"na\",0,W42/((20-COUNTIF(B42:U42,\"na\"))*Configurations!$F$7))","v":0}]
[2,{"$f":"Questions!C21","v":0},{"$f":"Questions!C22","v":0},{"$f":"Questions!C23","v":0},{"$f":"Questions!C24","v":0},{"$f":"Questions!C25","v":0},{"$f":"Questions!C26","v":0},{"$f":"Questions!C27","v":0},{"$f":"Questions!C28","v":0},{"$f":"Questions!C29","v":0},{"$f":"Questions!C30","v":0},{"$f":"Questions!C31","v":0},{"$f":"Questions!C32","v":0},{"$f":"Questions!C33","v":0},{"$f":"Questions!C34","v":0},{"$f":"Questions!C35","v":0},{"$f":"Questions!C36","v":0},{"$f":"Questions!C37","v":0},{"$f":"Questions!C38","v":0},{"$f":"Questions!C39","v":0},{"$f":"Questions!C40","v":0},"Inheritance (Paragenetics and Genetics)",0,{"$f":"IF(W43=\"na\",0,W43/((20-COUNTIF(B43:U43,\"na\"))*Configurations!$F$7))","v":0}]
[3,{"$f":"Questions!C41","v":0},{"$f":"Questions!C42","v":0},{"$f":"Questions!C43","v":0},{"$f":"Questions!C44","v":0},{"$f":"Questions!C45","v":0},{"$f":"Questions!C46","v":0},{"$f":"Questions!C47","v":0},{"$f":"Questions!C48","v":0},{"$f":"Questions!C49","v":0},{"$f":"Questions!C50","v":0},{"$f":"Questions!C51","v":0},{"$f":"Questions!C52","v":0},{"$f":"Questions!C53","v":0},{"$f":"Questions!C54","v":0},{"$f":"Questions!C55","v":0},{"$f":"Questions!C56","v":0},{"$f":"Questions!C57","v":0},{"$f":"Questions!C58","v":0},{"$f":"Questions!C59","v":0},{"$f":"Questions!C60","v":0},"Minority (Child-Conscin)",0,{"$f":"IF(W44=\"na\",0,W44/((20-COUNTIF(B44:U44,\"na\"))*Configurations!$F$7))","v":0}]
[4,{"$f":"Questions!C61","v":0},{"$f":"Questions!C62","v":0},{"$f":"Questions!C63","v":0},{"$f":"Questions!C64","v":0},{"$f":"Questions!C65","v":0},{"$f":"Questions!C66","v":0},{"$f":"Questions!C67","v":0},{"$f":"Questions!C68","v":0},{"$f":"Questions!C69","v":0},{"$f":"Questions!C70","v":0},{"$f":"Questions!C71","v":0},{"$f":"Questions!C72","v":0},{"$f":"Questions!C73","v":0},{"$f":"Questions!C74","v":0},{"$f":"Questions!C75","v":0},{"$f":"Questions!C76","v":0},{"$f":"Questions!C77","v":0},{"$f":"Questions!C78","v":0},{"$f":"Questions!C79","v":0},{"$f":"Questions!C80","v":0},"Sexuality (Conscin, Soma and Sex)",0,{"$f":"IF(W45=\"na\",0,W45/((20-COUNTIF(B45:U45,\"na\"))*Configurations!$F$7))","v":0}]
[5,{"$f":"Questions!C81","v":0},{"$f":"Questions!C82","v":0},{"$f":"Questions!C83","v":0},{"$f":"Questions!C84","v":0},{"$f":"Questions!C85","v":0},{"$f":"Questions!C86","v":0},{"$f":"Questions!C87","v":0},{"$f":"Questions!C88","v":0},{"$f":"Questions!C89","v":0},{"$f":"Questions!C90","v":0},{"$f":"Questions!C91","v":0},{"$f":"Questions!C92","v":0},{"$f":"Questions!C93","v":0},{"$f":"Questions!C94","v":0},{"$f":"Questions!C95","v":0},{"$f":"Questions!C96","v":0},{"$f":"Questions!C97","v":0},{"$f":"Questions!C98","v":0},{"$f":"Questions!C99","v":0},{"$f":"Questions!C100","v":0},"Youth (Juvenile-Conscin)",0,{"$f":"IF(W46=\"na\",0,W46/((20-COUNTIF(B46:U46,\"na\"))*Configurations!$F$7))","v":0}]
[6,{"$f":"Questions!C101","v":0},{"$f":"Questions!C102","v":0},{"$f":"Questions!C103","v":0},{"$f":"Questions!C104","v":0},{"$f":"Questions!C105","v":0},{"$f":"Questions!C106","v":0},{"$f":"Questions!C107","v":0},{"$f":"Questions!C108","v":0},{"$f":"Questions!C109","v":0},{"$f":"Questions!C110","v":0},{"$f":"Questions!C111","v":0},{"$f":"Questions!C112","v":0},{"$f":"Questions!C113","v":0},{"$f":"Questions!C114","v":0},{"$f":"Questions!C115","v":0},{"$f":"Questions!C116","v":0},{"$f":"Questions!C117","v":0},{"$f":"Questions!C118","v":0},{"$f":"Questions!C119","v":0},{"$f":"Questions!C120","v":0},"Psychomotricity (Neurons and Muscle Mass)",0,{"$f":"IF(W47=\"na\",0,W47/((20-COUNTIF(B47:U47,\"na\"))*Configurations!$F$7))","v":0}]
[7,{"$f":"Questions!C121","v":0},{"$f":"Questions!C122","v":0},{"$f":"Questions!$C123","v":0},{"$f":"Questions!$C124","v":0},{"$f":"Questions!$C125","v":0},{"$f":"Questions!$C126","v":0},{"$f":"Questions!C127","v":0},{"$f":"Questions!C128","v":0},{"$f":"Questions!$C129","v":0},{"$f":"Questions!C130","v":0},{"$f":"Questions!C131","v":0},{"$f":"Questions!$C132","v":0},{"$f":"Questions!C133","v":0},{"$f":"Questions!C134","v":0},{"$f":"Questions!$C135","v":0},{"$f":"Questions!$C136","v":0},{"$f":"Questions!C137","v":0},{"$f":"Questions!$C138","v":0},{"$f":"Questions!$C139","v":0},{"$f":"Questions!$C140","v":0},"Scholarship (Personal Curriculum)",0,{"$f":"IF(W48=\"na\",0,W48/((20-COUNTIF(B48:U48,\"na\"))*Configurations!$F$7))","v":0}]
[8,{"$f":"Questions!$C141","v":0},{"$f":"Questions!$C142","v":0},{"$f":"Questions!$C143","v":0},{"$f":"Questions!$C144","v":0},{"$f":"Questions!$C145","v":0},{"$f":"Questions!$C146","v":0},{"$f":"Questions!C147","v":0},{"$f":"Questions!C148","v":0},{"$f":"Questions!$C149","v":0},{"$f":"Questions!C150","v":0},{"$f":"Questions!C151","v":0},{"$f":"Questions!$C152","v":0},{"$f":"Questions!C153","v":0},{"$f":"Questions!C154","v":0},{"$f":"Questions!$C155","v":0},{"$f":"Questions!$C156","v":0},{"$f":"Questions!C157","v":0},{"$f":"Questions!$C158","v":0},{"$f":"Questions!$C159","v":0},{"$f":"Questions!$C160","v":0},"Kinship (Conscin and Family)",0,{"$f":"IF(W49=\"na\",0,W49/((20-COUNTIF(B49:U49,\"na\"))*Configurations!$F$7))","v":0}]
[9,{"$f":"Questions!$C161","v":0},{"$f":"Questions!$C162","v":0},{"$f":"Questions!$C163","v":0},{"$f":"Questions!$C164","v":0},{"$f":"Questions!$C165","v":0},{"$f":"Questions!$C166","v":0},{"$f":"Questions!C167","v":0},{"$f":"Questions!C168","v":0},{"$f":"Questions!$C169","v":0},{"$f":"Questions!C170","v":0},{"$f":"Questions!C171","v":0},{"$f":"Questions!$C172","v":0},{"$f":"Questions!C173","v":0},{"$f":"Questions!C174","v":0},{"$f":"Questions!$C175","v":0},{"$f":"Questions!$C176","v":0},{"$f":"Questions!C177","v":0},{"$f":"Questions!$C178","v":0},{"$f":"Questions!$C179","v":0},{"$f":"Questions!$C180","v":0},"Convivality (Cosmoethical links)",0,{"$f":"IF(W50=\"na\",0,W50/((20-COUNTIF(B50:U50,\"na\"))*Configurations!$F$7))","v":0}]
[10,{"$f":"Questions!$C181","v":0},{"$f":"Questions!$C182","v":0},{"$f":"Questions!$C183","v":0},{"$f":"Questions!$C184","v":0},{"$f":"Questions!$C185","v":0},{"$f":"Questions!$C186","v":0},{"$f":"Questions!C187","v":0},{"$f":"Questions!C188","v":0},{"$f":"Questions!$C189","v":0},{"$f":"Questions!C190","v":0},{"$f":"Questions!C191","v":0},{"$f":"Questions!$C192","v":0},{"$f":"Questions!C193","v":0},{"$f":"Questions!C194","v":0},{"$f":"Questions!$C195","v":0},{"$f":"Questions!$C196","v":0},{"$f":"Questions!C197","v":0},{"$f":"Questions!$C198","v":0},{"$f":"Questions!$C199","v":0},{"$f":"Questions!$C200","v":0},"Longevity (Old age)",{"$f":"IF(COUNTIF(B51:U51,\"na\")=20,\"na\",SUM(B51:U51))","v":0},{"$f":"IF(W51=\"na\",0,W51/((20-COUNTIF(B51:U51,\"na\"))*Configurations!$F$7))","v":0}]
[]
[null,1,2,3,4,5,6,7,8,9,10,11,12,13,14,15,16,17,18,19,20,"BIOENERGETICS","ST","T",{"$f":"SUM(W54:W63)/(IF(COUNTIF(X54:X63,\">0\")>0,COUNTIF(X54:X63,\">0\"),1)*20*Configurations!$F$7)","v":0}]
[11,{"$f":"Questions!$C201","v":0},{"$f":"Questions!$C202","v":0},{"$f":"Questions!$C203","v":0},{"$f":"Questions!$C204","v":0},{"$f":"Questions!$C205","v":0},{"$f":"Questions!$C206","v":0},{"$f":"Questions!$C207","v":0},{"$f":"Questions!$C208","v":0},{"$f":"Questions!$C209","v":0},{"$f":"Questions!$C210","v":0},{"$f":"Questions!$C211","v":0},{"$f":"Questions!$C212","v":0},{"$f":"Questions!$C213","v":0},{"$f":"Questions!$C214","v":0},{"$f":"Questions!$C215","v":0},{"$f":"Questions!$C216","v":0},{"$f":"Questions!$C217","v":0},{"$f":"Questions!$C218","v":0},{"$f":"Questions!$C219","v":0},{"$f":"Questions!$C220","v":0},"Sensitivity (Consciential Energies)",{"$f":"IF(COUNTIF(B54:U54,\"na\")=20,\"na\",SUM(B54:U54))","v":0},{"$f":"IF(W54=\"na\",0,W54/((20-COUNTIF(B54:U54,\"na\"))*Configurations!$F$7))","v":0}]
[12,{"$f":"Questions!$C221","v":0},{"$f":"Questions!$C222","v":0},{"$f":"Questions!$C223","v":0},{"$f":"Questions!$C224","v":0},{"$f":"Questions!$C225","v":0},{"$f":"Questions!$C226","v":0},{"$f":"Questions!$C227","v":0},{"$f":"Questions!$C228","v":0},{"$f":"Questions!$C229","v":0},{"$f":"Questions!$C230","v":0},{"$f":"Questions!$C231","v":0},{"$f":"Questions!$C232","v":0},{"$f":"Questions!$C233","v":0},{"$f":"Questions!$C234","v":0},{"$f":"Questions!$C235","v":0},{"$f":"Questions!$C236","v":0},{"$f":"Questions!$C237","v":0},{"$f":"Questions!$C238","v":0},{"$f":"Questions!$C239","v":0},{"$f":"Questions!$C240","v":0},"Sexochakrality (Conscin and Sexochakra)",0,{"$f":"IF(W55=\"na\",0,W55/((20-COUNTIF(B55:U55,\"na\"))*Configurations!$F$7))","v":0}]
[13,{"$f":"Questions!$C241","v":0},{"$f":"Questions!$C242","v":0},{"$f":"Questions!$C243","v":0},{"$f":"Questions!$C244","v":0},{"$f":"Questions!$C245","v":0},{"$f":"Questions!$C246","v":0},{"$f":"Questions!$C247","v":0},{"$f":"Questions!$C248","v":0},{"$f":"Questions!$C249","v":0},{"$f":"Questions!$C250","v":0},{"$f":"Questions!$C251","v":0},{"$f":"Questions!$C252","v":0},{"$f":"Questions!$C253","v":0},{"$f":"Questions!$C254","v":0},{"$f":"Questions!$C255","v":0},{"$f":"Questions!$C256","v":0},{"$f":"Questions!$C257","v":0},{"$f":"Questions!$C258","v":0},{"$f":"Questions!$C259","v":0},{"$f":"Questions!$C260","v":0},"Vitality (Abdominal Sub-brain)",0,{"$f":"IF(W56=\"na\",0,W56/((20-COUNTIF(B56:U56,\"na\"))*Configurations!$F$7))","v":0}]
[14,{"$f":"Questions!$C261","v":0},{"$f":"Questions!$C262","v":0},{"$f":"Questions!$C263","v":0},{"$f":"Questions!$C264","v":0},{"$f":"Questions!$C265","v":0},{"$f":"Questions!$C266","v":0},{"$f":"Questions!$C267","v":0},{"$f":"Questions!$C268","v":0},{"$f":"Questions!$C269","v":0},{"$f":"Questions!$C270","v":0},{"$f":"Questions!$C271","v":0},{"$f":"Questions!$C272","v":0},{"$f":"Questions!$C273","v":0},{"$f":"Questions!$C274","v":0},{"$f":"Questions!$C275","v":0},{"$f":"Questions!$C276","v":0},{"$f":"Questions!$C277","v":0},{"$f":"Questions!$C278","v":0},{"$f":"Questions!$C279","v":0},{"$f":"Questions!$C280","v":0},"Applicability (Utilization of Bioenergies)",0,{"$f":"IF(W57=\"na\",0,W57/((20-COUNTIF(B57:U57,\"na\"))*Configurations!$F$7))","v":0}]
[15,{"$f":"Questions!$C281","v":0},{"$f":"Questions!$C282","v":0},{"$f":"Questions!$C283","v":0},{"$f":"Questions!$C284","v":0},{"$f":"Questions!$C285","v":0},{"$f":"Questions!$C286","v":0},{"$f":"Questions!$C287","v":0},{"$f":"Questions!$C288","v":0},{"$f":"Questions!$C289","v":0},{"$f":"Questions!$C290","v":0},{"$f":"Questions!$C291","v":0},{"$f":"Questions!$C292","v":0},{"$f":"Questions!$C293","v":0},{"$f":"Questions!$C294","v":0},{"$f":"Questions!$C295","v":0},{"$f":"Questions!$C296","v":0},{"$f":"Questions!$C297","v":0},{"$f":"Questions!$C298","v":0},{"$f":"Questions!$C299","v":0},{"$f":"Questions!$C300","v":0},"Frontochakrality (Conscin and the Third Eye)",0,{"$f":"IF(W58=\"na\",0,W58/((20-COUNTIF(B58:U58,\"na\"))*Configurations!$F$7))","v":0}]
[16,{"$f":"Questions!$C301","v":0},{"$f":"Questions!$C302","v":0},{"$f":"Questions!$C303","v":0},{"$f":"Questions!$C304","v":0},{"$f":"Questions!$C305","v":0},{"$f":"Questions!$C306","v":0},{"$f":"Questions!$C307","v":0},{"$f":"Questions!$C308","v":0},{"$f":"Questions!$C309","v":0},{"$f":"Questions!$C310","v":0},{"$f":"Questions!$C311","v":0},{"$f":"Questions!$C312","v":0},{"$f":"Questions!$C313","v":0},{"$f":"Questions!$C314","v":0},{"$f":"Questions!$C315","v":0},{"$f":"Questions!$C316","v":0},{"$f":"Questions!$C317","v":0},{"$f":"Questions!$C318","v":0},{"$f":"Questions!$C319","v":0},{"$f":"Questions!$C320","v":0},"Sanity (Homeostasis of the Conscin)",0,{"$f":"IF(W59=\"na\",0,W59/((20-COUNTIF(B59:U59,\"na\"))*Configurations!$F$7))","v":0}]
[17,{"$f":"Questions!$C321","v":0},{"$f":"Questions!$C322","v":0},{"$f":"Questions!$C323","v":0},{"$f":"Questions!$C324","v":0},{"$f":"Questions!$C325","v":0},{"$f":"Questions!$C326","v":0},{"$f":"Questions!$C327","v":0},{"$f":"Questions!$C328","v":0},{"$f":"Questions!$C329","v":0},{"$f":"Questions!$C330","v":0},{"$f":"Questions!$C331","v":0},{"$f":"Questions!$C332","v":0},{"$f":"Questions!$C333","v":0},{"$f":"Questions!$C334","v":0},{"$f":"Questions!$C335","v":0},{"$f":"Questions!$C336","v":0},{"$f":"Questions!$C337","v":0},{"$f":"Questions!$C338","v":0},{"$f":"Questions!$C339","v":0},{"$f":"Questions!$C340","v":0},"Self-Defensivity (Maturity of Prophylaxes)",0,{"$f":"IF(W60=\"na\",0,W60/((20-COUNTIF(B60:U60,\"na\"))*Configurations!$F$7))","v":0}]
[18,{"$f":"Questions!$C341","v":0},{"$f":"Questions!$C342","v":0},{"$f":"Questions!$C343","v":0},{"$f":"Questions!$C344","v":0},{"$f":"Questions!$C345","v":0},{"$f":"Questions!$C346","v":0},{"$f":"Questions!$C347","v":0},{"$f":"Questions!$C348","v":0},{"$f":"Questions!$C349","v":0},{"$f":"Questions!$C350","v":0},{"$f":"Questions!$C351","v":0},{"$f":"Questions!$C352","v":0},{"$f":"Questions!$C353","v":0},{"$f":"Questions!$C354","v":0},{"$f":"Questions!$C355","v":0},{"$f":"Questions!$C356","v":0},{"$f":"Questions!$C357","v":0},{"$f":"Questions!$C358","v":0},{"$f":"Questions!$C359","v":0},{"$f":"Questions!$C360","v":0},"Aquisitivity (Self-attachment and Self-detachment)",0,{"$f":"IF(W61=\"na\",0,W61/((20-COUNTIF(B61:U61,\"na\"))*Configurations!$F$7))","v":0}]
[19,{"$f":"Questions!$C361","v":0},{"$f":"Questions!$C362","v":0},{"$f":"Questions!$C363","v":0},{"$f":"Questions!$C364","v":0},{"$f":"Questions!$C365","v":0},{"$f":"Questions!$C366","v":0},{"$f":"Questions!$C367","v":0},{"$f":"Questions!$C368","v":0},{"$f":"Questions!$C369","v":0},{"$f":"Questions!$C370","v":0},{"$f":"Questions!$C371","v":0},{"$f":"Questions!$C372","v":0},{"$f":"Questions!$C373","v":0},{"$f":"Questions!$C374","v":0},{"$f":"Questions!$C375","v":0},{"$f":"Questions!$C376","v":0},{"$f":"Questions!$C377","v":0},{"$f":"Questions!$C378","v":0},{"$f":"Questions!$C379","v":0},{"$f":"Questions!$C380","v":0},"Detoxicity (Energetic Self-compensations)",0,{"$f":"IF(W62=\"na\",0,W62/((20-COUNTIF(B62:U62,\"na\"))*Configurations!$F$7))","v":0}]
[20,{"$f":"Questions!$C381","v":0},{"$f":"Questions!$C382","v":0},{"$f":"Questions!$C383","v":0},{"$f":"Questions!$C384","v":0},{"$f":"Questions!$C385","v":0},{"$f":"Questions!$C386","v":0},{"$f":"Questions!$C387","v":0},{"$f":"Questions!$C388","v":0},{"$f":"Questions!$C389","v":0},{"$f":"Questions!$C390","v":0},{"$f":"Questions!$C391","v":0},{"$f":"Questions!$C392","v":0},{"$f":"Questions!$C393","v":0},{"$f":"Questions!$C394","v":0},{"$f":"Questions!$C395","v":0},{"$f":"Questions!$C396","v":0},{"$f":"Questions!$C397","v":0},{"$f":"Questions!$C398","v":0},{"$f":"Questions!$C399","v":0},{"$f":"Questions!$C400","v":0},"Energosomaticity (Conscin and Energy Body)",{"$f":"IF(COUNTIF(B63:U63,\"na\")=20,\"na\",SUM(B63:U63))","v":0},{"$f":"IF(W63=\"na\",0,W63/((20-COUNTIF(B63:U63,\"na\"))*Configurations!$F$7))","v":0}]
[null,null,null,null,null,null,null,""]
[null,1,2,3,4,5,6,7,8,9,10,11,12,13,14,15,16,17,18,19,20,"ANTI-EMOTIONALITY","ST","T",{"$f":"SUM(W66:W75)/(IF(COUNTIF(X66:X75,\">0\")>0,COUNTIF(X66:X75,\">0\"),1)*20*Configurations!$F$7)","v":0}]
[21,{"$f":"Questions!$C401","v":0},{"$f":"Questions!$C402","v":0},{"$f":"Questions!$C403","v":0},{"$f":"Questions!$C404","v":0},{"$f":"Questions!$C405","v":0},{"$f":"Questions!$C406","v":0},{"$f":"Questions!$C407","v":0},{"$f":"Questions!$C408","v":0},{"$f":"Questions!$C409","v":0},{"$f":"Questions!$C410","v":0},{"$f":"Questions!$C411","v":0},{"$f":"Questions!$C412","v":0},{"$f":"Questions!$C413","v":0},{"$f":"Questions!$C414","v":0},{"$f":"Questions!$C415","v":0},{"$f":"Questions!$C416","v":0},{"$f":"Questions!$C417","v":0},{"$f":"Questions!$C418","v":0},{"$f":"Questions!$C419","v":0},{"$f":"Questions!$C420","v":0},"Anteriority (Presomatic Consciousness)",{"$f":"IF(COUNTIF(B66:U66,\"na\")=20,\"na\",SUM(B66:U66))","v":0},{"$f":"IF(W66=\"na\",0,W66/((20-COUNTIF(B66:U66,\"na\"))*Configurations!$F$7))","v":0}]
[22,{"$f":"Questions!$C421","v":0},{"$f":"Questions!$C422","v":0},{"$f":"Questions!$C423","v":0},{"$f":"Questions!$C424","v":0},{"$f":"Questions!$C425","v":0},{"$f":"Questions!$C426","v":0},{"$f":"Questions!$C427","v":0},{"$f":"Questions!$C428","v":0},{"$f":"Questions!$C429","v":0},{"$f":"Questions!$C430","v":0},{"$f":"Questions!$C431","v":0},{"$f":"Questions!$C432","v":0},{"$f":"Questions!$C433","v":0},{"$f":"Questions!$C434","v":0},{"$f":"Questions!$C435","v":0},{"$f":"Questions!$C436","v":0},{"$f":"Questions!$C437","v":0},{"$f":"Questions!$C438","v":0},{"$f":"Questions!$C439","v":0},{"$f":"Questions!$C440","v":0},"Potentiality (Courage of the Consciousness)",0,{"$f":"IF(W67=\"na\",0,W67/((20-COUNTIF(B67:U67,\"na\"))*Configurations!$F$7))","v":0}]
[23,{"$f":"Questions!$C441","v":0},{"$f":"Questions!$C442","v":0},{"$f":"Questions!$C443","v":0},{"$f":"Questions!$C444","v":0},{"$f":"Questions!$C445","v":0},{"$f":"Questions!$C446","v":0},{"$f":"Questions!$C447","v":0},{"$f":"Questions!$C448","v":0},{"$f":"Questions!$C449","v":0},{"$f":"Questions!$C450","v":0},{"$f":"Questions!$C451","v":0},{"$f":"Questions!$C452","v":0},{"$f":"Questions!$C453","v":0},{"$f":"Questions!$C454","v":0},{"$f":"Questions!$C455","v":0},{"$f":"Questions!$C456","v":0},{"$f":"Questions!$C457","v":0},{"$f":"Questions!$C458","v":0},{"$f":"Questions!$C459","v":0},{"$f":"Questions!$C460","v":0},"Serenity (Consciousness and Serenism)",0,{"$f":"IF(W68=\"na\",0,W68/((20-COUNTIF(B68:U68,\"na\"))*Configurations!$F$7))","v":0}]
[24,{"$f":"Questions!$C461","v":0},{"$f":"Questions!$C462","v":0},{"$f":"Questions!$C463","v":0},{"$f":"Questions!$C464","v":0},{"$f":"Questions!$C465","v":0},{"$f":"Questions!$C466","v":0},{"$f":"Questions!$C467","v":0},{"$f":"Questions!$C468","v":0},{"$f":"Questions!$C469","v":0},{"$f":"Questions!$C470","v":0},{"$f":"Questions!$C471","v":0},{"$f":"Questions!$C472","v":0},{"$f":"Questions!$C473","v":0},{"$f":"Questions!$C474","v":0},{"$f":"Questions!$C475","v":0},{"$f":"Questions!$C476","v":0},{"$f":"Questions!$C477","v":0},{"$f":"Questions!$C478","v":0},{"$f":"Questions!$C479","v":0},{"$f":"Questions!$C480","v":0},"Cardiochakrality (Dominant Emotionality)",0,{"$f":"IF(W69=\"na\",0,W69/((20-COUNTIF(B69:U69,\"na\"))*Configurations!$F$7))","v":0}]
[25,{"$f":"Questions!$C481","v":0},{"$f":"Questions!$C482","v":0},{"$f":"Questions!$C483","v":0},{"$f":"Questions!$C484","v":0},{"$f":"Questions!$C485","v":0},{"$f":"Questions!$C486","v":0},{"$f":"Questions!$C487","v":0},{"$f":"Questions!$C488","v":0},{"$f":"Questions!$C489","v":0},{"$f":"Questions!$C490","v":0},{"$f":"Questions!$C491","v":0},{"$f":"Questions!$C492","v":0},{"$f":"Questions!$C493","v":0},{"$f":"Questions!$C494","v":0},{"$f":"Questions!$C495","v":0},{"$f":"Questions!$C496","v":0},{"$f":"Questions!$C497","v":0},{"$f":"Questions!$C498","v":0},{"$f":"Questions!$C499","v":0},{"$f":"Questions!$C500","v":0},"Utility (Conscin and Free Time)",0,{"$f":"IF(W70=\"na\",0,W70/((20-COUNTIF(B70:U70,\"na\"))*Configurations!$F$7))","v":0}]
[26,{"$f":"Questions!$C501","v":0},{"$f":"Questions!$C502","v":0},{"$f":"Questions!$C503","v":0},{"$f":"Questions!$C504","v":0},{"$f":"Questions!$C505","v":0},{"$f":"Questions!$C506","v":0},{"$f":"Questions!$C507","v":0},{"$f":"Questions!$C508","v":0},{"$f":"Questions!$C509","v":0},{"$f":"Questions!$C510","v":0},{"$f":"Questions!$C511","v":0},{"$f":"Questions!$C512","v":0},{"$f":"Questions!$C513","v":0},{"$f":"Questions!$C514","v":0},{"$f":"Questions!$C515","v":0},{"$f":"Questions!$C516","v":0},{"$f":"Questions!$C517","v":0},{"$f":"Questions!$C518","v":0},{"$f":"Questions!$C519","v":0},{"$f":"Questions!$C520","v":0},"Depth (Self-education and Superstitions)",0,{"$f":"IF(W71=\"na\",0,W71/((20-COUNTIF(B71:U71,\"na\"))*Configurations!$F$7))","v":0}]
[27,{"$f":"Questions!$C521","v":0},{"$f":"Questions!$C522","v":0},{"$f":"Questions!$C523","v":0},{"$f":"Questions!$C524","v":0},{"$f":"Questions!$C525","v":0},{"$f":"Questions!$C526","v":0},{"$f":"Questions!$C527","v":0},{"$f":"Questions!$C528","v":0},{"$f":"Questions!$C529","v":0},{"$f":"Questions!$C530","v":0},{"$f":"Questions!$C531","v":0},{"$f":"Questions!$C532","v":0},{"$f":"Questions!$C533","v":0},{"$f":"Questions!$C534","v":0},{"$f":"Questions!$C535","v":0},{"$f":"Questions!$C536","v":0},{"$f":"Questions!$C537","v":0},{"$f":"Questions!$C538","v":0},{"$f":"Questions!$C539","v":0},{"$f":"Questions!$C540","v":0},"Influentiability (Satellite-Conscin)",0,{"$f":"IF(W72=\"na\",0,W72/((20-COUNTIF(B72:U72,\"na\"))*Configurations!$F$7))","v":0}]
[28,{"$f":"Questions!$C541","v":0},{"$f":"Questions!$C542","v":0},{"$f":"Questions!$C543","v":0},{"$f":"Questions!$C544","v":0},{"$f":"Questions!$C545","v":0},{"$f":"Questions!$C546","v":0},{"$f":"Questions!$C547","v":0},{"$f":"Questions!$C548","v":0},{"$f":"Questions!$C549","v":0},{"$f":"Questions!$C550","v":0},{"$f":"Questions!$C551","v":0},{"$f":"Questions!$C552","v":0},{"$f":"Questions!$C553","v":0},{"$f":"Questions!$C554","v":0},{"$f":"Questions!$C555","v":0},{"$f":"Questions!$C556","v":0},{"$f":"Questions!$C557","v":0},{"$f":"Questions!$C558","v":0},{"$f":"Questions!$C559","v":0},{"$f":"Questions!$C560","v":0},"Paraperceptibility (Animism-Parapsiquism)",0,{"$f":"IF(W73=\"na\",0,W73/((20-COUNTIF(B73:U73,\"na\"))*Configurations!$F$7))","v":0}]
[29,{"$f":"Questions!$C561","v":0},{"$f":"Questions!$C562","v":0},{"$f":"Questions!$C563","v":0},{"$f":"Questions!$C564","v":0},{"$f":"Questions!$C565","v":0},{"$f":"Questions!$C566","v":0},{"$f":"Questions!$C567","v":0},{"$f":"Questions!$C568","v":0},{"$f":"Questions!$C569","v":0},{"$f":"Questions!$C570","v":0},{"$f":"Questions!$C571","v":0},{"$f":"Questions!$C572","v":0},{"$f":"Questions!$C573","v":0},{"$f":"Questions!$C574","v":0},{"$f":"Questions!$C575","v":0},{"$f":"Questions!$C576","v":0},{"$f":"Questions!$C577","v":0},{"$f":"Questions!$C578","v":0},{"$f":"Questions!$C579","v":0},{"$f":"Questions!$C580","v":0},"Transcendentality (Conscin and Mysticism)",0,{"$f":"IF(W74=\"na\",0,W74/((20-COUNTIF(B74:U74,\"na\"))*Configurations!$F$7))","v":0}]
[30,{"$f":"Questions!$C581","v":0},{"$f":"Questions!$C582","v":0},{"$f":"Questions!$C583","v":0},{"$f":"Questions!$C584","v":0},{"$f":"Questions!$C585","v":0},{"$f":"Questions!$C586","v":0},{"$f":"Questions!$C587","v":0},{"$f":"Questions!$C588","v":0},{"$f":"Questions!$C589","v":0},{"$f":"Questions!$C590","v":0},{"$f":"Questions!$C591","v":0},{"$f":"Questions!$C592","v":0},{"$f":"Questions!$C593","v":0},{"$f":"Questions!$C594","v":0},{"$f":"Questions!$C595","v":0},{"$f":"Questions!$C596","v":0},{"$f":"Questions!$C597","v":0},{"$f":"Questions!$C598","v":0},{"$f":"Questions!$C599","v":0},{"$f":"Questions!$C600","v":0},"Egokarmality (Conscin and Egotísm)",{"$f":"IF(COUNTIF(B75:U75,\"na\")=20,\"na\",SUM(B75:U75))","v":0},{"$f":"IF(W75=\"na\",0,W75/((20-COUNTIF(B75:U75,\"na\"))*Configurations!$F$7))","v":0}]
[]
[null,1,2,3,4,5,6,7,8,9,10,11,12,13,14,15,16,17,18,19,20,"RATIONALITY","ST","T",{"$f":"SUM(W78:W87)/(IF(COUNTIF(X78:X87,\">0\")>0,COUNTIF(X78:X87,\">0\"),1)*20*Configurations!$F$7)","v":0}]
[31,{"$f":"Questions!$C601","v":0},{"$f":"Questions!$C602","v":0},{"$f":"Questions!$C603","v":0},{"$f":"Questions!$C604","v":0},{"$f":"Questions!$C605","v":0},{"$f":"Questions!$C606","v":0},{"$f":"Questions!$C607","v":0},{"$f":"Questions!$C608","v":0},{"$f":"Questions!$C609","v":0},{"$f":"Questions!$C610","v":0},{"$f":"Questions!$C611","v":0},{"$f":"Questions!$C612","v":0},{"$f":"Questions!$C613","v":0},{"$f":"Questions!$C614","v":0},{"$f":"Questions!$C615","v":0},{"$f":"Questions!$C616","v":0},{"$f":"Questions!$C617","v":0},{"$f":"Questions!$C618","v":0},{"$f":"Questions!$C619","v":0},{"$f":"Questions!$C620","v":0},"Invulgarity (Consciousness and Talents)",{"$f":"IF(COUNTIF(B78:U78,\"na\")=20,\"na\",SUM(B78:U78))","v":0},{"$f":"IF(W78=\"na\",0,W78/((20-COUNTIF(B78:U78,\"na\"))*Configurations!$F$7))","v":0}]
[32,{"$f":"Questions!$C621","v":0},{"$f":"Questions!$C622","v":0},{"$f":"Questions!$C623","v":0},{"$f":"Questions!$C624","v":0},{"$f":"Questions!$C625","v":0},{"$f":"Questions!$C626","v":0},{"$f":"Questions!$C627","v":0},{"$f":"Questions!$C628","v":0},{"$f":"Questions!$C629","v":0},{"$f":"Questions!$C630","v":0},{"$f":"Questions!$C631","v":0},{"$f":"Questions!$C632","v":0},{"$f":"Questions!$C633","v":0},{"$f":"Questions!$C634","v":0},{"$f":"Questions!$C635","v":0},{"$f":"Questions!$C636","v":0},{"$f":"Questions!$C637","v":0},{"$f":"Questions!$C638","v":0},{"$f":"Questions!$C639","v":0},{"$f":"Questions!$C640","v":0},"Rationality (Conscin and Mentalsoma)",0,{"$f":"IF(W79=\"na\",0,W79/((20-COUNTIF(B79:U79,\"na\"))*Configurations!$F$7))","v":0}]
[33,{"$f":"Questions!$C641","v":0},{"$f":"Questions!$C642","v":0},{"$f":"Questions!$C643","v":0},{"$f":"Questions!$C644","v":0},{"$f":"Questions!$C645","v":0},{"$f":"Questions!$C646","v":0},{"$f":"Questions!$C647","v":0},{"$f":"Questions!$C648","v":0},{"$f":"Questions!$C649","v":0},{"$f":"Questions!$C650","v":0},{"$f":"Questions!$C651","v":0},{"$f":"Questions!$C652","v":0},{"$f":"Questions!$C653","v":0},{"$f":"Questions!$C654","v":0},{"$f":"Questions!$C655","v":0},{"$f":"Questions!$C656","v":0},{"$f":"Questions!$C657","v":0},{"$f":"Questions!$C658","v":0},{"$f":"Questions!$C659","v":0},{"$f":"Questions!$C660","v":0},"Intellectuality (Conscin and Intelligence)",0,{"$f":"IF(W80=\"na\",0,W80/((20-COUNTIF(B80:U80,\"na\"))*Configurations!$F$7))","v":0}]
[34,{"$f":"Questions!$C661","v":0},{"$f":"Questions!$C662","v":0},{"$f":"Questions!$C663","v":0},{"$f":"Questions!$C664","v":0},{"$f":"Questions!$C665","v":0},{"$f":"Questions!$C666","v":0},{"$f":"Questions!$C667","v":0},{"$f":"Questions!$C668","v":0},{"$f":"Questions!$C669","v":0},{"$f":"Questions!$C670","v":0},{"$f":"Questions!$C671","v":0},{"$f":"Questions!$C672","v":0},{"$f":"Questions!$C673","v":0},{"$f":"Questions!$C674","v":0},{"$f":"Questions!$C675","v":0},{"$f":"Questions!$C676","v":0},{"$f":"Questions!$C677","v":0},{"$f":"Questions!$C678","v":0},{"$f":"Questions!$C679","v":0},{"$f":"Questions!$C680","v":0},"Personality (Personal Temperament)",0,{"$f":"IF(W81=\"na\",0,W81/((20-COUNTIF(B81:U81,\"na\"))*Configurations!$F$7))","v":0}]
[35,{"$f":"Questions!$C681","v":0},{"$f":"Questions!$C682","v":0},{"$f":"Questions!$C683","v":0},{"$f":"Questions!$C684","v":0},{"$f":"Questions!$C685","v":0},{"$f":"Questions!$C686","v":0},{"$f":"Questions!$C687","v":0},{"$f":"Questions!$C688","v":0},{"$f":"Questions!$C689","v":0},{"$f":"Questions!$C690","v":0},{"$f":"Questions!$C691","v":0},{"$f":"Questions!$C692","v":0},{"$f":"Questions!$C693","v":0},{"$f":"Questions!$C694","v":0},{"$f":"Questions!$C695","v":0},{"$f":"Questions!$C696","v":0},{"$f":"Questions!$C697","v":0},{"$f":"Questions!$C698","v":0},{"$f":"Questions!$C699","v":0},{"$f":"Questions!$C700","v":0},"Animicity (Conscin and Animism)",0,{"$f":"IF(W82=\"na\",0,W82/((20-COUNTIF(B82:U82,\"na\"))*Configurations!$F$7))","v":0}]
[36,{"$f":"Questions!$C701","v":0},{"$f":"Questions!$C702","v":0},{"$f":"Questions!$C703","v":0},{"$f":"Questions!$C704","v":0},{"$f":"Questions!$C705","v":0},{"$f":"Questions!$C706","v":0},{"$f":"Questions!$C707","v":0},{"$f":"Questions!$C708","v":0},{"$f":"Questions!$C709","v":0},{"$f":"Questions!$C710","v":0},{"$f":"Questions!$C711","v":0},{"$f":"Questions!$C712","v":0},{"$f":"Questions!$C713","v":0},{"$f":"Questions!$C714","v":0},{"$f":"Questions!$C715","v":0},{"$f":"Questions!$C716","v":0},{"$f":"Questions!$C717","v":0},{"$f":"Questions!$C718","v":0},{"$f":"Questions!$C719","v":0},{"$f":"Questions!$C720","v":0},"Megachakrality (Consciential Door)",0,{"$f":"IF(W83=\"na\",0,W83/((20-COUNTIF(B83:U83,\"na\"))*Configurations!$F$7))","v":0}]
[37,{"$f":"Questions!$C721","v":0},{"$f":"Questions!$C722","v":0},{"$f":"Questions!$C723","v":0},{"$f":"Questions!$C724","v":0},{"$f":"Questions!$C725","v":0},{"$f":"Questions!$C726","v":0},{"$f":"Questions!$C727","v":0},{"$f":"Questions!$C728","v":0},{"$f":"Questions!$C729","v":0},{"$f":"Questions!$C730","v":0},{"$f":"Questions!$C731","v":0},{"$f":"Questions!$C732","v":0},{"$f":"Questions!$C733","v":0},{"$f":"Questions!$C734","v":0},{"$f":"Questions!$C735","v":0},{"$f":"Questions!$C736","v":0},{"$f":"Questions!$C737","v":0},{"$f":"Questions!$C738","v":0},{"$f":"Questions!$C739","v":0},{"$f":"Questions!$C740","v":0},"Imperturbability (Conscin and Self-control)",0,{"$f":"IF(W84=\"na\",0,W84/((20-COUNTIF(B84:U84,\"na\"))*Configurations!$F$7))","v":0}]
[38,{"$f":"Questions!$C741","v":0},{"$f":"Questions!$C742","v":0},{"$f":"Questions!$C743","v":0},{"$f":"Questions!$C744","v":0},{"$f":"Questions!$C745","v":0},{"$f":"Questions!$C746","v":0},{"$f":"Questions!$C747","v":0},{"$f":"Questions!$C748","v":0},{"$f":"Questions!$C749","v":0},{"$f":"Questions!$C750","v":0},{"$f":"Questions!$C751","v":0},{"$f":"Questions!$C752","v":0},{"$f":"Questions!$C753","v":0},{"$f":"Questions!$C754","v":0},{"$f":"Questions!$C755","v":0},{"$f":"Questions!$C756","v":0},{"$f":"Questions!$C757","v":0},{"$f":"Questions!$C758","v":0},{"$f":"Questions!$C759","v":0},{"$f":"Questions!$C760","v":0},"Sentimentality (Controlled Emotionality)",0,{"$f":"IF(W85=\"na\",0,W85/((20-COUNTIF(B85:U85,\"na\"))*Configurations!$F$7))","v":0}]
[39,{"$f":"Questions!$C761","v":0},{"$f":"Questions!$C762","v":0},{"$f":"Questions!$C763","v":0},{"$f":"Questions!$C764","v":0},{"$f":"Questions!$C765","v":0},{"$f":"Questions!$C766","v":0},{"$f":"Questions!$C767","v":0},{"$f":"Questions!$C768","v":0},{"$f":"Questions!$C769","v":0},{"$f":"Questions!$C770","v":0},{"$f":"Questions!$C771","v":0},{"$f":"Questions!$C772","v":0},{"$f":"Questions!$C773","v":0},{"$f":"Questions!$C774","v":0},{"$f":"Questions!$C775","v":0},{"$f":"Questions!$C776","v":0},{"$f":"Questions!$C777","v":0},{"$f":"Questions!$C778","v":0},{"$f":"Questions!$C779","v":0},{"$f":"Questions!$C780","v":0},"Maxiconsensuality (Vanguard Knowledge)",0,{"$f":"IF(W86=\"na\",0,W86/((20-COUNTIF(B86:U86,\"na\"))*Configurations!$F$7))","v":0}]
[40,{"$f":"Questions!$C781","v":0},{"$f":"Questions!$C782","v":0},{"$f":"Questions!$C783","v":0},{"$f":"Questions!$C784","v":0},{"$f":"Questions!$C785","v":0},{"$f":"Questions!$C786","v":0},{"$f":"Questions!$C787","v":0},{"$f":"Questions!$C788","v":0},{"$f":"Questions!$C789","v":0},{"$f":"Questions!$C790","v":0},{"$f":"Questions!$C791","v":0},{"$f":"Questions!$C792","v":0},{"$f":"Questions!$C793","v":0},{"$f":"Questions!$C794","v":0},{"$f":"Questions!$C795","v":0},{"$f":"Questions!$C796","v":0},{"$f":"Questions!$C797","v":0},{"$f":"Questions!$C798","v":0},{"$f":"Questions!$C799","v":0},{"$f":"Questions!$C800","v":0},"Cosmoconscientiality (Conscin and Samadhi)",{"$f":"IF(COUNTIF(B87:U87,\"na\")=20,\"na\",SUM(B87:U87))","v":0},{"$f":"IF(W87=\"na\",0,W87/((20-COUNTIF(B87:U87,\"na\"))*Configurations!$F$7))","v":0}]
[]
[null,1,2,3,4,5,6,7,8,9,10,11,12,13,14,15,16,17,18,19,20,"LEADERSHIP","ST","T",{"$f":"SUM(W90:W99)/(IF(COUNTIF(X90:X99,\">0\")>0,COUNTIF(X90:X99,\">0\"),1)*20*Configurations!$F$7)","v":0}]
[41,{"$f":"Questions!$C801","v":0},{"$f":"Questions!$C802","v":0},{"$f":"Questions!$C803","v":0},{"$f":"Questions!$C804","v":0},{"$f":"Questions!$C805","v":0},{"$f":"Questions!$C806","v":0},{"$f":"Questions!$C807","v":0},{"$f":"Questions!$C808","v":0},{"$f":"Questions!$C809","v":0},{"$f":"Questions!$C810","v":0},{"$f":"Questions!$C811","v":0},{"$f":"Questions!$C812","v":0},{"$f":"Questions!$C813","v":0},{"$f":"Questions!$C814","v":0},{"$f":"Questions!$C815","v":0},{"$f":"Questions!$C816","v":0},{"$f":"Questions!$C817","v":0},{"$f":"Questions!$C818","v":0},{"$f":"Questions!$C819","v":0},{"$f":"Questions!$C820","v":0},"Authority (Power of Conduction)",{"$f":"IF(COUNTIF(B90:U90,\"na\")=20,\"na\",SUM(B90:U90))","v":0},{"$f":"IF(W90=\"na\",0,W90/((20-COUNTIF(B90:U90,\"na\"))*Configurations!$F$7))","v":0}]
[42,{"$f":"Questions!$C821","v":0},{"$f":"Questions!$C822","v":0},{"$f":"Questions!$C823","v":0},{"$f":"Questions!$C824","v":0},{"$f":"Questions!$C825","v":0},{"$f":"Questions!$C826","v":0},{"$f":"Questions!$C827","v":0},{"$f":"Questions!$C828","v":0},{"$f":"Questions!$C829","v":0},{"$f":"Questions!$C830","v":0},{"$f":"Questions!$C831","v":0},{"$f":"Questions!$C832","v":0},{"$f":"Questions!$C833","v":0},{"$f":"Questions!$C834","v":0},{"$f":"Questions!$C835","v":0},{"$f":"Questions!$C836","v":0},{"$f":"Questions!$C837","v":0},{"$f":"Questions!$C838","v":0},{"$f":"Questions!$C839","v":0},{"$f":"Questions!$C840","v":0},"Mentality (Self-evolutionary Politicology)",0,{"$f":"IF(W91=\"na\",0,W91/((20-COUNTIF(B91:U91,\"na\"))*Configurations!$F$7))","v":0}]
[43,{"$f":"Questions!$C841","v":0},{"$f":"Questions!$C842","v":0},{"$f":"Questions!$C843","v":0},{"$f":"Questions!$C844","v":0},{"$f":"Questions!$C845","v":0},{"$f":"Questions!$C846","v":0},{"$f":"Questions!$C847","v":0},{"$f":"Questions!$C848","v":0},{"$f":"Questions!$C849","v":0},{"$f":"Questions!$C850","v":0},{"$f":"Questions!$C851","v":0},{"$f":"Questions!$C852","v":0},{"$f":"Questions!$C853","v":0},{"$f":"Questions!$C854","v":0},{"$f":"Questions!$C855","v":0},{"$f":"Questions!$C856","v":0},{"$f":"Questions!$C857","v":0},{"$f":"Questions!$C858","v":0},{"$f":"Questions!$C859","v":0},{"$f":"Questions!$C860","v":0},"Repercussionability (Multidimensional Leadership)",0,{"$f":"IF(W92=\"na\",0,W92/((20-COUNTIF(B92:U92,\"na\"))*Configurations!$F$7))","v":0}]
[44,{"$f":"Questions!$C861","v":0},{"$f":"Questions!$C862","v":0},{"$f":"Questions!$C863","v":0},{"$f":"Questions!$C864","v":0},{"$f":"Questions!$C865","v":0},{"$f":"Questions!$C866","v":0},{"$f":"Questions!$C867","v":0},{"$f":"Questions!$C868","v":0},{"$f":"Questions!$C869","v":0},{"$f":"Questions!$C870","v":0},{"$f":"Questions!$C871","v":0},{"$f":"Questions!$C872","v":0},{"$f":"Questions!$C873","v":0},{"$f":"Questions!$C874","v":0},{"$f":"Questions!$C875","v":0},{"$f":"Questions!$C876","v":0},{"$f":"Questions!$C877","v":0},{"$f":"Questions!$C878","v":0},{"$f":"Questions!$C879","v":0},{"$f":"Questions!$C880","v":0},"Retractibility (Public Self-judgments)",0,{"$f":"IF(W93=\"na\",0,W93/((20-COUNTIF(B93:U93,\"na\"))*Configurations!$F$7))","v":0}]
[45,{"$f":"Questions!$C881","v":0},{"$f":"Questions!$C882","v":0},{"$f":"Questions!$C883","v":0},{"$f":"Questions!$C884","v":0},{"$f":"Questions!$C885","v":0},{"$f":"Questions!$C886","v":0},{"$f":"Questions!$C887","v":0},{"$f":"Questions!$C888","v":0},{"$f":"Questions!$C889","v":0},{"$f":"Questions!$C890","v":0},{"$f":"Questions!$C891","v":0},{"$f":"Questions!$C892","v":0},{"$f":"Questions!$C893","v":0},{"$f":"Questions!$C894","v":0},{"$f":"Questions!$C895","v":0},{"$f":"Questions!$C896","v":0},{"$f":"Questions!$C897","v":0},{"$f":"Questions!$C898","v":0},{"$f":"Questions!$C899","v":0},{"$f":"Questions!$C900","v":0},"Anti-offensiveness (Utilization of Forgiveness)",0,{"$f":"IF(W94=\"na\",0,W94/((20-COUNTIF(B94:U94,\"na\"))*Configurations!$F$7))","v":0}]
[46,{"$f":"Questions!$C901","v":0},{"$f":"Questions!$C902","v":0},{"$f":"Questions!$C903","v":0},{"$f":"Questions!$C904","v":0},{"$f":"Questions!$C905","v":0},{"$f":"Questions!$C906","v":0},{"$f":"Questions!$C907","v":0},{"$f":"Questions!$C908","v":0},{"$f":"Questions!$C909","v":0},{"$f":"Questions!$C910","v":0},{"$f":"Questions!$C911","v":0},{"$f":"Questions!$C912","v":0},{"$f":"Questions!$C913","v":0},{"$f":"Questions!$C914","v":0},{"$f":"Questions!$C915","v":0},{"$f":"Questions!$C916","v":0},{"$f":"Questions!$C917","v":0},{"$f":"Questions!$C918","v":0},{"$f":"Questions!$C919","v":0},{"$f":"Questions!$C920","v":0},"Antidispersiveness (Maturity of Performances)",0,{"$f":"IF(W95=\"na\",0,W95/((20-COUNTIF(B95:U95,\"na\"))*Configurations!$F$7))","v":0}]
[47,{"$f":"Questions!$C921","v":0},{"$f":"Questions!$C922","v":0},{"$f":"Questions!$C923","v":0},{"$f":"Questions!$C924","v":0},{"$f":"Questions!$C925","v":0},{"$f":"Questions!$C926","v":0},{"$f":"Questions!$C927","v":0},{"$f":"Questions!$C928","v":0},{"$f":"Questions!$C929","v":0},{"$f":"Questions!$C930","v":0},{"$f":"Questions!$C931","v":0},{"$f":"Questions!$C932","v":0},{"$f":"Questions!$C933","v":0},{"$f":"Questions!$C934","v":0},{"$f":"Questions!$C935","v":0},{"$f":"Questions!$C936","v":0},{"$f":"Questions!$C937","v":0},{"$f":"Questions!$C938","v":0},{"$f":"Questions!$C939","v":0},{"$f":"Questions!$C940","v":0},"Productivity (Consciential Megagestations)",0,{"$f":"IF(W96=\"na\",0,W96/((20-COUNTIF(B96:U96,\"na\"))*Configurations!$F$7))","v":0}]
[48,{"$f":"Questions!$C941","v":0},{"$f":"Questions!$C942","v":0},{"$f":"Questions!$C943","v":0},{"$f":"Questions!$C944","v":0},{"$f":"Questions!$C945","v":0},{"$f":"Questions!$C946","v":0},{"$f":"Questions!$C947","v":0},{"$f":"Questions!$C948","v":0},{"$f":"Questions!$C949","v":0},{"$f":"Questions!$C950","v":0},{"$f":"Questions!$C951","v":0},{"$f":"Questions!$C952","v":0},{"$f":"Questions!$C953","v":0},{"$f":"Questions!$C954","v":0},{"$f":"Questions!$C955","v":0},{"$f":"Questions!$C956","v":0},{"$f":"Questions!$C957","v":0},{"$f":"Questions!$C958","v":0},{"$f":"Questions!$C959","v":0},{"$f":"Questions!$C960","v":0},"Continuity (Mobilization of Consciousnesses)",0,{"$f":"IF(W97=\"na\",0,W97/((20-COUNTIF(B97:U97,\"na\"))*Configurations!$F$7))","v":0}]
[49,{"$f":"Questions!$C961","v":0},{"$f":"Questions!$C962","v":0},{"$f":"Questions!$C963","v":0},{"$f":"Questions!$C964","v":0},{"$f":"Questions!$C965","v":0},{"$f":"Questions!$C966","v":0},{"$f":"Questions!$C967","v":0},{"$f":"Questions!$C968","v":0},{"$f":"Questions!$C969","v":0},{"$f":"Questions!$C970","v":0},{"$f":"Questions!$C971","v":0},{"$f":"Questions!$C972","v":0},{"$f":"Questions!$C973","v":0},{"$f":"Questions!$C974","v":0},{"$f":"Questions!$C975","v":0},{"$f":"Questions!$C976","v":0},{"$f":"Questions!$C977","v":0},{"$f":"Questions!$C978","v":0},{"$f":"Questions!$C979","v":0},{"$f":"Questions!$C980","v":0},"Contemporaneity (Conscin and its Epoch)",0,{"$f":"IF(W98=\"na\",0,W98/((20-COUNTIF(B98:U98,\"na\"))*Configurations!$F$7))","v":0}]
[50,{"$f":"Questions!$C981","v":0},{"$f":"Questions!$C982","v":0},{"$f":"Questions!$C983","v":0},{"$f":"Questions!$C984","v":0},{"$f":"Questions!$C985","v":0},{"$f":"Questions!$C986","v":0},{"$f":"Questions!$C987","v":0},{"$f":"Questions!$C988","v":0},{"$f":"Questions!$C989","v":0},{"$f":"Questions!$C990","v":0},{"$f":"Questions!$C991","v":0},{"$f":"Questions!$C992","v":0},{"$f":"Questions!$C993","v":0},{"$f":"Questions!$C994","v":0},{"$f":"Questions!$C995","v":0},{"$f":"Questions!$C996","v":0},{"$f":"Questions!$C997","v":0},{"$f":"Questions!$C998","v":0},{"$f":"Questions!$C999","v":0},{"$f":"Questions!$C1000","v":0},"Humanity (Conscin and Mesology)",{"$f":"IF(COUNTIF(B99:U99,\"na\")=20,\"na\",SUM(B99:U99))","v":0},{"$f":"IF(W99=\"na\",0,W99/((20-COUNTIF(B99:U99,\"na\"))*Configurations!$F$7))","v":0}]
[]
[null,1,2,3,4,5,6,7,8,9,10,11,12,13,14,15,16,17,18,19,20,"COMMUNICABILITY","ST","T",{"$f":"SUM(W102:W111)/(IF(COUNTIF(X102:X111,\">0\")>0,COUNTIF(X102:X111,\">0\"),1)*20*Configurations!$F$7)","v":0}]
[51,{"$f":"Questions!$C1001","v":0},{"$f":"Questions!$C1002","v":0},{"$f":"Questions!$C1003","v":0},{"$f":"Questions!$C1004","v":0},{"$f":"Questions!$C1005","v":0},{"$f":"Questions!$C1006","v":0},{"$f":"Questions!$C1007","v":0},{"$f":"Questions!$C1008","v":0},{"$f":"Questions!$C1009","v":0},{"$f":"Questions!$C1010","v":0},{"$f":"Questions!$C1011","v":0},{"$f":"Questions!$C1012","v":0},{"$f":"Questions!$C1013","v":0},{"$f":"Questions!$C1014","v":0},{"$f":"Questions!$C1015","v":0},{"$f":"Questions!$C1016","v":0},{"$f":"Questions!$C1017","v":0},{"$f":"Questions!$C1018","v":0},{"$f":"Questions!$C1019","v":0},{"$f":"Questions!$C1020","v":0},"Sociability (Contacts of the Consciousness)",{"$f":"IF(COUNTIF(B102:U102,\"na\")=20,\"na\",SUM(B102:U102))","v":0},{"$f":"IF(W102=\"na\",0,W102/((20-COUNTIF(B102:U102,\"na\"))*Configurations!$F$7))","v":0}]
[52,{"$f":"Questions!$C1021","v":0},{"$f":"Questions!$C1022","v":0},{"$f":"Questions!$C1023","v":0},{"$f":"Questions!$C1024","v":0},{"$f":"Questions!$C1025","v":0},{"$f":"Questions!$C1026","v":0},{"$f":"Questions!$C1027","v":0},{"$f":"Questions!$C1028","v":0},{"$f":"Questions!$C1029","v":0},{"$f":"Questions!$C1030","v":0},{"$f":"Questions!$C1031","v":0},{"$f":"Questions!$C1032","v":0},{"$f":"Questions!$C1033","v":0},{"$f":"Questions!$C1034","v":0},{"$f":"Questions!$C1035","v":0},{"$f":"Questions!$C1036","v":0},{"$f":"Questions!$C1037","v":0},{"$f":"Questions!$C1038","v":0},{"$f":"Questions!$C1039","v":0},{"$f":"Questions!$C1040","v":0},"Maxicommunicability (Conscin and Language)",0,{"$f":"IF(W103=\"na\",0,W103/((20-COUNTIF(B103:U103,\"na\"))*Configurations!$F$7))","v":0}]
[53,{"$f":"Questions!$C1041","v":0},{"$f":"Questions!$C1042","v":0},{"$f":"Questions!$C1043","v":0},{"$f":"Questions!$C1044","v":0},{"$f":"Questions!$C1045","v":0},{"$f":"Questions!$C1046","v":0},{"$f":"Questions!$C1047","v":0},{"$f":"Questions!$C1048","v":0},{"$f":"Questions!$C1049","v":0},{"$f":"Questions!$C1050","v":0},{"$f":"Questions!$C1051","v":0},{"$f":"Questions!$C1052","v":0},{"$f":"Questions!$C1053","v":0},{"$f":"Questions!$C1054","v":0},{"$f":"Questions!$C1055","v":0},{"$f":"Questions!$C1056","v":0},{"$f":"Questions!$C1057","v":0},{"$f":"Questions!$C1058","v":0},{"$f":"Questions!$C1059","v":0},{"$f":"Questions!$C1060","v":0},"Reality (Conscin and Symbols)",0,{"$f":"IF(W104=\"na\",0,W104/((20-COUNTIF(B104:U104,\"na\"))*Configurations!$F$7))","v":0}]
[54,{"$f":"Questions!$C1061","v":0},{"$f":"Questions!$C1062","v":0},{"$f":"Questions!$C1063","v":0},{"$f":"Questions!$C1064","v":0},{"$f":"Questions!$C1065","v":0},{"$f":"Questions!$C1066","v":0},{"$f":"Questions!$C1067","v":0},{"$f":"Questions!$C1068","v":0},{"$f":"Questions!$C1069","v":0},{"$f":"Questions!$C1070","v":0},{"$f":"Questions!$C1071","v":0},{"$f":"Questions!$C1072","v":0},{"$f":"Questions!$C1073","v":0},{"$f":"Questions!$C1074","v":0},{"$f":"Questions!$C1075","v":0},{"$f":"Questions!$C1076","v":0},{"$f":"Questions!$C1077","v":0},{"$f":"Questions!$C1078","v":0},{"$f":"Questions!$C1079","v":0},{"$f":"Questions!$C1080","v":0},"Syntacity (Exposition of Ideas)",0,{"$f":"IF(W105=\"na\",0,W105/((20-COUNTIF(B105:U105,\"na\"))*Configurations!$F$7))","v":0}]
[55,{"$f":"Questions!$C1081","v":0},{"$f":"Questions!$C1082","v":0},{"$f":"Questions!$C1083","v":0},{"$f":"Questions!$C1084","v":0},{"$f":"Questions!$C1085","v":0},{"$f":"Questions!$C1086","v":0},{"$f":"Questions!$C1087","v":0},{"$f":"Questions!$C1088","v":0},{"$f":"Questions!$C1089","v":0},{"$f":"Questions!$C1090","v":0},{"$f":"Questions!$C1091","v":0},{"$f":"Questions!$C1092","v":0},{"$f":"Questions!$C1093","v":0},{"$f":"Questions!$C1094","v":0},{"$f":"Questions!$C1095","v":0},{"$f":"Questions!$C1096","v":0},{"$f":"Questions!$C1097","v":0},{"$f":"Questions!$C1098","v":0},{"$f":"Questions!$C1099","v":0},{"$f":"Questions!$C1100","v":0},"Fertility (Consciousness and Ideas)",0,{"$f":"IF(W106=\"na\",0,W106/((20-COUNTIF(B106:U106,\"na\"))*Configurations!$F$7))","v":0}]
[56,{"$f":"Questions!$C1101","v":0},{"$f":"Questions!$C1102","v":0},{"$f":"Questions!$C1103","v":0},{"$f":"Questions!$C1104","v":0},{"$f":"Questions!$C1105","v":0},{"$f":"Questions!$C1106","v":0},{"$f":"Questions!$C1107","v":0},{"$f":"Questions!$C1108","v":0},{"$f":"Questions!$C1109","v":0},{"$f":"Questions!$C1110","v":0},{"$f":"Questions!$C1111","v":0},{"$f":"Questions!$C1112","v":0},{"$f":"Questions!$C1113","v":0},{"$f":"Questions!$C1114","v":0},{"$f":"Questions!$C1115","v":0},{"$f":"Questions!$C1116","v":0},{"$f":"Questions!$C1117","v":0},{"$f":"Questions!$C1118","v":0},{"$f":"Questions!$C1119","v":0},{"$f":"Questions!$C1120","v":0},"Reverifiability (Conscin and Omniquestioning)",0,{"$f":"IF(W107=\"na\",0,W107/((20-COUNTIF(B107:U107,\"na\"))*Configurations!$F$7))","v":0}]
[57,{"$f":"Questions!$C1121","v":0},{"$f":"Questions!$C1122","v":0},{"$f":"Questions!$C1123","v":0},{"$f":"Questions!$C1124","v":0},{"$f":"Questions!$C1125","v":0},{"$f":"Questions!$C1126","v":0},{"$f":"Questions!$C1127","v":0},{"$f":"Questions!$C1128","v":0},{"$f":"Questions!$C1129","v":0},{"$f":"Questions!$C1130","v":0},{"$f":"Questions!$C1131","v":0},{"$f":"Questions!$C1132","v":0},{"$f":"Questions!$C1133","v":0},{"$f":"Questions!$C1134","v":0},{"$f":"Questions!$C1135","v":0},{"$f":"Questions!$C1136","v":0},{"$f":"Questions!$C1137","v":0},{"$f":"Questions!$C1138","v":0},{"$f":"Questions!$C1139","v":0},{"$f":"Questions!$C1140","v":0},"Aestheticity (Conscin and Art)",0,{"$f":"IF(W108=\"na\",0,W108/((20-COUNTIF(B108:U108,\"na\"))*Configurations!$F$7))","v":0}]
[58,{"$f":"Questions!$C1141","v":0},{"$f":"Questions!$C1142","v":0},{"$f":"Questions!$C1143","v":0},{"$f":"Questions!$C1144","v":0},{"$f":"Questions!$C1145","v":0},{"$f":"Questions!$C1146","v":0},{"$f":"Questions!$C1147","v":0},{"$f":"Questions!$C1148","v":0},{"$f":"Questions!$C1149","v":0},{"$f":"Questions!$C1150","v":0},{"$f":"Questions!$C1151","v":0},{"$f":"Questions!$C1152","v":0},{"$f":"Questions!$C1153","v":0},{"$f":"Questions!$C1154","v":0},{"$f":"Questions!$C1155","v":0},{"$f":"Questions!$C1156","v":0},{"$f":"Questions!$C1157","v":0},{"$f":"Questions!$C1158","v":0},{"$f":"Questions!$C1159","v":0},{"$f":"Questions!$C1160","v":0},"Parapsychism (Multidimensional Interchange)",0,{"$f":"IF(W109=\"na\",0,W109/((20-COUNTIF(B109:U109,\"na\"))*Configurations!$F$7))","v":0}]
[59,{"$f":"Questions!$C1161","v":0},{"$f":"Questions!$C1162","v":0},{"$f":"Questions!$C1163","v":0},{"$f":"Questions!$C1164","v":0},{"$f":"Questions!$C1165","v":0},{"$f":"Questions!$C1166","v":0},{"$f":"Questions!$C1167","v":0},{"$f":"Questions!$C1168","v":0},{"$f":"Questions!$C1169","v":0},{"$f":"Questions!$C1170","v":0},{"$f":"Questions!$C1171","v":0},{"$f":"Questions!$C1172","v":0},{"$f":"Questions!$C1173","v":0},{"$f":"Questions!$C1174","v":0},{"$f":"Questions!$C1175","v":0},{"$f":"Questions!$C1176","v":0},{"$f":"Questions!$C1177","v":0},{"$f":"Questions!$C1178","v":0},{"$f":"Questions!$C1179","v":0},{"$f":"Questions!$C1180","v":0},"Exotericity (Conscin and Openness)",0,{"$f":"IF(W110=\"na\",0,W110/((20-COUNTIF(B110:U110,\"na\"))*Configurations!$F$7))","v":0}]
[60,{"$f":"Questions!$C1181","v":0},{"$f":"Questions!$C1182","v":0},{"$f":"Questions!$C1183","v":0},{"$f":"Questions!$C1184","v":0},{"$f":"Questions!$C1185","v":0},{"$f":"Questions!$C1186","v":0},{"$f":"Questions!$C1187","v":0},{"$f":"Questions!$C1188","v":0},{"$f":"Questions!$C1189","v":0},{"$f":"Questions!$C1190","v":0},{"$f":"Questions!$C1191","v":0},{"$f":"Questions!$C1192","v":0},{"$f":"Questions!$C1193","v":0},{"$f":"Questions!$C1194","v":0},{"$f":"Questions!$C1195","v":0},{"$f":"Questions!$C1196","v":0},{"$f":"Questions!$C1197","v":0},{"$f":"Questions!$C1198","v":0},{"$f":"Questions!$C1199","v":0},{"$f":"Questions!$C1200","v":0},"Opinionicity (Opinion for the Public)",{"$f":"IF(COUNTIF(B111:U111,\"na\")=20,\"na\",SUM(B111:U111))","v":0},{"$f":"IF(W111=\"na\",0,W111/((20-COUNTIF(B111:U111,\"na\"))*Configurations!$F$7))","v":0}]
[]
[null,1,2,3,4,5,6,7,8,9,10,11,12,13,14,15,16,17,18,19,20,"PRIORITIZATION","ST","T",{"$f":"SUM(W114:W123)/(IF(COUNTIF(X114:X123,\">0\")>0,COUNTIF(X114:X123,\">0\"),1)*20*Configurations!$F$7)","v":0}]
[61,{"$f":"Questions!$C1201","v":0},{"$f":"Questions!$C1202","v":0},{"$f":"Questions!$C1203","v":0},{"$f":"Questions!$C1204","v":0},{"$f":"Questions!$C1205","v":0},{"$f":"Questions!$C1206","v":0},{"$f":"Questions!$C1207","v":0},{"$f":"Questions!$C1208","v":0},{"$f":"Questions!$C1209","v":0},{"$f":"Questions!$C1210","v":0},{"$f":"Questions!$C1211","v":0},{"$f":"Questions!$C1212","v":0},{"$f":"Questions!$C1213","v":0},{"$f":"Questions!$C1214","v":0},{"$f":"Questions!$C1215","v":0},{"$f":"Questions!$C1216","v":0},{"$f":"Questions!$C1217","v":0},{"$f":"Questions!$C1218","v":0},{"$f":"Questions!$C1219","v":0},{"$f":"Questions!$C1220","v":0},"Freedom (Conscin and Freewill)",{"$f":"IF(COUNTIF(B114:U114,\"na\")=20,\"na\",SUM(B114:U114))","v":0},{"$f":"IF(W114=\"na\",0,W114/((20-COUNTIF(B114:U114,\"na\"))*Configurations!$F$7))","v":0}]
[62,{"$f":"Questions!$C1221","v":0},{"$f":"Questions!$C1222","v":0},{"$f":"Questions!$C1223","v":0},{"$f":"Questions!$C1224","v":0},{"$f":"Questions!$C1225","v":0},{"$f":"Questions!$C1226","v":0},{"$f":"Questions!$C1227","v":0},{"$f":"Questions!$C1228","v":0},{"$f":"Questions!$C1229","v":0},{"$f":"Questions!$C1230","v":0},{"$f":"Questions!$C1231","v":0},{"$f":"Questions!$C1232","v":0},{"$f":"Questions!$C1233","v":0},{"$f":"Questions!$C1234","v":0},{"$f":"Questions!$C1235","v":0},{"$f":"Questions!$C1236","v":0},{"$f":"Questions!$C1237","v":0},{"$f":"Questions!$C1238","v":0},{"$f":"Questions!$C1239","v":0},{"$f":"Questions!$C1240","v":0},"Maxipriority (Maturity of Freewill)",0,{"$f":"IF(W115=\"na\",0,W115/((20-COUNTIF(B115:U115,\"na\"))*Configurations!$F$7))","v":0}]
[63,{"$f":"Questions!$C1241","v":0},{"$f":"Questions!$C1242","v":0},{"$f":"Questions!$C1243","v":0},{"$f":"Questions!$C1244","v":0},{"$f":"Questions!$C1245","v":0},{"$f":"Questions!$C1246","v":0},{"$f":"Questions!$C1247","v":0},{"$f":"Questions!$C1248","v":0},{"$f":"Questions!$C1249","v":0},{"$f":"Questions!$C1250","v":0},{"$f":"Questions!$C1251","v":0},{"$f":"Questions!$C1252","v":0},{"$f":"Questions!$C1253","v":0},{"$f":"Questions!$C1254","v":0},{"$f":"Questions!$C1255","v":0},{"$f":"Questions!$C1256","v":0},{"$f":"Questions!$C1257","v":0},{"$f":"Questions!$C1258","v":0},{"$f":"Questions!$C1259","v":0},{"$f":"Questions!$C1260","v":0},"Operosity (Personal Works)",0,{"$f":"IF(W116=\"na\",0,W116/((20-COUNTIF(B116:U116,\"na\"))*Configurations!$F$7))","v":0}]
[64,{"$f":"Questions!$C1261","v":0},{"$f":"Questions!$C1262","v":0},{"$f":"Questions!$C1263","v":0},{"$f":"Questions!$C1264","v":0},{"$f":"Questions!$C1265","v":0},{"$f":"Questions!$C1266","v":0},{"$f":"Questions!$C1267","v":0},{"$f":"Questions!$C1268","v":0},{"$f":"Questions!$C1269","v":0},{"$f":"Questions!$C1270","v":0},{"$f":"Questions!$C1271","v":0},{"$f":"Questions!$C1272","v":0},{"$f":"Questions!$C1273","v":0},{"$f":"Questions!$C1274","v":0},{"$f":"Questions!$C1275","v":0},{"$f":"Questions!$C1276","v":0},{"$f":"Questions!$C1277","v":0},{"$f":"Questions!$C1278","v":0},{"$f":"Questions!$C1279","v":0},{"$f":"Questions!$C1280","v":0},"Economicity (Conscin and Dollar Signs)",0,{"$f":"IF(W117=\"na\",0,W117/((20-COUNTIF(B117:U117,\"na\"))*Configurations!$F$7))","v":0}]
[65,{"$f":"Questions!$C1281","v":0},{"$f":"Questions!$C1282","v":0},{"$f":"Questions!$C1283","v":0},{"$f":"Questions!$C1284","v":0},{"$f":"Questions!$C1285","v":0},{"$f":"Questions!$C1286","v":0},{"$f":"Questions!$C1287","v":0},{"$f":"Questions!$C1288","v":0},{"$f":"Questions!$C1289","v":0},{"$f":"Questions!$C1290","v":0},{"$f":"Questions!$C1291","v":0},{"$f":"Questions!$C1292","v":0},{"$f":"Questions!$C1293","v":0},{"$f":"Questions!$C1294","v":0},{"$f":"Questions!$C1295","v":0},{"$f":"Questions!$C1296","v":0},{"$f":"Questions!$C1297","v":0},{"$f":"Questions!$C1298","v":0},{"$f":"Questions!$C1299","v":0},{"$f":"Questions!$C1300","v":0},"Professionality (Livelihood)",0,{"$f":"IF(W118=\"na\",0,W118/((20-COUNTIF(B118:U118,\"na\"))*Configurations!$F$7))","v":0}]
[66,{"$f":"Questions!$C1301","v":0},{"$f":"Questions!$C1302","v":0},{"$f":"Questions!$C1303","v":0},{"$f":"Questions!$C1304","v":0},{"$f":"Questions!$C1305","v":0},{"$f":"Questions!$C1306","v":0},{"$f":"Questions!$C1307","v":0},{"$f":"Questions!$C1308","v":0},{"$f":"Questions!$C1309","v":0},{"$f":"Questions!$C1310","v":0},{"$f":"Questions!$C1311","v":0},{"$f":"Questions!$C1312","v":0},{"$f":"Questions!$C1313","v":0},{"$f":"Questions!$C1314","v":0},{"$f":"Questions!$C1315","v":0},{"$f":"Questions!$C1316","v":0},{"$f":"Questions!$C1317","v":0},{"$f":"Questions!$C1318","v":0},{"$f":"Questions!$C1319","v":0},{"$f":"Questions!$C1320","v":0},"Activity (Maturity of Tasks)",0,{"$f":"IF(W119=\"na\",0,W119/((20-COUNTIF(B119:U119,\"na\"))*Configurations!$F$7))","v":0}]
[67,{"$f":"Questions!$C1321","v":0},{"$f":"Questions!$C1322","v":0},{"$f":"Questions!$C1323","v":0},{"$f":"Questions!$C1324","v":0},{"$f":"Questions!$C1325","v":0},{"$f":"Questions!$C1326","v":0},{"$f":"Questions!$C1327","v":0},{"$f":"Questions!$C1328","v":0},{"$f":"Questions!$C1329","v":0},{"$f":"Questions!$C1330","v":0},{"$f":"Questions!$C1331","v":0},{"$f":"Questions!$C1332","v":0},{"$f":"Questions!$C1333","v":0},{"$f":"Questions!$C1334","v":0},{"$f":"Questions!$C1335","v":0},{"$f":"Questions!$C1336","v":0},{"$f":"Questions!$C1337","v":0},{"$f":"Questions!$C1338","v":0},{"$f":"Questions!$C1339","v":0},{"$f":"Questions!$C1340","v":0},"Scientificity (Conscin and Science)",0,{"$f":"IF(W120=\"na\",0,W120/((20-COUNTIF(B120:U120,\"na\"))*Configurations!$F$7))","v":0}]
[68,{"$f":"Questions!$C1341","v":0},{"$f":"Questions!$C1342","v":0},{"$f":"Questions!$C1343","v":0},{"$f":"Questions!$C1344","v":0},{"$f":"Questions!$C1345","v":0},{"$f":"Questions!$C1346","v":0},{"$f":"Questions!$C1347","v":0},{"$f":"Questions!$C1348","v":0},{"$f":"Questions!$C1349","v":0},{"$f":"Questions!$C1350","v":0},{"$f":"Questions!$C1351","v":0},{"$f":"Questions!$C1352","v":0},{"$f":"Questions!$C1353","v":0},{"$f":"Questions!$C1354","v":0},{"$f":"Questions!$C1355","v":0},{"$f":"Questions!$C1356","v":0},{"$f":"Questions!$C1357","v":0},{"$f":"Questions!$C1358","v":0},{"$f":"Questions!$C1359","v":0},{"$f":"Questions!$C1360","v":0},"Versatility (Intellectual Universalism)",0,{"$f":"IF(W121=\"na\",0,W121/((20-COUNTIF(B121:U121,\"na\"))*Configurations!$F$7))","v":0}]
[69,{"$f":"Questions!$C1361","v":0},{"$f":"Questions!$C1362","v":0},{"$f":"Questions!$C1363","v":0},{"$f":"Questions!$C1364","v":0},{"$f":"Questions!$C1365","v":0},{"$f":"Questions!$C1366","v":0},{"$f":"Questions!$C1367","v":0},{"$f":"Questions!$C1368","v":0},{"$f":"Questions!$C1369","v":0},{"$f":"Questions!$C1370","v":0},{"$f":"Questions!$C1371","v":0},{"$f":"Questions!$C1372","v":0},{"$f":"Questions!$C1373","v":0},{"$f":"Questions!$C1374","v":0},{"$f":"Questions!$C1375","v":0},{"$f":"Questions!$C1376","v":0},{"$f":"Questions!$C1377","v":0},{"$f":"Questions!$C1378","v":0},{"$f":"Questions!$C1379","v":0},{"$f":"Questions!$C1380","v":0},"Totality (Completeness in Life)",0,{"$f":"IF(W122=\"na\",0,W122/((20-COUNTIF(B122:U122,\"na\"))*Configurations!$F$7))","v":0}]
[70,{"$f":"Questions!$C1381","v":0},{"$f":"Questions!$C1382","v":0},{"$f":"Questions!$C1383","v":0},{"$f":"Questions!$C1384","v":0},{"$f":"Questions!$C1385","v":0},{"$f":"Questions!$C1386","v":0},{"$f":"Questions!$C1387","v":0},{"$f":"Questions!$C1388","v":0},{"$f":"Questions!$C1389","v":0},{"$f":"Questions!$C1390","v":0},{"$f":"Questions!$C1391","v":0},{"$f":"Questions!$C1392","v":0},{"$f":"Questions!$C1393","v":0},{"$f":"Questions!$C1394","v":0},{"$f":"Questions!$C1395","v":0},{"$f":"Questions!$C1396","v":0},{"$f":"Questions!$C1397","v":0},{"$f":"Questions!$C1398","v":0},{"$f":"Questions!$C1399","v":0},{"$f":"Questions!$C1400","v":0},"Cosmoethicity (Conscin and Cosmoethics)",{"$f":"IF(COUNTIF(B123:U123,\"na\")=20,\"na\",SUM(B123:U123))","v":0},{"$f":"IF(W123=\"na\",0,W123/((20-COUNTIF(B123:U123,\"na\"))*Configurations!$F$7))","v":0}]
[]
[null,1,2,3,4,5,6,7,8,9,10,11,12,13,14,15,16,17,18,19,20,"COHERENCE","ST","T",{"$f":"SUM(W126:W135)/(IF(COUNTIF(X126:X135,\">0\")>0,COUNTIF(X126:X135,\">0\"),1)*20*Configurations!$F$7)","v":0}]
[71,{"$f":"Questions!$C1401","v":0},{"$f":"Questions!$C1402","v":0},{"$f":"Questions!$C1403","v":0},{"$f":"Questions!$C1404","v":0},{"$f":"Questions!$C1405","v":0},{"$f":"Questions!$C1406","v":0},{"$f":"Questions!$C1407","v":0},{"$f":"Questions!$C1408","v":0},{"$f":"Questions!$C1409","v":0},{"$f":"Questions!$C1410","v":0},{"$f":"Questions!$C1411","v":0},{"$f":"Questions!$C1412","v":0},{"$f":"Questions!$C1413","v":0},{"$f":"Questions!$C1414","v":0},{"$f":"Questions!$C1415","v":0},{"$f":"Questions!$C1416","v":0},{"$f":"Questions!$C1417","v":0},{"$f":"Questions!$C1418","v":0},{"$f":"Questions!$C1419","v":0},{"$f":"Questions!$C1420","v":0},"Connectivity (Conscin and Coherence)",{"$f":"IF(COUNTIF(B126:U126,\"na\")=20,\"na\",SUM(B126:U126))","v":0},{"$f":"IF(W126=\"na\",0,W126/((20-COUNTIF(B126:U126,\"na\"))*Configurations!$F$7))","v":0}]
[72,{"$f":"Questions!$C1421","v":0},{"$f":"Questions!$C1422","v":0},{"$f":"Questions!$C1423","v":0},{"$f":"Questions!$C1424","v":0},{"$f":"Questions!$C1425","v":0},{"$f":"Questions!$C1426","v":0},{"$f":"Questions!$C1427","v":0},{"$f":"Questions!$C1428","v":0},{"$f":"Questions!$C1429","v":0},{"$f":"Questions!$C1430","v":0},{"$f":"Questions!$C1431","v":0},{"$f":"Questions!$C1432","v":0},{"$f":"Questions!$C1433","v":0},{"$f":"Questions!$C1434","v":0},{"$f":"Questions!$C1435","v":0},{"$f":"Questions!$C1436","v":0},{"$f":"Questions!$C1437","v":0},{"$f":"Questions!$C1438","v":0},{"$f":"Questions!$C1439","v":0},{"$f":"Questions!$C1440","v":0},"Derepressivity (Deconditioning)",0,{"$f":"IF(W127=\"na\",0,W127/((20-COUNTIF(B127:U127,\"na\"))*Configurations!$F$7))","v":0}]
[73,{"$f":"Questions!$C1441","v":0},{"$f":"Questions!$C1442","v":0},{"$f":"Questions!$C1443","v":0},{"$f":"Questions!$C1444","v":0},{"$f":"Questions!$C1445","v":0},{"$f":"Questions!$C1446","v":0},{"$f":"Questions!$C1447","v":0},{"$f":"Questions!$C1448","v":0},{"$f":"Questions!$C1449","v":0},{"$f":"Questions!$C1450","v":0},{"$f":"Questions!$C1451","v":0},{"$f":"Questions!$C1452","v":0},{"$f":"Questions!$C1453","v":0},{"$f":"Questions!$C1454","v":0},{"$f":"Questions!$C1455","v":0},{"$f":"Questions!$C1456","v":0},{"$f":"Questions!$C1457","v":0},{"$f":"Questions!$C1458","v":0},{"$f":"Questions!$C1459","v":0},{"$f":"Questions!$C1460","v":0},"Responsibility (Conscin and Ambiguities)",0,{"$f":"IF(W128=\"na\",0,W128/((20-COUNTIF(B128:U128,\"na\"))*Configurations!$F$7))","v":0}]
[74,{"$f":"Questions!$C1461","v":0},{"$f":"Questions!$C1462","v":0},{"$f":"Questions!$C1463","v":0},{"$f":"Questions!$C1464","v":0},{"$f":"Questions!$C1465","v":0},{"$f":"Questions!$C1466","v":0},{"$f":"Questions!$C1467","v":0},{"$f":"Questions!$C1468","v":0},{"$f":"Questions!$C1469","v":0},{"$f":"Questions!$C1470","v":0},{"$f":"Questions!$C1471","v":0},{"$f":"Questions!$C1472","v":0},{"$f":"Questions!$C1473","v":0},{"$f":"Questions!$C1474","v":0},{"$f":"Questions!$C1475","v":0},{"$f":"Questions!$C1476","v":0},{"$f":"Questions!$C1477","v":0},{"$f":"Questions!$C1478","v":0},{"$f":"Questions!$C1479","v":0},{"$f":"Questions!$C1480","v":0},"Logicity (Conscin and Hyperacuity)",0,{"$f":"IF(W129=\"na\",0,W129/((20-COUNTIF(B129:U129,\"na\"))*Configurations!$F$7))","v":0}]
[75,{"$f":"Questions!$C1481","v":0},{"$f":"Questions!$C1482","v":0},{"$f":"Questions!$C1483","v":0},{"$f":"Questions!$C1484","v":0},{"$f":"Questions!$C1485","v":0},{"$f":"Questions!$C1486","v":0},{"$f":"Questions!$C1487","v":0},{"$f":"Questions!$C1488","v":0},{"$f":"Questions!$C1489","v":0},{"$f":"Questions!$C1490","v":0},{"$f":"Questions!$C1491","v":0},{"$f":"Questions!$C1492","v":0},{"$f":"Questions!$C1493","v":0},{"$f":"Questions!$C1494","v":0},{"$f":"Questions!$C1495","v":0},{"$f":"Questions!$C1496","v":0},{"$f":"Questions!$C1497","v":0},{"$f":"Questions!$C1498","v":0},{"$f":"Questions!$C1499","v":0},{"$f":"Questions!$C1500","v":0},"Criticalness (Conscin and Criticism)",0,{"$f":"IF(W130=\"na\",0,W130/((20-COUNTIF(B130:U130,\"na\"))*Configurations!$F$7))","v":0}]
[76,{"$f":"Questions!$C1501","v":0},{"$f":"Questions!$C1502","v":0},{"$f":"Questions!$C1503","v":0},{"$f":"Questions!$C1504","v":0},{"$f":"Questions!$C1505","v":0},{"$f":"Questions!$C1506","v":0},{"$f":"Questions!$C1507","v":0},{"$f":"Questions!$C1508","v":0},{"$f":"Questions!$C1509","v":0},{"$f":"Questions!$C1510","v":0},{"$f":"Questions!$C1511","v":0},{"$f":"Questions!$C1512","v":0},{"$f":"Questions!$C1513","v":0},{"$f":"Questions!$C1514","v":0},{"$f":"Questions!$C1515","v":0},{"$f":"Questions!$C1516","v":0},{"$f":"Questions!$C1517","v":0},{"$f":"Questions!$C1518","v":0},{"$f":"Questions!$C1519","v":0},{"$f":"Questions!$C1520","v":0},"Objectivity (Theory and Experience)",0,{"$f":"IF(W131=\"na\",0,W131/((20-COUNTIF(B131:U131,\"na\"))*Configurations!$F$7))","v":0}]
[77,{"$f":"Questions!$C1521","v":0},{"$f":"Questions!$C1522","v":0},{"$f":"Questions!$C1523","v":0},{"$f":"Questions!$C1524","v":0},{"$f":"Questions!$C1525","v":0},{"$f":"Questions!$C1526","v":0},{"$f":"Questions!$C1527","v":0},{"$f":"Questions!$C1528","v":0},{"$f":"Questions!$C1529","v":0},{"$f":"Questions!$C1530","v":0},{"$f":"Questions!$C1531","v":0},{"$f":"Questions!$C1532","v":0},{"$f":"Questions!$C1533","v":0},{"$f":"Questions!$C1534","v":0},{"$f":"Questions!$C1535","v":0},{"$f":"Questions!$C1536","v":0},{"$f":"Questions!$C1537","v":0},{"$f":"Questions!$C1538","v":0},{"$f":"Questions!$C1539","v":0},{"$f":"Questions!$C1540","v":0},"Veracity (Words and Actions)",0,{"$f":"IF(W132=\"na\",0,W132/((20-COUNTIF(B132:U132,\"na\"))*Configurations!$F$7))","v":0}]
[78,{"$f":"Questions!$C1541","v":0},{"$f":"Questions!$C1542","v":0},{"$f":"Questions!$C1543","v":0},{"$f":"Questions!$C1544","v":0},{"$f":"Questions!$C1545","v":0},{"$f":"Questions!$C1546","v":0},{"$f":"Questions!$C1547","v":0},{"$f":"Questions!$C1548","v":0},{"$f":"Questions!$C1549","v":0},{"$f":"Questions!$C1550","v":0},{"$f":"Questions!$C1551","v":0},{"$f":"Questions!$C1552","v":0},{"$f":"Questions!$C1553","v":0},{"$f":"Questions!$C1554","v":0},{"$f":"Questions!$C1555","v":0},{"$f":"Questions!$C1556","v":0},{"$f":"Questions!$C1557","v":0},{"$f":"Questions!$C1558","v":0},{"$f":"Questions!$C1559","v":0},{"$f":"Questions!$C1560","v":0},"Competitiveness (Conscin and Competition)",0,{"$f":"IF(W133=\"na\",0,W133/((20-COUNTIF(B133:U133,\"na\"))*Configurations!$F$7))","v":0}]
[79,{"$f":"Questions!$C1561","v":0},{"$f":"Questions!$C1562","v":0},{"$f":"Questions!$C1563","v":0},{"$f":"Questions!$C1564","v":0},{"$f":"Questions!$C1565","v":0},{"$f":"Questions!$C1566","v":0},{"$f":"Questions!$C1567","v":0},{"$f":"Questions!$C1568","v":0},{"$f":"Questions!$C1569","v":0},{"$f":"Questions!$C1570","v":0},{"$f":"Questions!$C1571","v":0},{"$f":"Questions!$C1572","v":0},{"$f":"Questions!$C1573","v":0},{"$f":"Questions!$C1574","v":0},{"$f":"Questions!$C1575","v":0},{"$f":"Questions!$C1576","v":0},{"$f":"Questions!$C1577","v":0},{"$f":"Questions!$C1578","v":0},{"$f":"Questions!$C1579","v":0},{"$f":"Questions!$C1580","v":0},"Assistantiality (Sense of Generosity)",0,{"$f":"IF(W134=\"na\",0,W134/((20-COUNTIF(B134:U134,\"na\"))*Configurations!$F$7))","v":0}]
[80,{"$f":"Questions!$C1581","v":0},{"$f":"Questions!$C1582","v":0},{"$f":"Questions!$C1583","v":0},{"$f":"Questions!$C1584","v":0},{"$f":"Questions!$C1585","v":0},{"$f":"Questions!$C1586","v":0},{"$f":"Questions!$C1587","v":0},{"$f":"Questions!$C1588","v":0},{"$f":"Questions!$C1589","v":0},{"$f":"Questions!$C1590","v":0},{"$f":"Questions!$C1591","v":0},{"$f":"Questions!$C1592","v":0},{"$f":"Questions!$C1593","v":0},{"$f":"Questions!$C1594","v":0},{"$f":"Questions!$C1595","v":0},{"$f":"Questions!$C1596","v":0},{"$f":"Questions!$C1597","v":0},{"$f":"Questions!$C1598","v":0},{"$f":"Questions!$C1599","v":0},{"$f":"Questions!$C1600","v":0},"Equanimity (Justice Consciousness)",{"$f":"IF(COUNTIF(B135:U135,\"na\")=20,\"na\",SUM(B135:U135))","v":0},{"$f":"IF(W135=\"na\",0,W135/((20-COUNTIF(B135:U135,\"na\"))*Configurations!$F$7))","v":0}]
[]
[null,1,2,3,4,5,6,7,8,9,10,11,12,13,14,15,16,17,18,19,20,"CONSCIENTIALITY","ST","T",{"$f":"SUM(W138:W147)/(IF(COUNTIF(X138:X147,\">0\")>0,COUNTIF(X138:X147,\">0\"),1)*20*Configurations!$F$7)","v":0}]
[81,{"$f":"Questions!$C1601","v":0},{"$f":"Questions!$C1602","v":0},{"$f":"Questions!$C1603","v":0},{"$f":"Questions!$C1604","v":0},{"$f":"Questions!$C1605","v":0},{"$f":"Questions!$C1606","v":0},{"$f":"Questions!$C1607","v":0},{"$f":"Questions!$C1608","v":0},{"$f":"Questions!$C1609","v":0},{"$f":"Questions!$C1610","v":0},{"$f":"Questions!$C1611","v":0},{"$f":"Questions!$C1612","v":0},{"$f":"Questions!$C1613","v":0},{"$f":"Questions!$C1614","v":0},{"$f":"Questions!$C1615","v":0},{"$f":"Questions!$C1616","v":0},{"$f":"Questions!$C1617","v":0},{"$f":"Questions!$C1618","v":0},{"$f":"Questions!$C1619","v":0},{"$f":"Questions!$C1620","v":0},"Conscientiality (Consciousness and Immortality)",{"$f":"IF(COUNTIF(B138:U138,\"na\")=20,\"na\",SUM(B138:U138))","v":0},{"$f":"IF(W138=\"na\",0,W138/((20-COUNTIF(B138:U138,\"na\"))*Configurations!$F$7))","v":0}]
[82,{"$f":"Questions!$C1621","v":0},{"$f":"Questions!$C1622","v":0},{"$f":"Questions!$C1623","v":0},{"$f":"Questions!$C1624","v":0},{"$f":"Questions!$C1625","v":0},{"$f":"Questions!$C1626","v":0},{"$f":"Questions!$C1627","v":0},{"$f":"Questions!$C1628","v":0},{"$f":"Questions!$C1629","v":0},{"$f":"Questions!$C1630","v":0},{"$f":"Questions!$C1631","v":0},{"$f":"Questions!$C1632","v":0},{"$f":"Questions!$C1633","v":0},{"$f":"Questions!$C1634","v":0},{"$f":"Questions!$C1635","v":0},{"$f":"Questions!$C1636","v":0},{"$f":"Questions!$C1637","v":0},{"$f":"Questions!$C1638","v":0},{"$f":"Questions!$C1639","v":0},{"$f":"Questions!$C1640","v":0},"Identity (Conscins and Inheritances)",0,{"$f":"IF(W139=\"na\",0,W139/((20-COUNTIF(B139:U139,\"na\"))*Configurations!$F$7))","v":0}]
[83,{"$f":"Questions!$C1641","v":0},{"$f":"Questions!$C1642","v":0},{"$f":"Questions!$C1643","v":0},{"$f":"Questions!$C1644","v":0},{"$f":"Questions!$C1645","v":0},{"$f":"Questions!$C1646","v":0},{"$f":"Questions!$C1647","v":0},{"$f":"Questions!$C1648","v":0},{"$f":"Questions!$C1649","v":0},{"$f":"Questions!$C1650","v":0},{"$f":"Questions!$C1651","v":0},{"$f":"Questions!$C1652","v":0},{"$f":"Questions!$C1653","v":0},{"$f":"Questions!$C1654","v":0},{"$f":"Questions!$C1655","v":0},{"$f":"Questions!$C1656","v":0},{"$f":"Questions!$C1657","v":0},{"$f":"Questions!$C1658","v":0},{"$f":"Questions!$C1659","v":0},{"$f":"Questions!$C1660","v":0},"Antimateriality (Conscin and Materialism)",0,{"$f":"IF(W140=\"na\",0,W140/((20-COUNTIF(B140:U140,\"na\"))*Configurations!$F$7))","v":0}]
[84,{"$f":"Questions!$C1661","v":0},{"$f":"Questions!$C1662","v":0},{"$f":"Questions!$C1663","v":0},{"$f":"Questions!$C1664","v":0},{"$f":"Questions!$C1665","v":0},{"$f":"Questions!$C1666","v":0},{"$f":"Questions!$C1667","v":0},{"$f":"Questions!$C1668","v":0},{"$f":"Questions!$C1669","v":0},{"$f":"Questions!$C1670","v":0},{"$f":"Questions!$C1671","v":0},{"$f":"Questions!$C1672","v":0},{"$f":"Questions!$C1673","v":0},{"$f":"Questions!$C1674","v":0},{"$f":"Questions!$C1675","v":0},{"$f":"Questions!$C1676","v":0},{"$f":"Questions!$C1677","v":0},{"$f":"Questions!$C1678","v":0},{"$f":"Questions!$C1679","v":0},{"$f":"Questions!$C1680","v":0},"Seriality (Successive Lives)",0,{"$f":"IF(W141=\"na\",0,W141/((20-COUNTIF(B141:U141,\"na\"))*Configurations!$F$7))","v":0}]
[85,{"$f":"Questions!$C1681","v":0},{"$f":"Questions!$C1682","v":0},{"$f":"Questions!$C1683","v":0},{"$f":"Questions!$C1684","v":0},{"$f":"Questions!$C1685","v":0},{"$f":"Questions!$C1686","v":0},{"$f":"Questions!$C1687","v":0},{"$f":"Questions!$C1688","v":0},{"$f":"Questions!$C1689","v":0},{"$f":"Questions!$C1690","v":0},{"$f":"Questions!$C1691","v":0},{"$f":"Questions!$C1692","v":0},{"$f":"Questions!$C1693","v":0},{"$f":"Questions!$C1694","v":0},{"$f":"Questions!$C1695","v":0},{"$f":"Questions!$C1696","v":0},{"$f":"Questions!$C1697","v":0},{"$f":"Questions!$C1698","v":0},{"$f":"Questions!$C1699","v":0},{"$f":"Questions!$C1700","v":0},"Multidimensionality (Multidimensional Life)",0,{"$f":"IF(W142=\"na\",0,W142/((20-COUNTIF(B142:U142,\"na\"))*Configurations!$F$7))","v":0}]
[86,{"$f":"Questions!$C1701","v":0},{"$f":"Questions!$C1702","v":0},{"$f":"Questions!$C1703","v":0},{"$f":"Questions!$C1704","v":0},{"$f":"Questions!$C1705","v":0},{"$f":"Questions!$C1706","v":0},{"$f":"Questions!$C1707","v":0},{"$f":"Questions!$C1708","v":0},{"$f":"Questions!$C1709","v":0},{"$f":"Questions!$C1710","v":0},{"$f":"Questions!$C1711","v":0},{"$f":"Questions!$C1712","v":0},{"$f":"Questions!$C1713","v":0},{"$f":"Questions!$C1714","v":0},{"$f":"Questions!$C1715","v":0},{"$f":"Questions!$C1716","v":0},{"$f":"Questions!$C1717","v":0},{"$f":"Questions!$C1718","v":0},{"$f":"Questions!$C1719","v":0},{"$f":"Questions!$C1720","v":0},"Immediacy (Material Powers)",0,{"$f":"IF(W143=\"na\",0,W143/((20-COUNTIF(B143:U143,\"na\"))*Configurations!$F$7))","v":0}]
[87,{"$f":"Questions!$C1721","v":0},{"$f":"Questions!$C1722","v":0},{"$f":"Questions!$C1723","v":0},{"$f":"Questions!$C1724","v":0},{"$f":"Questions!$C1725","v":0},{"$f":"Questions!$C1726","v":0},{"$f":"Questions!$C1727","v":0},{"$f":"Questions!$C1728","v":0},{"$f":"Questions!$C1729","v":0},{"$f":"Questions!$C1730","v":0},{"$f":"Questions!$C1731","v":0},{"$f":"Questions!$C1732","v":0},{"$f":"Questions!$C1733","v":0},{"$f":"Questions!$C1734","v":0},{"$f":"Questions!$C1735","v":0},{"$f":"Questions!$C1736","v":0},{"$f":"Questions!$C1737","v":0},{"$f":"Questions!$C1738","v":0},{"$f":"Questions!$C1739","v":0},{"$f":"Questions!$C1740","v":0},"Groupkarmality (Conscin and Clan)",0,{"$f":"IF(W144=\"na\",0,W144/((20-COUNTIF(B144:U144,\"na\"))*Configurations!$F$7))","v":0}]
[88,{"$f":"Questions!$C1741","v":0},{"$f":"Questions!$C1742","v":0},{"$f":"Questions!$C1743","v":0},{"$f":"Questions!$C1744","v":0},{"$f":"Questions!$C1745","v":0},{"$f":"Questions!$C1746","v":0},{"$f":"Questions!$C1747","v":0},{"$f":"Questions!$C1748","v":0},{"$f":"Questions!$C1749","v":0},{"$f":"Questions!$C1750","v":0},{"$f":"Questions!$C1751","v":0},{"$f":"Questions!$C1752","v":0},{"$f":"Questions!$C1753","v":0},{"$f":"Questions!$C1754","v":0},{"$f":"Questions!$C1755","v":0},{"$f":"Questions!$C1756","v":0},{"$f":"Questions!$C1757","v":0},{"$f":"Questions!$C1758","v":0},{"$f":"Questions!$C1759","v":0},{"$f":"Questions!$C1760","v":0},"Pacificity (Conscin and Antibellicism)",0,{"$f":"IF(W145=\"na\",0,W145/((20-COUNTIF(B145:U145,\"na\"))*Configurations!$F$7))","v":0}]
[89,{"$f":"Questions!$C1761","v":0},{"$f":"Questions!$C1762","v":0},{"$f":"Questions!$C1763","v":0},{"$f":"Questions!$C1764","v":0},{"$f":"Questions!$C1765","v":0},{"$f":"Questions!$C1766","v":0},{"$f":"Questions!$C1767","v":0},{"$f":"Questions!$C1768","v":0},{"$f":"Questions!$C1769","v":0},{"$f":"Questions!$C1770","v":0},{"$f":"Questions!$C1771","v":0},{"$f":"Questions!$C1772","v":0},{"$f":"Questions!$C1773","v":0},{"$f":"Questions!$C1774","v":0},{"$f":"Questions!$C1775","v":0},{"$f":"Questions!$C1776","v":0},{"$f":"Questions!$C1777","v":0},{"$f":"Questions!$C1778","v":0},{"$f":"Questions!$C1779","v":0},{"$f":"Questions!$C1780","v":0},"Interconscientiality (Consciential Families)",0,{"$f":"IF(W146=\"na\",0,W146/((20-COUNTIF(B146:U146,\"na\"))*Configurations!$F$7))","v":0}]
[90,{"$f":"Questions!$C1781","v":0},{"$f":"Questions!$C1782","v":0},{"$f":"Questions!$C1783","v":0},{"$f":"Questions!$C1784","v":0},{"$f":"Questions!$C1785","v":0},{"$f":"Questions!$C1786","v":0},{"$f":"Questions!$C1787","v":0},{"$f":"Questions!$C1788","v":0},{"$f":"Questions!$C1789","v":0},{"$f":"Questions!$C1790","v":0},{"$f":"Questions!$C1791","v":0},{"$f":"Questions!$C1792","v":0},{"$f":"Questions!$C1793","v":0},{"$f":"Questions!$C1794","v":0},{"$f":"Questions!$C1795","v":0},{"$f":"Questions!$C1796","v":0},{"$f":"Questions!$C1797","v":0},{"$f":"Questions!$C1798","v":0},{"$f":"Questions!$C1799","v":0},{"$f":"Questions!$C1800","v":0},"Polykarmality (Universalized Karma)",{"$f":"IF(COUNTIF(B147:U147,\"na\")=20,\"na\",SUM(B147:U147))","v":0},{"$f":"IF(W147=\"na\",0,W147/((20-COUNTIF(B147:U147,\"na\"))*Configurations!$F$7))","v":0}]
[]
[null,1,2,3,4,5,6,7,8,9,10,11,12,13,14,15,16,17,18,19,20,"UNIVERSALITY","ST","T",{"$f":"SUM(W150:W159)/(IF(COUNTIF(X150:X159,\">0\")>0,COUNTIF(X150:X159,\">0\"),1)*20*Configurations!$F$7)","v":0}]
[91,{"$f":"Questions!$C1801","v":0},{"$f":"Questions!$C1802","v":0},{"$f":"Questions!$C1803","v":0},{"$f":"Questions!$C1804","v":0},{"$f":"Questions!$C1805","v":0},{"$f":"Questions!$C1806","v":0},{"$f":"Questions!$C1807","v":0},{"$f":"Questions!$C1808","v":0},{"$f":"Questions!$C1809","v":0},{"$f":"Questions!$C1810","v":0},{"$f":"Questions!$C1811","v":0},{"$f":"Questions!$C1812","v":0},{"$f":"Questions!$C1813","v":0},{"$f":"Questions!$C1814","v":0},{"$f":"Questions!$C1815","v":0},{"$f":"Questions!$C1816","v":0},{"$f":"Questions!$C1817","v":0},{"$f":"Questions!$C1818","v":0},{"$f":"Questions!$C1819","v":0},{"$f":"Questions!$C1820","v":0},"Maxifraternity (Deliberate Altruism)",{"$f":"IF(COUNTIF(B150:U150,\"na\")=20,\"na\",SUM(B150:U150))","v":0},{"$f":"IF(W150=\"na\",0,W150/((20-COUNTIF(B150:U150,\"na\"))*Configurations!$F$7))","v":0}]
[92,{"$f":"Questions!$C1821","v":0},{"$f":"Questions!$C1822","v":0},{"$f":"Questions!$C1823","v":0},{"$f":"Questions!$C1824","v":0},{"$f":"Questions!$C1825","v":0},{"$f":"Questions!$C1826","v":0},{"$f":"Questions!$C1827","v":0},{"$f":"Questions!$C1828","v":0},{"$f":"Questions!$C1829","v":0},{"$f":"Questions!$C1830","v":0},{"$f":"Questions!$C1831","v":0},{"$f":"Questions!$C1832","v":0},{"$f":"Questions!$C1833","v":0},{"$f":"Questions!$C1834","v":0},{"$f":"Questions!$C1835","v":0},{"$f":"Questions!$C1836","v":0},{"$f":"Questions!$C1837","v":0},{"$f":"Questions!$C1838","v":0},{"$f":"Questions!$C1839","v":0},{"$f":"Questions!$C1840","v":0},"Statelessness (Consciousness and Citizenship)",0,{"$f":"IF(W151=\"na\",0,W151/((20-COUNTIF(B151:U151,\"na\"))*Configurations!$F$7))","v":0}]
[93,{"$f":"Questions!$C1841","v":0},{"$f":"Questions!$C1842","v":0},{"$f":"Questions!$C1843","v":0},{"$f":"Questions!$C1844","v":0},{"$f":"Questions!$C1845","v":0},{"$f":"Questions!$C1846","v":0},{"$f":"Questions!$C1847","v":0},{"$f":"Questions!$C1848","v":0},{"$f":"Questions!$C1849","v":0},{"$f":"Questions!$C1850","v":0},{"$f":"Questions!$C1851","v":0},{"$f":"Questions!$C1852","v":0},{"$f":"Questions!$C1853","v":0},{"$f":"Questions!$C1854","v":0},{"$f":"Questions!$C1855","v":0},{"$f":"Questions!$C1856","v":0},{"$f":"Questions!$C1857","v":0},{"$f":"Questions!$C1858","v":0},{"$f":"Questions!$C1859","v":0},{"$f":"Questions!$C1860","v":0},"Maxiuniversality (Conscin and Antisectarianism)",0,{"$f":"IF(W152=\"na\",0,W152/((20-COUNTIF(B152:U152,\"na\"))*Configurations!$F$7))","v":0}]
[94,{"$f":"Questions!$C1861","v":0},{"$f":"Questions!$C1862","v":0},{"$f":"Questions!$C1863","v":0},{"$f":"Questions!$C1864","v":0},{"$f":"Questions!$C1865","v":0},{"$f":"Questions!$C1866","v":0},{"$f":"Questions!$C1867","v":0},{"$f":"Questions!$C1868","v":0},{"$f":"Questions!$C1869","v":0},{"$f":"Questions!$C1870","v":0},{"$f":"Questions!$C1871","v":0},{"$f":"Questions!$C1872","v":0},{"$f":"Questions!$C1873","v":0},{"$f":"Questions!$C1874","v":0},{"$f":"Questions!$C1875","v":0},{"$f":"Questions!$C1876","v":0},{"$f":"Questions!$C1877","v":0},{"$f":"Questions!$C1878","v":0},{"$f":"Questions!$C1879","v":0},{"$f":"Questions!$C1880","v":0},"Authenticity (Conscin and Demagogies)",0,{"$f":"IF(W153=\"na\",0,W153/((20-COUNTIF(B153:U153,\"na\"))*Configurations!$F$7))","v":0}]
[95,{"$f":"Questions!$C1881","v":0},{"$f":"Questions!$C1882","v":0},{"$f":"Questions!$C1883","v":0},{"$f":"Questions!$C1884","v":0},{"$f":"Questions!$C1885","v":0},{"$f":"Questions!$C1886","v":0},{"$f":"Questions!$C1887","v":0},{"$f":"Questions!$C1888","v":0},{"$f":"Questions!$C1889","v":0},{"$f":"Questions!$C1890","v":0},{"$f":"Questions!$C1891","v":0},{"$f":"Questions!$C1892","v":0},{"$f":"Questions!$C1893","v":0},{"$f":"Questions!$C1894","v":0},{"$f":"Questions!$C1895","v":0},{"$f":"Questions!$C1896","v":0},{"$f":"Questions!$C1897","v":0},{"$f":"Questions!$C1898","v":0},{"$f":"Questions!$C1899","v":0},{"$f":"Questions!$C1900","v":0},"Omnicooperativity (Vanguard Collaboration)",0,{"$f":"IF(W154=\"na\",0,W154/((20-COUNTIF(B154:U154,\"na\"))*Configurations!$F$7))","v":0}]
[96,{"$f":"Questions!$C1901","v":0},{"$f":"Questions!$C1902","v":0},{"$f":"Questions!$C1903","v":0},{"$f":"Questions!$C1904","v":0},{"$f":"Questions!$C1905","v":0},{"$f":"Questions!$C1906","v":0},{"$f":"Questions!$C1907","v":0},{"$f":"Questions!$C1908","v":0},{"$f":"Questions!$C1909","v":0},{"$f":"Questions!$C1910","v":0},{"$f":"Questions!$C1911","v":0},{"$f":"Questions!$C1912","v":0},{"$f":"Questions!$C1913","v":0},{"$f":"Questions!$C1914","v":0},{"$f":"Questions!$C1915","v":0},{"$f":"Questions!$C1916","v":0},{"$f":"Questions!$C1917","v":0},{"$f":"Questions!$C1918","v":0},{"$f":"Questions!$C1919","v":0},{"$f":"Questions!$C1920","v":0},"Phytocoexistentiality (Conscin and Flora)",0,{"$f":"IF(W155=\"na\",0,W155/((20-COUNTIF(B155:U155,\"na\"))*Configurations!$F$7))","v":0}]
[97,{"$f":"Questions!$C1921","v":0},{"$f":"Questions!$C1922","v":0},{"$f":"Questions!$C1923","v":0},{"$f":"Questions!$C1924","v":0},{"$f":"Questions!$C1925","v":0},{"$f":"Questions!$C1926","v":0},{"$f":"Questions!$C1927","v":0},{"$f":"Questions!$C1928","v":0},{"$f":"Questions!$C1929","v":0},{"$f":"Questions!$C1930","v":0},{"$f":"Questions!$C1931","v":0},{"$f":"Questions!$C1932","v":0},{"$f":"Questions!$C1933","v":0},{"$f":"Questions!$C1934","v":0},{"$f":"Questions!$C1935","v":0},{"$f":"Questions!$C1936","v":0},{"$f":"Questions!$C1937","v":0},{"$f":"Questions!$C1938","v":0},{"$f":"Questions!$C1939","v":0},{"$f":"Questions!$C1940","v":0},"Zoocoexistentiality (Conscin and Fauna)",0,{"$f":"IF(W156=\"na\",0,W156/((20-COUNTIF(B156:U156,\"na\"))*Configurations!$F$7))","v":0}]
[98,{"$f":"Questions!$C1941","v":0},{"$f":"Questions!$C1942","v":0},{"$f":"Questions!$C1943","v":0},{"$f":"Questions!$C1944","v":0},{"$f":"Questions!$C1945","v":0},{"$f":"Questions!$C1946","v":0},{"$f":"Questions!$C1947","v":0},{"$f":"Questions!$C1948","v":0},{"$f":"Questions!$C1949","v":0},{"$f":"Questions!$C1950","v":0},{"$f":"Questions!$C1951","v":0},{"$f":"Questions!$C1952","v":0},{"$f":"Questions!$C1953","v":0},{"$f":"Questions!$C1954","v":0},{"$f":"Questions!$C1955","v":0},{"$f":"Questions!$C1956","v":0},{"$f":"Questions!$C1957","v":0},{"$f":"Questions!$C1958","v":0},{"$f":"Questions!$C1959","v":0},{"$f":"Questions!$C1960","v":0},"Inseparability (Conscin and Interdependences)",0,{"$f":"IF(W157=\"na\",0,W157/((20-COUNTIF(B157:U157,\"na\"))*Configurations!$F$7))","v":0}]
[99,{"$f":"Questions!$C1961","v":0},{"$f":"Questions!$C1962","v":0},{"$f":"Questions!$C1963","v":0},{"$f":"Questions!$C1964","v":0},{"$f":"Questions!$C1965","v":0},{"$f":"Questions!$C1966","v":0},{"$f":"Questions!$C1967","v":0},{"$f":"Questions!$C1968","v":0},{"$f":"Questions!$C1969","v":0},{"$f":"Questions!$C1970","v":0},{"$f":"Questions!$C1971","v":0},{"$f":"Questions!$C1972","v":0},{"$f":"Questions!$C1973","v":0},{"$f":"Questions!$C1974","v":0},{"$f":"Questions!$C1975","v":0},{"$f":"Questions!$C1976","v":0},{"$f":"Questions!$C1977","v":0},{"$f":"Questions!$C1978","v":0},{"$f":"Questions!$C1979","v":0},{"$f":"Questions!$C1980","v":0},"Holosomaticity (Conscin and Instruments)",0,{"$f":"IF(W158=\"na\",0,W158/((20-COUNTIF(B158:U158,\"na\"))*Configurations!$F$7))","v":0}]
[100,{"$f":"Questions!$C1981","v":0},{"$f":"Questions!$C1982","v":0},{"$f":"Questions!$C1983","v":0},{"$f":"Questions!$C1984","v":0},{"$f":"Questions!$C1985","v":0},{"$f":"Questions!$C1986","v":0},{"$f":"Questions!$C1987","v":0},{"$f":"Questions!$C1988","v":0},{"$f":"Questions!$C1989","v":0},{"$f":"Questions!$C1990","v":0},{"$f":"Questions!$C1991","v":0},{"$f":"Questions!$C1992","v":0},{"$f":"Questions!$C1993","v":0},{"$f":"Questions!$C1994","v":0},{"$f":"Questions!$C1995","v":0},{"$f":"Questions!$C1996","v":0},{"$f":"Questions!$C1997","v":0},{"$f":"Questions!$C1998","v":0},{"$f":"Questions!$C1999","v":0},{"$f":"Questions!$C2000","v":0},"Holokarmality (Integral Karma)",{"$f":"IF(COUNTIF(B159:U159,\"na\")=20,\"na\",SUM(B159:U159))","v":0},{"$f":"IF(W159=\"na\",0,W159/((20-COUNTIF(B159:U159,\"na\"))*Configurations!$F$7))","v":0}]

{"sheet":"Graphs","index":4,"n_rows":119,"n_cols":14,"rows_kept":119,"cut":false,"hidden":false,"merged":[]}
[null,null,null,null,null,null,null,null,null,null,{"$f":"Analysis!V41","v":"INTRASOMATICITY"},"Grade","Minimium","Maximum"]
[null,null,null,null,null,null,null,null,null,1,{"$f":"Analysis!V42","v":"Intrasomaticity (Conscin and Soma)"},{"$f":"Analysis!X42","v":0},{"$f":"SMALL(L2:L11,1)","v":0},{"$f":"MAX(L2:L11)","v":0}]
[null,null,null,null,null,null,null,null,null,2,{"$f":"Analysis!V43","v":"Inheritance (Paragenetics and Genetics)"},{"$f":"Analysis!X43","v":0},{"$f":"M2","v":0},{"$f":"N2","v":0}]
[null,null,null,null,null,null,null,null,null,3,{"$f":"Analysis!V44","v":"Minority (Child-Conscin)"},{"$f":"Analysis!X44","v":0},{"$f":"M3","v":0},{"$f":"N3","v":0}]
[null,null,null,null,null,null,null,null,null,4,{"$f":"Analysis!V45","v":"Sexuality (Conscin, Soma and Sex)"},{"$f":"Analysis!X45","v":0},0,0]
[null,null,null,null,null,null,null,null,null,5,{"$f":"Analysis!V46","v":"Youth (Juvenile-Conscin)"},{"$f":"Analysis!X46","v":0},0,0]
[null,null,null,null,null,null,null,null,null,6,{"$f":"Analysis!V47","v":"Psychomotricity (Neurons and Muscle Mass)"},{"$f":"Analysis!X47","v":0},0,0]
[null,null,null,null,null,null,null,null,null,7,{"$f":"Analysis!V48","v":"Scholarship (Personal Curriculum)"},{"$f":"Analysis!X48","v":0},0,0]
[null,null,null,null,null,null,null,null,null,8,{"$f":"Analysis!V49","v":"Kinship (Conscin and Family)"},{"$f":"Analysis!X49","v":0},0,0]
[null,null,null,null,null,null,null,null,null,9,{"$f":"Analysis!V50","v":"Convivality (Cosmoethical links)"},{"$f":"Analysis!X50","v":0},0,0]
[null,null,null,null,null,null,null,null,null,10,{"$f":"Analysis!V51","v":"Longevity (Old age)"},{"$f":"Analysis!X51","v":0},0,0]
[null,null,null,null,null,null,null,null,null,null,{"$f":"Analysis!V52","v":0},{"$f":"Analysis!X52","v":0}]
[null,null,null,null,null,null,null,null,null,null,{"$f":"Analysis!V53","v":"BIOENERGETICS"},"Grade","Minimium","Maximum"]
[null,null,null,null,null,null,null,null,null,1,{"$f":"Analysis!V54","v":"Sensitivity (Consciential Energies)"},{"$f":"Analysis!X54","v":0},{"$f":"SMALL(L14:L23,1)","v":0},{"$f":"MAX(L14:L23)","v":0}]
[null,null,null,null,null,null,null,null,null,2,{"$f":"Analysis!V55","v":"Sexochakrality (Conscin and Sexochakra)"},{"$f":"Analysis!X55","v":0},{"$f":"M14","v":0},{"$f":"N14","v":0}]
[null,null,null,null,null,null,null,null,null,3,{"$f":"Analysis!V56","v":"Vitality (Abdominal Sub-brain)"},{"$f":"Analysis!X56","v":0},{"$f":"M15","v":0},{"$f":"N15","v":0}]
[null,null,null,null,null,null,null,null,null,4,{"$f":"Analysis!V57","v":"Applicability (Utilization of Bioenergies)"},{"$f":"Analysis!X57","v":0},0,0]
[null,null,null,null,null,null,null,null,null,5,{"$f":"Analysis!V58","v":"Frontochakrality (Conscin and the Third Eye)"},{"$f":"Analysis!X58","v":0},0,0]
[null,null,null,null,null,null,null,null,null,6,{"$f":"Analysis!V59","v":"Sanity (Homeostasis of the Conscin)"},{"$f":"Analysis!X59","v":0},0,0]
[null,null,null,null,null,null,null,null,null,7,{"$f":"Analysis!V60","v":"Self-Defensivity (Maturity of Prophylaxes)"},{"$f":"Analysis!X60","v":0},0,0]
[null,null,null,null,null,null,null,null,null,8,{"$f":"Analysis!V61","v":"Aquisitivity (Self-attachment and Self-detachment)"},{"$f":"Analysis!X61","v":0},0,0]
[null,null,null,null,null,null,null,null,null,9,{"$f":"Analysis!V62","v":"Detoxicity (Energetic Self-compensations)"},{"$f":"Analysis!X62","v":0},0,0]
[null,null,null,null,null,null,null,null,null,10,{"$f":"Analysis!V63","v":"Energosomaticity (Conscin and Energy Body)"},{"$f":"Analysis!X63","v":0},0,0]
[null,null,null,null,null,null,null,null,null,null,{"$f":"Analysis!V64","v":0},{"$f":"Analysis!X64","v":0}]
[null,null,null,null,null,null,null,null,null,null,{"$f":"Analysis!V65","v":"ANTI-EMOTIONALITY"},"Grade","Minimium","Maximum"]
[null,null,null,null,null,null,null,null,null,1,{"$f":"Analysis!V66","v":"Anteriority (Presomatic Consciousness)"},{"$f":"Analysis!X66","v":0},{"$f":"SMALL(L26:L35,1)","v":0},{"$f":"MAX(L26:L35)","v":0}]
[null,null,null,null,null,null,null,null,null,2,{"$f":"Analysis!V67","v":"Potentiality (Courage of the Consciousness)"},{"$f":"Analysis!X67","v":0},{"$f":"M26","v":0},{"$f":"N26","v":0}]
[null,null,null,null,null,null,null,null,null,3,{"$f":"Analysis!V68","v":"Serenity (Consciousness and Serenism)"},{"$f":"Analysis!X68","v":0},{"$f":"M27","v":0},{"$f":"N27","v":0}]
[null,null,null,null,null,null,null,null,null,4,{"$f":"Analysis!V69","v":"Cardiochakrality (Dominant Emotionality)"},{"$f":"Analysis!X69","v":0},0,0]
[null,null,null,null,null,null,null,null,null,5,{"$f":"Analysis!V70","v":"Utility (Conscin and Free Time)"},{"$f":"Analysis!X70","v":0},0,0]
[null,null,null,null,null,null,null,null,null,6,{"$f":"Analysis!V71","v":"Depth (Self-education and Superstitions)"},{"$f":"Analysis!X71","v":0},0,0]
[null,null,null,null,null,null,null,null,null,7,{"$f":"Analysis!V72","v":"Influentiability (Satellite-Conscin)"},{"$f":"Analysis!X72","v":0},0,0]
[null,null,null,null,null,null,null,null,null,8,{"$f":"Analysis!V73","v":"Paraperceptibility (Animism-Parapsiquism)"},{"$f":"Analysis!X73","v":0},0,0]
[null,null,null,null,null,null,null,null,null,9,{"$f":"Analysis!V74","v":"Transcendentality (Conscin and Mysticism)"},{"$f":"Analysis!X74","v":0},0,0]
[null,null,null,null,null,null,null,null,null,10,{"$f":"Analysis!V75","v":"Egokarmality (Conscin and Egotísm)"},{"$f":"Analysis!X75","v":0},0,0]
[null,null,null,null,null,null,null,null,null,null,{"$f":"Analysis!V76","v":0}]
[null,null,null,null,null,null,null,null,null,null,{"$f":"Analysis!V77","v":"RATIONALITY"},"Grade","Minimium","Maximum"]
[null,null,null,null,null,null,null,null,null,1,{"$f":"Analysis!V78","v":"Invulgarity (Consciousness and Talents)"},{"$f":"Analysis!X78","v":0},{"$f":"SMALL(L38:L47,1)","v":0},{"$f":"MAX(L38:L47)","v":0}]
[null,null,null,null,null,null,null,null,null,2,{"$f":"Analysis!V79","v":"Rationality (Conscin and Mentalsoma)"},{"$f":"Analysis!X79","v":0},{"$f":"M38","v":0},{"$f":"N38","v":0}]
[null,null,null,null,null,null,null,null,null,3,{"$f":"Analysis!V80","v":"Intellectuality (Conscin and Intelligence)"},{"$f":"Analysis!X80","v":0},{"$f":"M39","v":0},{"$f":"N39","v":0}]
[null,null,null,null,null,null,null,null,null,4,{"$f":"Analysis!V81","v":"Personality (Personal Temperament)"},{"$f":"Analysis!X81","v":0},0,0]
[null,null,null,null,null,null,null,null,null,5,{"$f":"Analysis!V82","v":"Animicity (Conscin and Animism)"},{"$f":"Analysis!X82","v":0},0,0]
[null,null,null,null,null,null,null,null,null,6,{"$f":"Analysis!V83","v":"Megachakrality (Consciential Door)"},{"$f":"Analysis!X83","v":0},0,0]
[null,null,null,null,null,null,null,null,null,7,{"$f":"Analysis!V84","v":"Imperturbability (Conscin and Self-control)"},{"$f":"Analysis!X84","v":0},0,0]
[null,null,null,null,null,null,null,null,null,8,{"$f":"Analysis!V85","v":"Sentimentality (Controlled Emotionality)"},{"$f":"Analysis!X85","v":0},0,0]
[null,null,null,null,null,null,null,null,null,9,{"$f":"Analysis!V86","v":"Maxiconsensuality (Vanguard Knowledge)"},{"$f":"Analysis!X86","v":0},0,0]
[null,null,null,null,null,null,null,null,null,10,{"$f":"Analysis!V87","v":"Cosmoconscientiality (Conscin and Samadhi)"},{"$f":"Analysis!X87","v":0},0,0]
[null,null,null,null,null,null,null,null,null,null,{"$f":"Analysis!V88","v":0}]
[null,null,null,null,null,null,null,null,null,null,{"$f":"Analysis!V89","v":"LEADERSHIP"},"Grade","Minimium","Maximum"]
[null,null,null,null,null,null,null,null,null,1,{"$f":"Analysis!V90","v":"Authority (Power of Conduction)"},{"$f":"Analysis!X90","v":0},{"$f":"SMALL(L50:L59,1)","v":0},{"$f":"MAX(L50:L59)","v":0}]
[null,null,null,null,null,null,null,null,null,2,{"$f":"Analysis!V91","v":"Mentality (Self-evolutionary Politicology)"},{"$f":"Analysis!X91","v":0},{"$f":"M50","v":0},{"$f":"N50","v":0}]
[null,null,null,null,null,null,null,null,null,3,{"$f":"Analysis!V92","v":"Repercussionability (Multidimensional Leadership)"},{"$f":"Analysis!X92","v":0},{"$f":"M51","v":0},{"$f":"N51","v":0}]
[null,null,null,null,null,null,null,null,null,4,{"$f":"Analysis!V93","v":"Retractibility (Public Self-judgments)"},{"$f":"Analysis!X93","v":0},0,0]
[null,null,null,null,null,null,null,null,null,5,{"$f":"Analysis!V94","v":"Anti-offensiveness (Utilization of Forgiveness)"},{"$f":"Analysis!X94","v":0},0,0]
[null,null,null,null,null,null,null,null,null,6,{"$f":"Analysis!V95","v":"Antidispersiveness (Maturity of Performances)"},{"$f":"Analysis!X95","v":0},0,0]
[null,null,null,null,null,null,null,null,null,7,{"$f":"Analysis!V96","v":"Productivity (Consciential Megagestations)"},{"$f":"Analysis!X96","v":0},0,0]
[null,null,null,null,null,null,null,null,null,8,{"$f":"Analysis!V97","v":"Continuity (Mobilization of Consciousnesses)"},{"$f":"Analysis!X97","v":0},0,0]
[null,null,null,null,null,null,null,null,null,9,{"$f":"Analysis!V98","v":"Contemporaneity (Conscin and its Epoch)"},{"$f":"Analysis!X98","v":0},0,0]
[null,null,null,null,null,null,null,null,null,10,{"$f":"Analysis!V99","v":"Humanity (Conscin and Mesology)"},{"$f":"Analysis!X99","v":0},0,0]
[null,null,null,null,null,null,null,null,null,null,{"$f":"Analysis!V100","v":0}]
[null,null,null,null,null,null,null,null,null,null,{"$f":"Analysis!V101","v":"COMMUNICABILITY"},"Grade","Minimium","Maximum"]
[null,null,null,null,null,null,null,null,null,1,{"$f":"Analysis!V102","v":"Sociability (Contacts of the Consciousness)"},{"$f":"Analysis!X102","v":0},{"$f":"SMALL(L62:L71,1)","v":0},{"$f":"MAX(L62:L71)","v":0}]
[null,null,null,null,null,null,null,null,null,2,{"$f":"Analysis!V103","v":"Maxicommunicability (Conscin and Language)"},{"$f":"Analysis!X103","v":0},{"$f":"M62","v":0},{"$f":"N62","v":0}]
[null,null,null,null,null,null,null,null,null,3,{"$f":"Analysis!V104","v":"Reality (Conscin and Symbols)"},{"$f":"Analysis!X104","v":0},{"$f":"M63","v":0},{"$f":"N63","v":0}]
[null,null,null,null,null,null,null,null,null,4,{"$f":"Analysis!V105","v":"Syntacity (Exposition of Ideas)"},{"$f":"Analysis!X105","v":0},0,0]
[null,null,null,null,null,null,null,null,null,5,{"$f":"Analysis!V106","v":"Fertility (Consciousness and Ideas)"},{"$f":"Analysis!X106","v":0},0,0]
[null,null,null,null,null,null,null,null,null,6,{"$f":"Analysis!V107","v":"Reverifiability (Conscin and Omniquestioning)"},{"$f":"Analysis!X107","v":0},0,0]
[null,null,null,null,null,null,null,null,null,7,{"$f":"Analysis!V108","v":"Aestheticity (Conscin and Art)"},{"$f":"Analysis!X108","v":0},0,0]
[null,null,null,null,null,null,null,null,null,8,{"$f":"Analysis!V109","v":"Parapsychism (Multidimensional Interchange)"},{"$f":"Analysis!X109","v":0},0,0]
[null,null,null,null,null,null,null,null,null,9,{"$f":"Analysis!V110","v":"Exotericity (Conscin and Openness)"},{"$f":"Analysis!X110","v":0},0,0]
[null,null,null,null,null,null,null,null,null,10,{"$f":"Analysis!V111","v":"Opinionicity (Opinion for the Public)"},{"$f":"Analysis!X111","v":0},0,0]
[null,null,null,null,null,null,null,null,null,null,{"$f":"Analysis!V112","v":0}]
[null,null,null,null,null,null,null,null,null,null,{"$f":"Analysis!V113","v":"PRIORITIZATION"},"Grade","Minimium","Maximum"]
[null,null,null,null,null,null,null,null,null,1,{"$f":"Analysis!V114","v":"Freedom (Conscin and Freewill)"},{"$f":"Analysis!X114","v":0},{"$f":"SMALL(L74:L83,1)","v":0},{"$f":"MAX(L74:L83)","v":0}]
[null,null,null,null,null,null,null,null,null,2,{"$f":"Analysis!V115","v":"Maxipriority (Maturity of Freewill)"},{"$f":"Analysis!X115","v":0},{"$f":"M74","v":0},{"$f":"N74","v":0}]
[null,null,null,null,null,null,null,null,null,3,{"$f":"Analysis!V116","v":"Operosity (Personal Works)"},{"$f":"Analysis!X116","v":0},{"$f":"M75","v":0},{"$f":"N75","v":0}]
[null,null,null,null,null,null,null,null,null,4,{"$f":"Analysis!V117","v":"Economicity (Conscin and Dollar Signs)"},{"$f":"Analysis!X117","v":0},0,0]
[null,null,null,null,null,null,null,null,null,5,{"$f":"Analysis!V118","v":"Professionality (Livelihood)"},{"$f":"Analysis!X118","v":0},0,0]
[null,null,null,null,null,null,null,null,null,6,{"$f":"Analysis!V119","v":"Activity (Maturity of Tasks)"},{"$f":"Analysis!X119","v":0},0,0]
[null,null,null,null,null,null,null,null,null,7,{"$f":"Analysis!V120","v":"Scientificity (Conscin and Science)"},{"$f":"Analysis!X120","v":0},0,0]
[null,null,null,null,null,null,null,null,null,8,{"$f":"Analysis!V121","v":"Versatility (Intellectual Universalism)"},{"$f":"Analysis!X121","v":0},0,0]
[null,null,null,null,null,null,null,null,null,9,{"$f":"Analysis!V122","v":"Totality (Completeness in Life)"},{"$f":"Analysis!X122","v":0},0,0]
[null,null,null,null,null,null,null,null,null,10,{"$f":"Analysis!V123","v":"Cosmoethicity (Conscin and Cosmoethics)"},{"$f":"Analysis!X123","v":0},0,0]
[null,null,null,null,null,null,null,null,null,null,{"$f":"Analysis!V124","v":0}]
[null,null,null,null,null,null,null,null,null,null,{"$f":"Analysis!V125","v":"COHERENCE"},"Grade","Minimium","Maximum"]
[null,null,null,null,null,null,null,null,null,1,{"$f":"Analysis!V126","v":"Connectivity (Conscin and Coherence)"},{"$f":"Analysis!X126","v":0},{"$f":"SMALL(L86:L95,1)","v":0},{"$f":"MAX(L86:L95)","v":0}]
[null,null,null,null,null,null,null,null,null,2,{"$f":"Analysis!V127","v":"Derepressivity (Deconditioning)"},{"$f":"Analysis!X127","v":0},{"$f":"M86","v":0},{"$f":"N86","v":0}]
[null,null,null,null,null,null,null,null,null,3,{"$f":"Analysis!V128","v":"Responsibility (Conscin and Ambiguities)"},{"$f":"Analysis!X128","v":0},{"$f":"M87","v":0},{"$f":"N87","v":0}]
[null,null,null,null,null,null,null,null,null,4,{"$f":"Analysis!V129","v":"Logicity (Conscin and Hyperacuity)"},{"$f":"Analysis!X129","v":0},0,0]
[null,null,null,null,null,null,null,null,null,5,{"$f":"Analysis!V130","v":"Criticalness (Conscin and Criticism)"},{"$f":"Analysis!X130","v":0},0,0]
[null,null,null,null,null,null,null,null,null,6,{"$f":"Analysis!V131","v":"Objectivity (Theory and Experience)"},{"$f":"Analysis!X131","v":0},0,0]
[null,null,null,null,null,null,null,null,null,7,{"$f":"Analysis!V132","v":"Veracity (Words and Actions)"},{"$f":"Analysis!X132","v":0},0,0]
[null,null,null,null,null,null,null,null,null,8,{"$f":"Analysis!V133","v":"Competitiveness (Conscin and Competition)"},{"$f":"Analysis!X133","v":0},0,0]
[null,null,null,null,null,null,null,null,null,9,{"$f":"Analysis!V134","v":"Assistantiality (Sense of Generosity)"},{"$f":"Analysis!X134","v":0},0,0]
[null,null,null,null,null,null,null,null,null,10,{"$f":"Analysis!V135","v":"Equanimity (Justice Consciousness)"},{"$f":"Analysis!X135","v":0},0,0]
[null,null,null,null,null,null,null,null,null,null,{"$f":"Analysis!V136","v":0}]
[null,null,null,null,null,null,null,null,null,null,{"$f":"Analysis!V137","v":"CONSCIENTIALITY"},"Grade","Minimium","Maximum"]
[null,null,null,null,null,null,null,null,null,1,{"$f":"Analysis!V138","v":"Conscientiality (Consciousness and Immortality)"},{"$f":"Analysis!X138","v":0},{"$f":"SMALL(L98:L107,1)","v":0},{"$f":"MAX(L98:L107)","v":0}]
[null,null,null,null,null,null,null,null,null,2,{"$f":"Analysis!V139","v":"Identity (Conscins and Inheritances)"},{"$f":"Analysis!X139","v":0},{"$f":"M98","v":0},{"$f":"N98","v":0}]
[null,null,null,null,null,null,null,null,null,3,{"$f":"Analysis!V140","v":"Antimateriality (Conscin and Materialism)"},{"$f":"Analysis!X140","v":0},{"$f":"M99","v":0},{"$f":"N99","v":0}]
[null,null,null,null,null,null,null,null,null,4,{"$f":"Analysis!V141","v":"Seriality (Successive Lives)"},{"$f":"Analysis!X141","v":0},0,0]
[null,null,null,null,null,null,null,null,null,5,{"$f":"Analysis!V142","v":"Multidimensionality (Multidimensional Life)"},{"$f":"Analysis!X142","v":0},0,0]
[null,null,null,null,null,null,null,null,null,6,{"$f":"Analysis!V143","v":"Immediacy (Material Powers)"},{"$f":"Analysis!X143","v":0},0,0]
[null,null,null,null,null,null,null,null,null,7,{"$f":"Analysis!V144","v":"Groupkarmality (Conscin and Clan)"},{"$f":"Analysis!X144","v":0},0,0]
[null,null,null,null,null,null,null,null,null,8,{"$f":"Analysis!V145","v":"Pacificity (Conscin and Antibellicism)"},{"$f":"Analysis!X145","v":0},0,0]
[null,null,null,null,null,null,null,null,null,9,{"$f":"Analysis!V146","v":"Interconscientiality (Consciential Families)"},{"$f":"Analysis!X146","v":0},0,0]
[null,null,null,null,null,null,null,null,null,10,{"$f":"Analysis!V147","v":"Polykarmality (Universalized Karma)"},{"$f":"Analysis!X147","v":0},0,0]
[null,null,null,null,null,null,null,null,null,null,{"$f":"Analysis!V148","v":0}]
[null,null,null,null,null,null,null,null,null,null,{"$f":"Analysis!V149","v":"UNIVERSALITY"},"Grade","Minimium","Maximum"]
[null,null,null,null,null,null,null,null,null,1,{"$f":"Analysis!V150","v":"Maxifraternity (Deliberate Altruism)"},{"$f":"Analysis!X150","v":0},{"$f":"SMALL(L110:L119,1)","v":0},{"$f":"MAX(L110:L119)","v":0}]
[null,null,null,null,null,null,null,null,null,2,{"$f":"Analysis!V151","v":"Statelessness (Consciousness and Citizenship)"},{"$f":"Analysis!X151","v":0},{"$f":"M110","v":0},{"$f":"N110","v":0}]
[null,null,null,null,null,null,null,null,null,3,{"$f":"Analysis!V152","v":"Maxiuniversality (Conscin and Antisectarianism)"},{"$f":"Analysis!X152","v":0},{"$f":"M111","v":0},{"$f":"N111","v":0}]
[null,null,null,null,null,null,null,null,null,4,{"$f":"Analysis!V153","v":"Authenticity (Conscin and Demagogies)"},{"$f":"Analysis!X153","v":0},0,0]
[null,null,null,null,null,null,null,null,null,5,{"$f":"Analysis!V154","v":"Omnicooperativity (Vanguard Collaboration)"},{"$f":"Analysis!X154","v":0},0,0]
[null,null,null,null,null,null,null,null,null,6,{"$f":"Analysis!V155","v":"Phytocoexistentiality (Conscin and Flora)"},{"$f":"Analysis!X155","v":0},0,0]
[null,null,null,null,null,null,null,null,null,7,{"$f":"Analysis!V156","v":"Zoocoexistentiality (Conscin and Fauna)"},{"$f":"Analysis!X156","v":0},0,0]
[null,null,null,null,null,null,null,null,null,8,{"$f":"Analysis!V157","v":"Inseparability (Conscin and Interdependences)"},{"$f":"Analysis!X157","v":0},0,0]
[null,null,null,null,null,null,null,null,null,9,{"$f":"Analysis!V158","v":"Holosomaticity (Conscin and Instruments)"},{"$f":"Analysis!X158","v":0},0,0]
[null,null,null,null,null,null,null,null,null,10,{"$f":"Analysis!V159","v":"Holokarmality (Integral Karma)"},{"$f":"Analysis!X159","v":0},0,0]

{"sheet":"Configurations","index":5,"n_rows":17,"n_cols":7,"rows_kept":17,"cut":false,"hidden":false,"merged":[]}
[]
[]
[]
[]
[null,"General"]
[]
[null,null,"Maximum value for each question",null,null,1]
[]
[]
[null,"Configuration of the 360 degree graph:"]
[]
[null,null,"Graph colour"]
[]
[null,null,"Colour of the centre of the graph"]
[]
[null,null,null,null,null,null,"Note: Ideally you will only press the \"Generate Graph\" button once (at the end of the evaluation). "]
[null,null,null,null,null,null,"If you press it more than once you can get multiple gridlines in your graph."]